Workbook

Sheet DATA
A1: TITLE | B1: PUBLICATION YEAR | C1: TRANSLATOR | D1: TEXT NUMBER | E1: TEXT TYPE | F1: TRANSLATOR TYPE | G1: GENDER | H1: CODE | I1: SOURCE LANGUAGE | J1: NOTES
A2: アンドレアス・タアマイエルが遺書 | B2: 1908 | C2: Mori Ogai | D2: 1 | E2: Direct Translation | F2: =IFERROR(VLOOKUP(C2, TRANSLATORS!A:C, 2, FALSE), "") -> Famous | G2: =IFERROR(VLOOKUP(C2, TRANSLATORS!A:C, 3, FALSE), "") -> 男 | H2: =IFERROR(CONCATENATE(VLOOKUP(E2,CATEGORIES!A:B,2,FALSE),(VLOOKUP(F2,CATEGORIES!E:F,2,FALSE)), VLOOKUP(G2, CATEGORIES!I:J, 2, FALSE), D2), "") -> DFM1 | I2: German
A3: うづしほ | B3: 1910 | C3: Mori Ogai | D3: =IF(C3<>"", D2+1, "") -> 2 | E3: Direct Translation | F3: =IFERROR(VLOOKUP(C3, TRANSLATORS!A:C, 2, FALSE), "") -> Famous | G3: =IFERROR(VLOOKUP(C3, TRANSLATORS!A:C, 3, FALSE), "") -> 男 | H3: =IFERROR(CONCATENATE(VLOOKUP(E3,CATEGORIES!A:B,2,FALSE),(VLOOKUP(F3,CATEGORIES!E:F,2,FALSE)), VLOOKUP(G3, CATEGORIES!I:J, 2, FALSE), D3), "") -> DFM2 | I3: English
A4: クサンチス | B4: 1911 | C4: Mori Ogai | D4: =IF(C4<>"", D3+1, "") -> 3 | E4: Direct Translation | F4: =IFERROR(VLOOKUP(C4, TRANSLATORS!A:C, 2, FALSE), "") -> Famous | G4: =IFERROR(VLOOKUP(C4, TRANSLATORS!A:C, 3, FALSE), "") -> 男 | H4: =IFERROR(CONCATENATE(VLOOKUP(E4,CATEGORIES!A:B,2,FALSE),(VLOOKUP(F4,CATEGORIES!E:F,2,FALSE)), VLOOKUP(G4, CATEGORIES!I:J, 2, FALSE), D4), "") -> DFM3 | I4: French
A5: みれん | B5: 1912 | C5: Mori Ogai | D5: =IF(C5<>"", D4+1, "") -> 4 | E5: Direct Translation | F5: =IFERROR(VLOOKUP(C5, TRANSLATORS!A:C, 2, FALSE), "") -> Famous | G5: =IFERROR(VLOOKUP(C5, TRANSLATORS!A:C, 3, FALSE), "") -> 男 | H5: =IFERROR(CONCATENATE(VLOOKUP(E5,CATEGORIES!A:B,2,FALSE),(VLOOKUP(F5,CATEGORIES!E:F,2,FALSE)), VLOOKUP(G5, CATEGORIES!I:J, 2, FALSE), D5), "") -> DFM4 | I5: German
A6: 一人舞台 | C6: Mori Ogai | D6: =IF(C6<>"", D5+1, "") -> 5 | E6: Direct Translation | F6: =IFERROR(VLOOKUP(C6, TRANSLATORS!A:C, 2, FALSE), "") -> Famous | G6: =IFERROR(VLOOKUP(C6, TRANSLATORS!A:C, 3, FALSE), "") -> 男 | H6: =IFERROR(CONCATENATE(VLOOKUP(E6,CATEGORIES!A:B,2,FALSE),(VLOOKUP(F6,CATEGORIES!E:F,2,FALSE)), VLOOKUP(G6, CATEGORIES!I:J, 2, FALSE), D6), "") -> DFM5 | I6: Swedish
A7: 不可説 | B7: 1912 | C7: Mori Ogai | D7: =IF(C7<>"", D6+1, "") -> 6 | E7: Direct Translation | F7: =IFERROR(VLOOKUP(C7, TRANSLATORS!A:C, 2, FALSE), "") -> Famous | G7: =IFERROR(VLOOKUP(C7, TRANSLATORS!A:C, 3, FALSE), "") -> 男 | H7: =IFERROR(CONCATENATE(VLOOKUP(E7,CATEGORIES!A:B,2,FALSE),(VLOOKUP(F7,CATEGORIES!E:F,2,FALSE)), VLOOKUP(G7, CATEGORIES!I:J, 2, FALSE), D7), "") -> DFM6 | I7: French
A8: 世界漫遊 | C8: Mori Ogai | D8: =IF(C8<>"", D7+1, "") -> 7 | E8: Direct Translation | F8: =IFERROR(VLOOKUP(C8, TRANSLATORS!A:C, 2, FALSE), "") -> Famous | G8: =IFERROR(VLOOKUP(C8, TRANSLATORS!A:C, 3, FALSE), "") -> 男 | H8: =IFERROR(CONCATENATE(VLOOKUP(E8,CATEGORIES!A:B,2,FALSE),(VLOOKUP(F8,CATEGORIES!E:F,2,FALSE)), VLOOKUP(G8, CATEGORIES!I:J, 2, FALSE), D8), "") -> DFM7 | I8: German
A9: 冬の王 | B9: 1912 | C9: Mori Ogai | D9: =IF(C9<>"", D8+1, "") -> 8 | E9: Direct Translation | F9: =IFERROR(VLOOKUP(C9, TRANSLATORS!A:C, 2, FALSE), "") -> Famous | G9: =IFERROR(VLOOKUP(C9, TRANSLATORS!A:C, 3, FALSE), "") -> 男 | H9: =IFERROR(CONCATENATE(VLOOKUP(E9,CATEGORIES!A:B,2,FALSE),(VLOOKUP(F9,CATEGORIES!E:F,2,FALSE)), VLOOKUP(G9, CATEGORIES!I:J, 2, FALSE), D9), "") -> DFM8 | I9: German
A10: 即興詩人 | B10: 1892 | C10: Mori Ogai | D10: =IF(C10<>"", D9+1, "") -> 9 | E10: Indirect Translation | F10: =IFERROR(VLOOKUP(C10, TRANSLATORS!A:C, 2, FALSE), "") -> Famous | G10: =IFERROR(VLOOKUP(C10, TRANSLATORS!A:C, 3, FALSE), "") -> 男 | H10: =IFERROR(CONCATENATE(VLOOKUP(E10,CATEGORIES!A:B,2,FALSE),(VLOOKUP(F10,CATEGORIES!E:F,2,FALSE)), VLOOKUP(G10, CATEGORIES!I:J, 2, FALSE), D10), "") -> IFM9 | I10: Danish
A11: 女の決闘 | C11: Mori Ogai | D11: =IF(C11<>"", D10+1, "") -> 10 | E11: Direct Translation | F11: =IFERROR(VLOOKUP(C11, TRANSLATORS!A:C, 2, FALSE), "") -> Famous | G11: =IFERROR(VLOOKUP(C11, TRANSLATORS!A:C, 3, FALSE), "") -> 男 | H11: =IFERROR(CONCATENATE(VLOOKUP(E11,CATEGORIES!A:B,2,FALSE),(VLOOKUP(F11,CATEGORIES!E:F,2,FALSE)), VLOOKUP(G11, CATEGORIES!I:J, 2, FALSE), D11), "") -> DFM10 | I11: German
A12: 新浦島 | B12: 1889 | C12: Mori Ogai | D12: =IF(C12<>"", D11+1, "") -> 11 | E12: Direct Translation | F12: =IFERROR(VLOOKUP(C12, TRANSLATORS!A:C, 2, FALSE), "") -> Famous | G12: =IFERROR(VLOOKUP(C12, TRANSLATORS!A:C, 3, FALSE), "") -> 男 | H12: =IFERROR(CONCATENATE(VLOOKUP(E12,CATEGORIES!A:B,2,FALSE),(VLOOKUP(F12,CATEGORIES!E:F,2,FALSE)), VLOOKUP(G12, CATEGORIES!I:J, 2, FALSE), D12), "") -> DFM11 | I12: English
A13: 最終の午後 | C13: Mori Ogai | D13: =IF(C13<>"", D12+1, "") -> 12 | E13: Direct Translation | F13: =IFERROR(VLOOKUP(C13, TRANSLATORS!A:C, 2, FALSE), "") -> Famous | G13: =IFERROR(VLOOKUP(C13, TRANSLATORS!A:C, 3, FALSE), "") -> 男 | H13: =IFERROR(CONCATENATE(VLOOKUP(E13,CATEGORIES!A:B,2,FALSE),(VLOOKUP(F13,CATEGORIES!E:F,2,FALSE)), VLOOKUP(G13, CATEGORIES!I:J, 2, FALSE), D13), "") -> DFM12 | I13: German
A14: 板ばさみ | B14: 1911 | C14: Mori Ogai | D14: =IF(C14<>"", D13+1, "") -> 13 | E14: Indirect Translation | F14: =IFERROR(VLOOKUP(C14, TRANSLATORS!A:C, 2, FALSE), "") -> Famous | G14: =IFERROR(VLOOKUP(C14, TRANSLATORS!A:C, 3, FALSE), "") -> 男 | H14: =IFERROR(CONCATENATE(VLOOKUP(E14,CATEGORIES!A:B,2,FALSE),(VLOOKUP(F14,CATEGORIES!E:F,2,FALSE)), VLOOKUP(G14, CATEGORIES!I:J, 2, FALSE), D14), "") -> IFM13 | I14: Russian
A15: 樺太脱獄記 | B15: 1912 | C15: Mori Ogai | D15: =IF(C15<>"", D14+1, "") -> 14 | E15: Indirect Translation | F15: =IFERROR(VLOOKUP(C15, TRANSLATORS!A:C, 2, FALSE), "") -> Famous | G15: =IFERROR(VLOOKUP(C15, TRANSLATORS!A:C, 3, FALSE), "") -> 男 | H15: =IFERROR(CONCATENATE(VLOOKUP(E15,CATEGORIES!A:B,2,FALSE),(VLOOKUP(F15,CATEGORIES!E:F,2,FALSE)), VLOOKUP(G15, CATEGORIES!I:J, 2, FALSE), D15), "") -> IFM14 | I15: Russian
A16: 橋の下 | C16: Mori Ogai | D16: =IF(C16<>"", D15+1, "") -> 15 | E16: Direct Translation | F16: =IFERROR(VLOOKUP(C16, TRANSLATORS!A:C, 2, FALSE), "") -> Famous | G16: =IFERROR(VLOOKUP(C16, TRANSLATORS!A:C, 3, FALSE), "") -> 男 | H16: =IFERROR(CONCATENATE(VLOOKUP(E16,CATEGORIES!A:B,2,FALSE),(VLOOKUP(F16,CATEGORIES!E:F,2,FALSE)), VLOOKUP(G16, CATEGORIES!I:J, 2, FALSE), D16), "") -> DFM15 | I16: French
A17: 死 | B17: 1910 | C17: Mori Ogai | D17: =IF(C17<>"", D16+1, "") -> 16 | E17: Indirect Translation | F17: =IFERROR(VLOOKUP(C17, TRANSLATORS!A:C, 2, FALSE), "") -> Famous | G17: =IFERROR(VLOOKUP(C17, TRANSLATORS!A:C, 3, FALSE), "") -> 男 | H17: =IFERROR(CONCATENATE(VLOOKUP(E17,CATEGORIES!A:B,2,FALSE),(VLOOKUP(F17,CATEGORIES!E:F,2,FALSE)), VLOOKUP(G17, CATEGORIES!I:J, 2, FALSE), D17), "") -> IFM16 | I17: Russian
A18: 犬 | C18: Mori Ogai | D18: =IF(C18<>"", D17+1, "") -> 17 | E18: Indirect Translation | F18: =IFERROR(VLOOKUP(C18, TRANSLATORS!A:C, 2, FALSE), "") -> Famous | G18: =IFERROR(VLOOKUP(C18, TRANSLATORS!A:C, 3, FALSE), "") -> 男 | H18: =IFERROR(CONCATENATE(VLOOKUP(E18,CATEGORIES!A:B,2,FALSE),(VLOOKUP(F18,CATEGORIES!E:F,2,FALSE)), VLOOKUP(G18, CATEGORIES!I:J, 2, FALSE), D18), "") -> IFM17 | I18: Russian
A19: 田舎 | C19: Mori Ogai | D19: =IF(C19<>"", D18+1, "") -> 18 | E19: Direct Translation | F19: =IFERROR(VLOOKUP(C19, TRANSLATORS!A:C, 2, FALSE), "") -> Famous | G19: =IFERROR(VLOOKUP(C19, TRANSLATORS!A:C, 3, FALSE), "") -> 男 | H19: =IFERROR(CONCATENATE(VLOOKUP(E19,CATEGORIES!A:B,2,FALSE),(VLOOKUP(F19,CATEGORIES!E:F,2,FALSE)), VLOOKUP(G19, CATEGORIES!I:J, 2, FALSE), D19), "") -> DFM18 | I19: French
A20: 痴人と死と | C20: Mori Ogai | D20: =IF(C20<>"", D19+1, "") -> 19 | E20: Direct Translation | F20: =IFERROR(VLOOKUP(C20, TRANSLATORS!A:C, 2, FALSE), "") -> Famous | G20: =IFERROR(VLOOKUP(C20, TRANSLATORS!A:C, 3, FALSE), "") -> 男 | H20: =IFERROR(CONCATENATE(VLOOKUP(E20,CATEGORIES!A:B,2,FALSE),(VLOOKUP(F20,CATEGORIES!E:F,2,FALSE)), VLOOKUP(G20, CATEGORIES!I:J, 2, FALSE), D20), "") -> DFM19 | I20: German
A21: 破落戸の昇天 | C21: Mori Ogai | D21: =IF(C21<>"", D20+1, "") -> 20 | E21: Direct Translation | F21: =IFERROR(VLOOKUP(C21, TRANSLATORS!A:C, 2, FALSE), "") -> Famous | G21: =IFERROR(VLOOKUP(C21, TRANSLATORS!A:C, 3, FALSE), "") -> 男 | H21: =IFERROR(CONCATENATE(VLOOKUP(E21,CATEGORIES!A:B,2,FALSE),(VLOOKUP(F21,CATEGORIES!E:F,2,FALSE)), VLOOKUP(G21, CATEGORIES!I:J, 2, FALSE), D21), "") -> DFM20 | I21: German
A22: 祭日 | B22: 1912 | C22: Mori Ogai | D22: =IF(C22<>"", D21+1, "") -> 21 | E22: Direct Translation | F22: =IFERROR(VLOOKUP(C22, TRANSLATORS!A:C, 2, FALSE), "") -> Famous | G22: =IFERROR(VLOOKUP(C22, TRANSLATORS!A:C, 3, FALSE), "") -> 男 | H22: =IFERROR(CONCATENATE(VLOOKUP(E22,CATEGORIES!A:B,2,FALSE),(VLOOKUP(F22,CATEGORIES!E:F,2,FALSE)), VLOOKUP(G22, CATEGORIES!I:J, 2, FALSE), D22), "") -> DFM21 | I22: German
A23: 笑 | B23: 1910 | C23: Mori Ogai | D23: =IF(C23<>"", D22+1, "") -> 22 | E23: Indirect Translation | F23: =IFERROR(VLOOKUP(C23, TRANSLATORS!A:C, 2, FALSE), "") -> Famous | G23: =IFERROR(VLOOKUP(C23, TRANSLATORS!A:C, 3, FALSE), "") -> 男 | H23: =IFERROR(CONCATENATE(VLOOKUP(E23,CATEGORIES!A:B,2,FALSE),(VLOOKUP(F23,CATEGORIES!E:F,2,FALSE)), VLOOKUP(G23, CATEGORIES!I:J, 2, FALSE), D23), "") -> IFM22 | I23: Russian
A24: 罪人 | B24: 1910 | C24: Mori Ogai | D24: =IF(C24<>"", D23+1, "") -> 23 | E24: Indirect Translation | F24: =IFERROR(VLOOKUP(C24, TRANSLATORS!A:C, 2, FALSE), "") -> Famous | G24: =IFERROR(VLOOKUP(C24, TRANSLATORS!A:C, 3, FALSE), "") -> 男 | H24: =IFERROR(CONCATENATE(VLOOKUP(E24,CATEGORIES!A:B,2,FALSE),(VLOOKUP(F24,CATEGORIES!E:F,2,FALSE)), VLOOKUP(G24, CATEGORIES!I:J, 2, FALSE), D24), "") -> IFM23 | I24: Russian
A25: 薔薇 | B25: 1911 | C25: Mori Ogai | D25: =IF(C25<>"", D24+1, "") -> 24 | E25: Indirect Translation | F25: =IFERROR(VLOOKUP(C25, TRANSLATORS!A:C, 2, FALSE), "") -> Famous | G25: =IFERROR(VLOOKUP(C25, TRANSLATORS!A:C, 3, FALSE), "") -> 男 | H25: =IFERROR(CONCATENATE(VLOOKUP(E25,CATEGORIES!A:B,2,FALSE),(VLOOKUP(F25,CATEGORIES!E:F,2,FALSE)), VLOOKUP(G25, CATEGORIES!I:J, 2, FALSE), D25), "") -> IFM24 | I25: Danish
A26: 辻馬車 | C26: Mori Ogai | D26: =IF(C26<>"", D25+1, "") -> 25 | E26: Direct Translation | F26: =IFERROR(VLOOKUP(C26, TRANSLATORS!A:C, 2, FALSE), "") -> Famous | G26: =IFERROR(VLOOKUP(C26, TRANSLATORS!A:C, 3, FALSE), "") -> 男 | H26: =IFERROR(CONCATENATE(VLOOKUP(E26,CATEGORIES!A:B,2,FALSE),(VLOOKUP(F26,CATEGORIES!E:F,2,FALSE)), VLOOKUP(G26, CATEGORIES!I:J, 2, FALSE), D26), "") -> DFM25 | I26: German
A27: 釣 | B27: 1910 | C27: Mori Ogai | D27: =IF(C27<>"", D26+1, "") -> 26 | E27: Direct Translation | F27: =IFERROR(VLOOKUP(C27, TRANSLATORS!A:C, 2, FALSE), "") -> Famous | G27: =IFERROR(VLOOKUP(C27, TRANSLATORS!A:C, 3, FALSE), "") -> 男 | H27: =IFERROR(CONCATENATE(VLOOKUP(E27,CATEGORIES!A:B,2,FALSE),(VLOOKUP(F27,CATEGORIES!E:F,2,FALSE)), VLOOKUP(G27, CATEGORIES!I:J, 2, FALSE), D27), "") -> DFM26 | I27: German
A28: 鰐 | B28: 1912 | C28: Mori Ogai | D28: =IF(C28<>"", D27+1, "") -> 27 | E28: Indirect Translation | F28: =IFERROR(VLOOKUP(C28, TRANSLATORS!A:C, 2, FALSE), "") -> Famous | G28: =IFERROR(VLOOKUP(C28, TRANSLATORS!A:C, 3, FALSE), "") -> 男 | H28: =IFERROR(CONCATENATE(VLOOKUP(E28,CATEGORIES!A:B,2,FALSE),(VLOOKUP(F28,CATEGORIES!E:F,2,FALSE)), VLOOKUP(G28, CATEGORIES!I:J, 2, FALSE), D28), "") -> IFM27 | I28: Russian
A29: 鴉 | B29: 1910 | C29: Mori Ogai | D29: =IF(C29<>"", D28+1, "") -> 28 | E29: Direct Translation | F29: =IFERROR(VLOOKUP(C29, TRANSLATORS!A:C, 2, FALSE), "") -> Famous | G29: =IFERROR(VLOOKUP(C29, TRANSLATORS!A:C, 3, FALSE), "") -> 男 | H29: =IFERROR(CONCATENATE(VLOOKUP(E29,CATEGORIES!A:B,2,FALSE),(VLOOKUP(F29,CATEGORIES!E:F,2,FALSE)), VLOOKUP(G29, CATEGORIES!I:J, 2, FALSE), D29), "") -> DFM28 | I29: German
A30: 襟 | C30: Mori Ogai | D30: =IF(C30<>"", D29+1, "") -> 29 | E30: Indirect Translation | F30: =IFERROR(VLOOKUP(C30, TRANSLATORS!A:C, 2, FALSE), "") -> Famous | G30: =IFERROR(VLOOKUP(C30, TRANSLATORS!A:C, 3, FALSE), "") -> 男 | H30: =IFERROR(CONCATENATE(VLOOKUP(E30,CATEGORIES!A:B,2,FALSE),(VLOOKUP(F30,CATEGORIES!E:F,2,FALSE)), VLOOKUP(G30, CATEGORIES!I:J, 2, FALSE), D30), "") -> IFM29 | I30: Russian
A31: 家常茶飯 | C31: Mori Ogai | D31: =IF(C31<>"", D30+1, "") -> 30 | E31: Direct Translation | F31: =IFERROR(VLOOKUP(C31, TRANSLATORS!A:C, 2, FALSE), "") -> Famous | G31: =IFERROR(VLOOKUP(C31, TRANSLATORS!A:C, 3, FALSE), "") -> 男 | H31: =IFERROR(CONCATENATE(VLOOKUP(E31,CATEGORIES!A:B,2,FALSE),(VLOOKUP(F31,CATEGORIES!E:F,2,FALSE)), VLOOKUP(G31, CATEGORIES!I:J, 2, FALSE), D31), "") -> DFM30 | I31: German
A32: 白 | C32: Mori Ogai | D32: =IF(C32<>"", D31+1, "") -> 31 | E32: Direct Translation | F32: =IFERROR(VLOOKUP(C32, TRANSLATORS!A:C, 2, FALSE), "") -> Famous | G32: =IFERROR(VLOOKUP(C32, TRANSLATORS!A:C, 3, FALSE), "") -> 男 | H32: =IFERROR(CONCATENATE(VLOOKUP(E32,CATEGORIES!A:B,2,FALSE),(VLOOKUP(F32,CATEGORIES!E:F,2,FALSE)), VLOOKUP(G32, CATEGORIES!I:J, 2, FALSE), D32), "") -> DFM31 | I32: German
A33: 駆落 | B33: 1912 | C33: Mori Ogai | D33: =IF(C33<>"", D32+1, "") -> 32 | E33: Direct Translation | F33: =IFERROR(VLOOKUP(C33, TRANSLATORS!A:C, 2, FALSE), "") -> Famous | G33: =IFERROR(VLOOKUP(C33, TRANSLATORS!A:C, 3, FALSE), "") -> 男 | H33: =IFERROR(CONCATENATE(VLOOKUP(E33,CATEGORIES!A:B,2,FALSE),(VLOOKUP(F33,CATEGORIES!E:F,2,FALSE)), VLOOKUP(G33, CATEGORIES!I:J, 2, FALSE), D33), "") -> DFM32 | I33: German
A34: 糸くず | B34: 1898 | C34: Kunikida Doppo | D34: =IF(C34<>"", D33+1, "") -> 33 | E34: Indirect Translation | F34: =IFERROR(VLOOKUP(C34, TRANSLATORS!A:C, 2, FALSE), "") -> Famous | G34: =IFERROR(VLOOKUP(C34, TRANSLATORS!A:C, 3, FALSE), "") -> 男 | H34: =IFERROR(CONCATENATE(VLOOKUP(E34,CATEGORIES!A:B,2,FALSE),(VLOOKUP(F34,CATEGORIES!E:F,2,FALSE)), VLOOKUP(G34, CATEGORIES!I:J, 2, FALSE), D34), "") -> IFM33 | J34: Ignore this. The same text can be found in 130.
A35: ロミオとヂュリエット | B35: 1910 | C35: Tsubouchi Shōyō | D35: =IF(C35<>"", D34+1, "") -> 34 | E35: Direct Translation | F35: =IFERROR(VLOOKUP(C35, TRANSLATORS!A:C, 2, FALSE), "") -> Famous | G35: =IFERROR(VLOOKUP(C35, TRANSLATORS!A:C, 3, FALSE), "") -> 男 | H35: =IFERROR(CONCATENATE(VLOOKUP(E35,CATEGORIES!A:B,2,FALSE),(VLOOKUP(F35,CATEGORIES!E:F,2,FALSE)), VLOOKUP(G35, CATEGORIES!I:J, 2, FALSE), D35), "") -> DFM34 | I35: English | J35: seems to be missing
A36: パスカルの言葉 | C36: Shimazaki Tōson | D36: =IF(C36<>"", D35+1, "") -> 35 | E36: Direct Translation | F36: =IFERROR(VLOOKUP(C36, TRANSLATORS!A:C, 2, FALSE), "") -> Famous | G36: =IFERROR(VLOOKUP(C36, TRANSLATORS!A:C, 3, FALSE), "") -> 男 | H36: =IFERROR(CONCATENATE(VLOOKUP(E36,CATEGORIES!A:B,2,FALSE),(VLOOKUP(F36,CATEGORIES!E:F,2,FALSE)), VLOOKUP(G36, CATEGORIES!I:J, 2, FALSE), D36), "") -> DFM35 | I36: French | J36: seems to be missing
A37: Resignation の説 | B37: 1909 | C37: Mori Ogai | D37: =IF(C37<>"", D36+1, "") -> 36 | E37: Non-translation | F37: =IFERROR(VLOOKUP(C37, TRANSLATORS!A:C, 2, FALSE), "") -> Famous | G37: =IFERROR(VLOOKUP(C37, TRANSLATORS!A:C, 3, FALSE), "") -> 男 | H37: =IFERROR(CONCATENATE(VLOOKUP(E37,CATEGORIES!A:B,2,FALSE),(VLOOKUP(F37,CATEGORIES!E:F,2,FALSE)), VLOOKUP(G37, CATEGORIES!I:J, 2, FALSE), D37), "") -> NFM36
A38: あそび | B38: 1910 | C38: Mori Ogai | D38: =IF(C38<>"", D37+1, "") -> 37 | E38: Non-translation | F38: =IFERROR(VLOOKUP(C38, TRANSLATORS!A:C, 2, FALSE), "") -> Famous | G38: =IFERROR(VLOOKUP(C38, TRANSLATORS!A:C, 3, FALSE), "") -> 男 | H38: =IFERROR(CONCATENATE(VLOOKUP(E38,CATEGORIES!A:B,2,FALSE),(VLOOKUP(F38,CATEGORIES!E:F,2,FALSE)), VLOOKUP(G38, CATEGORIES!I:J, 2, FALSE), D38), "") -> NFM37
A39: うたかたの記 | B39: 1890 | C39: Mori Ogai | D39: =IF(C39<>"", D38+1, "") -> 38 | E39: Non-translation | F39: =IFERROR(VLOOKUP(C39, TRANSLATORS!A:C, 2, FALSE), "") -> Famous | G39: =IFERROR(VLOOKUP(C39, TRANSLATORS!A:C, 3, FALSE), "") -> 男 | H39: =IFERROR(CONCATENATE(VLOOKUP(E39,CATEGORIES!A:B,2,FALSE),(VLOOKUP(F39,CATEGORIES!E:F,2,FALSE)), VLOOKUP(G39, CATEGORIES!I:J, 2, FALSE), D39), "") -> NFM38
A40: カズイスチカ | B40: 1911 | C40: Mori Ogai | D40: =IF(C40<>"", D39+1, "") -> 39 | E40: Non-translation | F40: =IFERROR(VLOOKUP(C40, TRANSLATORS!A:C, 2, FALSE), "") -> Famous | G40: =IFERROR(VLOOKUP(C40, TRANSLATORS!A:C, 3, FALSE), "") -> 男 | H40: =IFERROR(CONCATENATE(VLOOKUP(E40,CATEGORIES!A:B,2,FALSE),(VLOOKUP(F40,CATEGORIES!E:F,2,FALSE)), VLOOKUP(G40, CATEGORIES!I:J, 2, FALSE), D40), "") -> NFM39
...

Sheet TRANSLATORS
A1: TRANSLATOR | B1: TRANSLATOR TYPE | C1: GENDER | D1: NOTES
A2: Mori Ogai | B2: Famous | C2: 男
A3: Kunikida Doppo | B3: Famous | C3: 男
A4: Tsubouchi Shōyō | B4: Famous | C4: 男
A5: Shimazaki Tōson | B5: Famous | C5: 男
A6: Futabatei Shimei | B6: Famous | C6: 男
A7: Kuroiwa Ruiko | B7: Famous | C7: 男
A8: Shimamura Hōgetsu | B8: Famous | C8: 男
A9: Sugano Tokusuke/Nakura Jiro | B9: Normal | C9: 男 | D9: They were scholars. They must be well-known but they would not have had kind of fame that the famous writers of that period had.
A10: Uchimura Kanzo | B10: Famous | C10: 男
A11: Uchida Roan | B11: Famous | C11: 男
A12: Yoshie Takamatsu | B12: Normal | C12: 男 | D12: He was a recognised scholar and authored a considerable number of books though these were mostly scholarly. I have categorised him as "normal" because his built his professional recognition mostly after the Meiji.
A13: Sakai Toshihiko | B13: Normal | C13: 男 | D13: He seems have authored many books so he must have been famous to come degree but he was basically a journalist and his books centre on political subjects. I am not sure whether he can be considered famous.
A14: Tsukahara Jūshien | B14: Famous | C14: 男 | D14: He was a newspaper novelist and was as popular as Kuroiwa.
A15: Miyazaki Koshoshi | B15: Normal | C15: 男 | D15: He produced a couple of popular works but he was basically a missionary so I place him as Normal category.
A16: Osanai Kaoru | B16: Famous | C16: 男
A17: Ueda Bin | B17: Famous | C17: 男
A18: Oguri Fūyō | B18: Famous | C18: 男
A19: Ozaki Kōyō | B19: Famous | C19: 男
A20: Yamada Bimyō | B20: Famous | C20: 男
A21: Iwano Hōmei | B21: Famous | C21: 男
A22: Iwaya Sazanami | B22: Famous | C22: 男
A23: Kōda Rohan | B23: Famous | C23: 男
A24: Tokuda Shūsei | B24: Famous | C24: 男
A25: Jōno Saigiku | B25: Normal | C25: 男 | D25: He was a jounalist and produced some kabuki play but it does not look like he was that famous.
A26: Shibata Ryūsei | B26: Normal | C26: 男 | D26: He was a novelist and translator and was mentored by Iwaya Suzanami. But it does not sound like he was famous.
A27: Emi Suiin | B27: Famous | C27: 男
A28: Tayama Katai | B28: Famous | C28: 男
A29: Yazaki Sagano | B29: Famous | C29: 男 | D29: Saganoya Omuro.
A30: Kanda Takahira | B30: Normal | C30: 男 | D30: He was a scholar and politician. Most of his non-translation works are political essays.
A31: Wakamatsu Shizuko | B31: Famous | C31: 女
A32: Kanbara Ariake | B32: Famous | C32: 男
A33: Chikamatsu Shūkō | B33: Famous | C33: 男
A34: Takayama Chogyū | B34: Famous | C34: 男
A35: Kodama Kagai | B35: Famous | C35: 男 | D35: He was a poet and his works centred on proletarian ideology.
A36: Morita Shiken | B36: Famous | C36: 男

Sheet STATS
A1: Authors | E1: Types | I1: Status | M1: Gender | Q1: Languages
A2: {=_xlfn.UNIQUE(_xlfn._xlws.FILTER(DATA!C2:C393, DATA!C2:C393<>""))} -> Mori Ogai | B2: =COUNTIF(DATA!C:C, STATS!A2) -> 66 | C2: =B2/SUM(B:B) -> 0.25581395 | E2: {=_xlfn.UNIQUE(_xlfn._xlws.FILTER(DATA!E2:E393, DATA!E2:E393<>""))} -> Direct Translation | F2: =COUNTIF(DATA!E:E, STATS!E2) -> 33 | G2: =F2/SUM(F:F) -> 0.12790698 | I2: {=_xlfn.UNIQUE(_xlfn._xlws.FILTER(DATA!F2:F393, DATA!F2:F393<>""))} -> Famous | J2: =COUNTIF(DATA!F:F, STATS!I2) -> 248 | K2: =J2/SUM(J:J) -> 0.96124031 | M2: {=_xlfn.UNIQUE(_xlfn._xlws.FILTER(DATA!G2:G393, DATA!G2:G393<>""))} -> 男 | N2: =COUNTIF(DATA!G:G, STATS!M2) -> 255 | O2: =N2/SUM(N:N) -> 0.98837209 | Q2: {=_xlfn.UNIQUE(_xlfn._xlws.FILTER(DATA!I2:I393, DATA!I2:I393<>""))} -> German | R2: =COUNTIF(DATA!I:I, STATS!Q2) -> 15 | S2: =R2/SUM(R:R) -> 0.3125
A3: Kunikida Doppo | B3: =COUNTIF(DATA!C:C, STATS!A3) -> 44 | C3: =B3/SUM(B:B) -> 0.17054264 | E3: Indirect Translation | F3: =COUNTIF(DATA!E:E, STATS!E3) -> 17 | G3: =F3/SUM(F:F) -> 0.065891473 | I3: Normal | J3: =COUNTIF(DATA!F:F, STATS!I3) -> 10 | K3: =J3/SUM(J:J) -> 0.03875969 | M3: 女 | N3: =COUNTIF(DATA!G:G, STATS!M3) -> 3 | O3: =N3/SUM(N:N) -> 0.011627907 | Q3: English | R3: =COUNTIF(DATA!I:I, STATS!Q3) -> 9 | S3: =R3/SUM(R:R) -> 0.1875
A4: Tsubouchi Shōyō | B4: =COUNTIF(DATA!C:C, STATS!A4) -> 2 | C4: =B4/SUM(B:B) -> 0.007751938 | E4: Non-translation | F4: =COUNTIF(DATA!E:E, STATS!E4) -> 208 | G4: =F4/SUM(F:F) -> 0.80620155 | Q4: French | R4: =COUNTIF(DATA!I:I, STATS!Q4) -> 9 | S4: =R4/SUM(R:R) -> 0.1875
A5: Shimazaki Tōson | B5: =COUNTIF(DATA!C:C, STATS!A5) -> 13 | C5: =B5/SUM(B:B) -> 0.050387597 | Q5: Swedish | R5: =COUNTIF(DATA!I:I, STATS!Q5) -> 1 | S5: =R5/SUM(R:R) -> 0.020833333
A6: Futabatei Shimei | B6: =COUNTIF(DATA!C:C, STATS!A6) -> 15 | C6: =B6/SUM(B:B) -> 0.058139535 | Q6: Danish | R6: =COUNTIF(DATA!I:I, STATS!Q6) -> 2 | S6: =R6/SUM(R:R) -> 0.041666667
A7: Kuroiwa Ruiko | B7: =COUNTIF(DATA!C:C, STATS!A7) -> 6 | C7: =B7/SUM(B:B) -> 0.023255814 | Q7: Russian | R7: =COUNTIF(DATA!I:I, STATS!Q7) -> 10 | S7: =R7/SUM(R:R) -> 0.20833333
A8: Shimamura Hōgetsu | B8: =COUNTIF(DATA!C:C, STATS!A8) -> 3 | C8: =B8/SUM(B:B) -> 0.011627907 | Q8: Polish | R8: =COUNTIF(DATA!I:I, STATS!Q8) -> 1 | S8: =R8/SUM(R:R) -> 0.020833333
A9: Sugano Tokusuke/Nakura Jiro | B9: =COUNTIF(DATA!C:C, STATS!A9) -> 1 | C9: =B9/SUM(B:B) -> 0.003875969 | Q9: Norwegian | R9: =COUNTIF(DATA!I:I, STATS!Q9) -> 1 | S9: =R9/SUM(R:R) -> 0.020833333
A10: Uchimura Kanzo | B10: =COUNTIF(DATA!C:C, STATS!A10) -> 6 | C10: =B10/SUM(B:B) -> 0.023255814 | R10: =COUNTIF(DATA!I:I, STATS!Q10) -> 0 | S10: =R10/SUM(R:R) -> 0
A11: Uchida Roan | B11: =COUNTIF(DATA!C:C, STATS!A11) -> 6 | C11: =B11/SUM(B:B) -> 0.023255814 | R11: =COUNTIF(DATA!I:I, STATS!Q11) -> 0 | S11: =R11/SUM(R:R) -> 0
A12: Yoshie Takamatsu | B12: =COUNTIF(DATA!C:C, STATS!A12) -> 2 | C12: =B12/SUM(B:B) -> 0.007751938 | R12: =COUNTIF(DATA!I:I, STATS!Q12) -> 0 | S12: =R12/SUM(R:R) -> 0
A13: Sakai Toshihiko | B13: =COUNTIF(DATA!C:C, STATS!A13) -> 1 | C13: =B13/SUM(B:B) -> 0.003875969 | R13: =COUNTIF(DATA!I:I, STATS!Q13) -> 0 | S13: =R13/SUM(R:R) -> 0
A14: Tsukahara Jūshien | B14: =COUNTIF(DATA!C:C, STATS!A14) -> 1 | C14: =B14/SUM(B:B) -> 0.003875969 | R14: =COUNTIF(DATA!I:I, STATS!Q14) -> 0 | S14: =R14/SUM(R:R) -> 0
A15: Miyazaki Koshoshi | B15: =COUNTIF(DATA!C:C, STATS!A15) -> 2 | C15: =B15/SUM(B:B) -> 0.007751938
A16: Osanai Kaoru | B16: =COUNTIF(DATA!C:C, STATS!A16) -> 5 | C16: =B16/SUM(B:B) -> 0.019379845
A17: Ueda Bin | B17: =COUNTIF(DATA!C:C, STATS!A17) -> 1 | C17: =B17/SUM(B:B) -> 0.003875969
A18: Oguri Fūyō | B18: =COUNTIF(DATA!C:C, STATS!A18) -> 3 | C18: =B18/SUM(B:B) -> 0.011627907
A19: Ozaki Kōyō | B19: =COUNTIF(DATA!C:C, STATS!A19) -> 3 | C19: =B19/SUM(B:B) -> 0.011627907
A20: Yamada Bimyō | B20: =COUNTIF(DATA!C:C, STATS!A20) -> 1 | C20: =B20/SUM(B:B) -> 0.003875969
A21: Iwano Hōmei | B21: =COUNTIF(DATA!C:C, STATS!A21) -> 8 | C21: =B21/SUM(B:B) -> 0.031007752
A22: Iwaya Sazanami | B22: =COUNTIF(DATA!C:C, STATS!A22) -> 2 | C22: =B22/SUM(B:B) -> 0.007751938
A23: Kōda Rohan | B23: =COUNTIF(DATA!C:C, STATS!A23) -> 11 | C23: =B23/SUM(B:B) -> 0.042635659
A24: Tokuda Shūsei | B24: =COUNTIF(DATA!C:C, STATS!A24) -> 5 | C24: =B24/SUM(B:B) -> 0.019379845
A25: Jōno Saigiku | B25: =COUNTIF(DATA!C:C, STATS!A25) -> 1 | C25: =B25/SUM(B:B) -> 0.003875969
A26: Shibata Ryūsei | B26: =COUNTIF(DATA!C:C, STATS!A26) -> 1 | C26: =B26/SUM(B:B) -> 0.003875969
... A36: Morita Shiken | B36: =COUNTIF(DATA!C:C, STATS!A36) -> 3 | C36: =B36/SUM(B:B) -> 0.011627907
B37: =COUNTIF(DATA!C:C, STATS!A37) -> 0 | C37: =B37/SUM(B:B) -> 0
B38: =COUNTIF(DATA!C:C, STATS!A38) -> 0 | C38: =B38/SUM(B:B) -> 0
B39: =COUNTIF(DATA!C:C, STATS!A39) -> 0 | C39: =B39/SUM(B:B) -> 0

Sheet CORRELATIONS
B1: {=TRANSPOSE(_xlfn._xlws.SORT(_xlfn.UNIQUE(STATS!E2:E10)))} -> Direct Translation | C1: Indirect Translation | D1: Non-translation | E1: 0 | F1: SUM | I1: {=TRANSPOSE(_xlfn._xlws.SORT(_xlfn.UNIQUE(STATS!E2:E10)))} -> Direct Translation | J1: Indirect Translation | K1: Non-translation | L1: 0 | M1: SUM | P1: {=TRANSPOSE(_xlfn._xlws.SORT(_xlfn.UNIQUE(STATS!E2:E10)))} -> Direct Translation | Q1: Indirect Translation | R1: Non-translation | S1: 0 | T1: SUM | W1: {=TRANSPOSE(_xlfn._xlws.SORT(_xlfn.UNIQUE(DATA!I2:I300)))} -> Danish | X1: English | Y1: French | Z1: German | AA1: Norwegian | AB1: Polish | AC1: Russian | AD1: Swedish | AE1: 0 | AK1: SUM | AN1: {=TRANSPOSE(_xlfn._xlws.SORT(_xlfn.UNIQUE(DATA!I2:I300)))} -> Danish | AO1: English | AP1: French | AQ1: German | AR1: Norwegian | AS1: Polish | AT1: Russian | AU1: Swedish | AV1: 0 | BA1: SUM | BD1: {=TRANSPOSE(_xlfn._xlws.SORT(_xlfn.UNIQUE(DATA!I2:I300)))} -> Danish | BE1: English | BF1: French | BG1: German | BH1: Norwegian | BI1: Polish | BJ1: Russian | BK1: Swedish | BL1: 0 | BP1: SUM
A2: {=_xlfn._xlws.SORT(_xlfn.UNIQUE(STATS!A2:A100))} -> Chikamatsu Shūkō | B2: =COUNTIFS(DATA!$C:$C, CORRELATIONS!$A2, DATA!$E:$E, CORRELATIONS!B$1) -> 0 | C2: =COUNTIFS(DATA!$C:$C, CORRELATIONS!$A2, DATA!$E:$E, CORRELATIONS!C$1) -> 0 | D2: =COUNTIFS(DATA!$C:$C, CORRELATIONS!$A2, DATA!$E:$E, CORRELATIONS!D$1) -> 2 | F2: =SUM(B2:D2) -> 2 | H2: {=_xlfn._xlws.SORT(_xlfn.UNIQUE(STATS!I2:I100))} -> Famous | I2: =COUNTIFS(DATA!$F:$F, CORRELATIONS!$H2, DATA!$E:$E, CORRELATIONS!I$1) -> 32 | J2: =COUNTIFS(DATA!$F:$F, CORRELATIONS!$H2, DATA!$E:$E, CORRELATIONS!J$1) -> 17 | K2: =COUNTIFS(DATA!$F:$F, CORRELATIONS!$H2, DATA!$E:$E, CORRELATIONS!K$1) -> 199 | M2: =SUM(I2:K2) -> 248 | O2: {=_xlfn._xlws.SORT(_xlfn.UNIQUE(STATS!M2:M100))} -> 女 | P2: =COUNTIFS(DATA!$G:$G, CORRELATIONS!$O2, DATA!$E:$E, CORRELATIONS!P$1) -> 0 | Q2: =COUNTIFS(DATA!$G:$G, CORRELATIONS!$O2, DATA!$E:$E, CORRELATIONS!Q$1) -> 0 | R2: =COUNTIFS(DATA!$G:$G, CORRELATIONS!$O2, DATA!$E:$E, CORRELATIONS!R$1) -> 3 | T2: =SUM(P2:R2) -> 3 | V2: {=_xlfn._xlws.SORT(_xlfn.UNIQUE(STATS!A2:A100))} -> Chikamatsu Shūkō | W2: =COUNTIFS(DATA!$C:$C, CORRELATIONS!$V2, DATA!$I:$I, CORRELATIONS!W$1) -> 0 | X2: =COUNTIFS(DATA!$C:$C, CORRELATIONS!$V2, DATA!$I:$I, CORRELATIONS!X$1) -> 0 | Y2: =COUNTIFS(DATA!$C:$C, CORRELATIONS!$V2, DATA!$I:$I, CORRELATIONS!Y$1) -> 0 | Z2: =COUNTIFS(DATA!$C:$C, CORRELATIONS!$V2, DATA!$I:$I, CORRELATIONS!Z$1) -> 0 | AA2: =COUNTIFS(DATA!$C:$C, CORRELATIONS!$V2, DATA!$I:$I, CORRELATIONS!AA$1) -> 0 | AB2: =COUNTIFS(DATA!$C:$C, CORRELATIONS!$V2, DATA!$I:$I, CORRELATIONS!AB$1) -> 0 | AC2: =COUNTIFS(DATA!$C:$C, CORRELATIONS!$V2, DATA!$I:$I, CORRELATIONS!AC$1) -> 0 | AD2: =COUNTIFS(DATA!$C:$C, CORRELATIONS!$V2, DATA!$I:$I, CORRELATIONS!AD$1) -> 0 | ... AI2: =COUNTIFS(DATA!$C:$C, CORRELATIONS!$V2, DATA!$I:$I, CORRELATIONS!AI$1) -> 0 | AK2: =SUM(W2:AI2) -> 0 | AM2: {=_xlfn._xlws.SORT(_xlfn.UNIQUE(STATS!I2:I100))} -> Famous | AN2: =COUNTIFS(DATA!$F:$F, CORRELATIONS!$AM2, DATA!$I:$I, CORRELATIONS!AN$1) -> 2 | AO2: =COUNTIFS(DATA!$F:$F, CORRELATIONS!$AM2, DATA!$I:$I, CORRELATIONS!AO$1) -> 8 | AP2: =COUNTIFS(DATA!$F:$F, CORRELATIONS!$AM2, DATA!$I:$I, CORRELATIONS!AP$1) -> 9 | AQ2: =COUNTIFS(DATA!$F:$F, CORRELATIONS!$AM2, DATA!$I:$I, CORRELATIONS!AQ$1) -> 15 | AR2: =COUNTIFS(DATA!$F:$F, CORRELATIONS!$AM2, DATA!$I:$I, CORRELATIONS!AR$1) -> 1 | AS2: =COUNTIFS(DATA!$F:$F, CORRELATIONS!$AM2, DATA!$I:$I, CORRELATIONS!AS$1) -> 1 | AT2: =COUNTIFS(DATA!$F:$F, CORRELATIONS!$AM2, DATA!$I:$I, CORRELATIONS!AT$1) -> 10 | AU2: =COUNTIFS(DATA!$F:$F, CORRELATIONS!$AM2, DATA!$I:$I, CORRELATIONS!AU$1) -> 1 | ... AY2: =COUNTIFS(DATA!$F:$F, CORRELATIONS!$AM2, DATA!$I:$I, CORRELATIONS!AY$1) -> 0 | BA2: =SUM(AN2:AY2) -> 47 | BC2: {=_xlfn._xlws.SORT(_xlfn.UNIQUE(STATS!M2:M100))} -> 女 | BD2: =COUNTIFS(DATA!$G:$G, CORRELATIONS!$BC2, DATA!$I:$I, CORRELATIONS!BD$1) -> 0 | BE2: =COUNTIFS(DATA!$G:$G, CORRELATIONS!$BC2, DATA!$I:$I, CORRELATIONS!BE$1) -> 0 | BF2: =COUNTIFS(DATA!$G:$G, CORRELATIONS!$BC2, DATA!$I:$I, CORRELATIONS!BF$1) -> 0 | BG2: =COUNTIFS(DATA!$G:$G, CORRELATIONS!$BC2, DATA!$I:$I, CORRELATIONS!BG$1) -> 0 | BH2: =COUNTIFS(DATA!$G:$G, CORRELATIONS!$BC2, DATA!$I:$I, CORRELATIONS!BH$1) -> 0 | BI2: =COUNTIFS(DATA!$G:$G, CORRELATIONS!$BC2, DATA!$I:$I, CORRELATIONS!BI$1) -> 0 | BJ2: =COUNTIFS(DATA!$G:$G, CORRELATIONS!$BC2, DATA!$I:$I, CORRELATIONS!BJ$1) -> 0 | BK2: =COUNTIFS(DATA!$G:$G, CORRELATIONS!$BC2, DATA!$I:$I, CORRELATIONS!BK$1) -> 0 | ... BN2: =COUNTIFS(DATA!$G:$G, CORRELATIONS!$BC2, DATA!$I:$I, CORRELATIONS!BN$1) -> 0 | BP2: =SUM(BD2:BN2) -> 0
A3: Emi Suiin | B3: =COUNTIFS(DATA!$C:$C, CORRELATIONS!$A3, DATA!$E:$E, CORRELATIONS!B$1) -> 0 | C3: =COUNTIFS(DATA!$C:$C, CORRELATIONS!$A3, DATA!$E:$E, CORRELATIONS!C$1) -> 0 | D3: =COUNTIFS(DATA!$C:$C, CORRELATIONS!$A3, DATA!$E:$E, CORRELATIONS!D$1) -> 10 | F3: =SUM(B3:D3) -> 10 | H3: Normal | I3: =COUNTIFS(DATA!$F:$F, CORRELATIONS!$H3, DATA!$E:$E, CORRELATIONS!I$1) -> 1 | J3: =COUNTIFS(DATA!$F:$F, CORRELATIONS!$H3, DATA!$E:$E, CORRELATIONS!J$1) -> 0 | K3: =COUNTIFS(DATA!$F:$F, CORRELATIONS!$H3, DATA!$E:$E, CORRELATIONS!K$1) -> 9 | M3: =SUM(I3:K3) -> 10 | O3: 男 | P3: =COUNTIFS(DATA!$G:$G, CORRELATIONS!$O3, DATA!$E:$E, CORRELATIONS!P$1) -> 33 | Q3: =COUNTIFS(DATA!$G:$G, CORRELATIONS!$O3, DATA!$E:$E, CORRELATIONS!Q$1) -> 17 | R3: =COUNTIFS(DATA!$G:$G, CORRELATIONS!$O3, DATA!$E:$E, CORRELATIONS!R$1) -> 205 | T3: =SUM(P3:R3) -> 255 | V3: Emi Suiin | W3: =COUNTIFS(DATA!$C:$C, CORRELATIONS!$V3, DATA!$I:$I, CORRELATIONS!W$1) -> 0 | X3: =COUNTIFS(DATA!$C:$C, CORRELATIONS!$V3, DATA!$I:$I, CORRELATIONS!X$1) -> 0 | Y3: =COUNTIFS(DATA!$C:$C, CORRELATIONS!$V3, DATA!$I:$I, CORRELATIONS!Y$1) -> 0 | Z3: =COUNTIFS(DATA!$C:$C, CORRELATIONS!$V3, DATA!$I:$I, CORRELATIONS!Z$1) -> 0 | AA3: =COUNTIFS(DATA!$C:$C, CORRELATIONS!$V3, DATA!$I:$I, CORRELATIONS!AA$1) -> 0 | AB3: =COUNTIFS(DATA!$C:$C, CORRELATIONS!$V3, DATA!$I:$I, CORRELATIONS!AB$1) -> 0 | AC3: =COUNTIFS(DATA!$C:$C, CORRELATIONS!$V3, DATA!$I:$I, CORRELATIONS!AC$1) -> 0 | AD3: =COUNTIFS(DATA!$C:$C, CORRELATIONS!$V3, DATA!$I:$I, CORRELATIONS!AD$1) -> 0 | ... AI3: =COUNTIFS(DATA!$C:$C, CORRELATIONS!$V3, DATA!$I:$I, CORRELATIONS!AI$1) -> 0 | AK3: =SUM(W3:AI3) -> 0 | AM3: Normal | AN3: =COUNTIFS(DATA!$F:$F, CORRELATIONS!$AM3, DATA!$I:$I, CORRELATIONS!AN$1) -> 0 | AO3: =COUNTIFS(DATA!$F:$F, CORRELATIONS!$AM3, DATA!$I:$I, CORRELATIONS!AO$1) -> 1 | AP3: =COUNTIFS(DATA!$F:$F, CORRELATIONS!$AM3, DATA!$I:$I, CORRELATIONS!AP$1) -> 0 | AQ3: =COUNTIFS(DATA!$F:$F, CORRELATIONS!$AM3, DATA!$I:$I, CORRELATIONS!AQ$1) -> 0 | AR3: =COUNTIFS(DATA!$F:$F, CORRELATIONS!$AM3, DATA!$I:$I, CORRELATIONS!AR$1) -> 0 | AS3: =COUNTIFS(DATA!$F:$F, CORRELATIONS!$AM3, DATA!$I:$I, CORRELATIONS!AS$1) -> 0 | AT3: =COUNTIFS(DATA!$F:$F, CORRELATIONS!$AM3, DATA!$I:$I, CORRELATIONS!AT$1) -> 0 | AU3: =COUNTIFS(DATA!$F:$F, CORRELATIONS!$AM3, DATA!$I:$I, CORRELATIONS!AU$1) -> 0 | ... AY3: =COUNTIFS(DATA!$F:$F, CORRELATIONS!$AM3, DATA!$I:$I, CORRELATIONS!AY$1) -> 0 | BA3: =SUM(AN3:AY3) -> 1 | BC3: 男 | BD3: =COUNTIFS(DATA!$G:$G, CORRELATIONS!$BC3, DATA!$I:$I, CORRELATIONS!BD$1) -> 2 | BE3: =COUNTIFS(DATA!$G:$G, CORRELATIONS!$BC3, DATA!$I:$I, CORRELATIONS!BE$1) -> 9 | BF3: =COUNTIFS(DATA!$G:$G, CORRELATIONS!$BC3, DATA!$I:$I, CORRELATIONS!BF$1) -> 9 | BG3: =COUNTIFS(DATA!$G:$G, CORRELATIONS!$BC3, DATA!$I:$I, CORRELATIONS!BG$1) -> 15 | BH3: =COUNTIFS(DATA!$G:$G, CORRELATIONS!$BC3, DATA!$I:$I, CORRELATIONS!BH$1) -> 1 | BI3: =COUNTIFS(DATA!$G:$G, CORRELATIONS!$BC3, DATA!$I:$I, CORRELATIONS!BI$1) -> 1 | BJ3: =COUNTIFS(DATA!$G:$G, CORRELATIONS!$BC3, DATA!$I:$I, CORRELATIONS!BJ$1) -> 10 | BK3: =COUNTIFS(DATA!$G:$G, CORRELATIONS!$BC3, DATA!$I:$I, CORRELATIONS!BK$1) -> 1 | ... BN3: =COUNTIFS(DATA!$G:$G, CORRELATIONS!$BC3, DATA!$I:$I, CORRELATIONS!BN$1) -> 0 | BP3: =SUM(BD3:BN3) -> 48
A4: Futabatei Shimei | B4: =COUNTIFS(DATA!$C:$C, CORRELATIONS!$A4, DATA!$E:$E, CORRELATIONS!B$1) -> 2 | C4: =COUNTIFS(DATA!$C:$C, CORRELATIONS!$A4, DATA!$E:$E, CORRELATIONS!C$1) -> 1 | D4: =COUNTIFS(DATA!$C:$C, CORRELATIONS!$A4, DATA!$E:$E, CORRELATIONS!D$1) -> 12 | F4: =SUM(B4:D4) -> 15 | H4: 0 | M4: =SUM(I4:K4) -> 0 | O4: 0 | V4: Futabatei Shimei | W4: =COUNTIFS(DATA!$C:$C, CORRELATIONS!$V4, DATA!$I:$I, CORRELATIONS!W$1) -> 0 | X4: =COUNTIFS(DATA!$C:$C, CORRELATIONS!$V4, DATA!$I:$I, CORRELATIONS!X$1) -> 0 | Y4: =COUNTIFS(DATA!$C:$C, CORRELATIONS!$V4, DATA!$I:$I, CORRELATIONS!Y$1) -> 0 | Z4: =COUNTIFS(DATA!$C:$C, CORRELATIONS!$V4, DATA!$I:$I, CORRELATIONS!Z$1) -> 0 | AA4: =COUNTIFS(DATA!$C:$C, CORRELATIONS!$V4, DATA!$I:$I, CORRELATIONS!AA$1) -> 0 | AB4: =COUNTIFS(DATA!$C:$C, CORRELATIONS!$V4, DATA!$I:$I, CORRELATIONS!AB$1) -> 1 | AC4: =COUNTIFS(DATA!$C:$C, CORRELATIONS!$V4, DATA!$I:$I, CORRELATIONS!AC$1) -> 2 | AD4: =COUNTIFS(DATA!$C:$C, CORRELATIONS!$V4, DATA!$I:$I, CORRELATIONS!AD$1) -> 0 | ... AI4: =COUNTIFS(DATA!$C:$C, CORRELATIONS!$V4, DATA!$I:$I, CORRELATIONS!AI$1) -> 0 | AK4: =SUM(W4:AI4) -> 3 | AM4: 0 | BC4: 0
A5: Iwano Hōmei | B5: =COUNTIFS(DATA!$C:$C, CORRELATIONS!$A5, DATA!$E:$E, CORRELATIONS!B$1) -> 0 | C5: =COUNTIFS(DATA!$C:$C, CORRELATIONS!$A5, DATA!$E:$E, CORRELATIONS!C$1) -> 0 | D5: =COUNTIFS(DATA!$C:$C, CORRELATIONS!$A5, DATA!$E:$E, CORRELATIONS!D$1) -> 8 | F5: =SUM(B5:D5) -> 8 | V5: Iwano Hōmei | W5: =COUNTIFS(DATA!$C:$C, CORRELATIONS!$V5, DATA!$I:$I, CORRELATIONS!W$1) -> 0 | X5: =COUNTIFS(DATA!$C:$C, CORRELATIONS!$V5, DATA!$I:$I, CORRELATIONS!X$1) -> 0 | Y5: =COUNTIFS(DATA!$C:$C, CORRELATIONS!$V5, DATA!$I:$I, CORRELATIONS!Y$1) -> 0 | Z5: =COUNTIFS(DATA!$C:$C, CORRELATIONS!$V5, DATA!$I:$I, CORRELATIONS!Z$1) -> 0 | AA5: =COUNTIFS(DATA!$C:$C, CORRELATIONS!$V5, DATA!$I:$I, CORRELATIONS!AA$1) -> 0 | AB5: =COUNTIFS(DATA!$C:$C, CORRELATIONS!$V5, DATA!$I:$I, CORRELATIONS!AB$1) -> 0 | AC5: =COUNTIFS(DATA!$C:$C, CORRELATIONS!$V5, DATA!$I:$I, CORRELATIONS!AC$1) -> 0 | AD5: =COUNTIFS(DATA!$C:$C, CORRELATIONS!$V5, DATA!$I:$I, CORRELATIONS!AD$1) -> 0 | ... AI5: =COUNTIFS(DATA!$C:$C, CORRELATIONS!$V5, DATA!$I:$I, CORRELATIONS!AI$1) -> 0 | AK5: =SUM(W5:AI5) -> 0
A6: Iwaya Sazanami | B6: =COUNTIFS(DATA!$C:$C, CORRELATIONS!$A6, DATA!$E:$E, CORRELATIONS!B$1) -> 0 | C6: =COUNTIFS(DATA!$C:$C, CORRELATIONS!$A6, DATA!$E:$E, CORRELATIONS!C$1) -> 0 | D6: =COUNTIFS(DATA!$C:$C, CORRELATIONS!$A6, DATA!$E:$E, CORRELATIONS!D$1) -> 2 | F6: =SUM(B6:D6) -> 2 | V6: Iwaya Sazanami | W6: =COUNTIFS(DATA!$C:$C, CORRELATIONS!$V6, DATA!$I:$I, CORRELATIONS!W$1) -> 0 | X6: =COUNTIFS(DATA!$C:$C, CORRELATIONS!$V6, DATA!$I:$I, CORRELATIONS!X$1) -> 0 | Y6: =COUNTIFS(DATA!$C:$C, CORRELATIONS!$V6, DATA!$I:$I, CORRELATIONS!Y$1) -> 0 | Z6: =COUNTIFS(DATA!$C:$C, CORRELATIONS!$V6, DATA!$I:$I, CORRELATIONS!Z$1) -> 0 | AA6: =COUNTIFS(DATA!$C:$C, CORRELATIONS!$V6, DATA!$I:$I, CORRELATIONS!AA$1) -> 0 | AB6: =COUNTIFS(DATA!$C:$C, CORRELATIONS!$V6, DATA!$I:$I, CORRELATIONS!AB$1) -> 0 | AC6: =COUNTIFS(DATA!$C:$C, CORRELATIONS!$V6, DATA!$I:$I, CORRELATIONS!AC$1) -> 0 | AD6: =COUNTIFS(DATA!$C:$C, CORRELATIONS!$V6, DATA!$I:$I, CORRELATIONS!AD$1) -> 0 | ... AI6: =COUNTIFS(DATA!$C:$C, CORRELATIONS!$V6, DATA!$I:$I, CORRELATIONS!AI$1) -> 0 | AK6: =SUM(W6:AI6) -> 0
A7: Jōno Saigiku | B7: =COUNTIFS(DATA!$C:$C, CORRELATIONS!$A7, DATA!$E:$E, CORRELATIONS!B$1) -> 0 | C7: =COUNTIFS(DATA!$C:$C, CORRELATIONS!$A7, DATA!$E:$E, CORRELATIONS!C$1) -> 0 | D7: =COUNTIFS(DATA!$C:$C, CORRELATIONS!$A7, DATA!$E:$E, CORRELATIONS!D$1) -> 1 | F7: =SUM(B7:D7) -> 1 | V7: Jōno Saigiku | W7: =COUNTIFS(DATA!$C:$C, CORRELATIONS!$V7, DATA!$I:$I, CORRELATIONS!W$1) -> 0 | X7: =COUNTIFS(DATA!$C:$C, CORRELATIONS!$V7, DATA!$I:$I, CORRELATIONS!X$1) -> 0 | Y7: =COUNTIFS(DATA!$C:$C, CORRELATIONS!$V7, DATA!$I:$I, CORRELATIONS!Y$1) -> 0 | Z7: =COUNTIFS(DATA!$C:$C, CORRELATIONS!$V7, DATA!$I:$I, CORRELATIONS!Z$1) -> 0 | AA7: =COUNTIFS(DATA!$C:$C, CORRELATIONS!$V7, DATA!$I:$I, CORRELATIONS!AA$1) -> 0 | AB7: =COUNTIFS(DATA!$C:$C, CORRELATIONS!$V7, DATA!$I:$I, CORRELATIONS!AB$1) -> 0 | AC7: =COUNTIFS(DATA!$C:$C, CORRELATIONS!$V7, DATA!$I:$I, CORRELATIONS!AC$1) -> 0 | AD7: =COUNTIFS(DATA!$C:$C, CORRELATIONS!$V7, DATA!$I:$I, CORRELATIONS!AD$1) -> 0 | ... AI7: =COUNTIFS(DATA!$C:$C, CORRELATIONS!$V7, DATA!$I:$I, CORRELATIONS!AI$1) -> 0 | AK7: =SUM(W7:AI7) -> 0
A8: Kanbara Ariake | B8: =COUNTIFS(DATA!$C:$C, CORRELATIONS!$A8, DATA!$E:$E, CORRELATIONS!B$1) -> 0 | C8: =COUNTIFS(DATA!$C:$C, CORRELATIONS!$A8, DATA!$E:$E, CORRELATIONS!C$1) -> 0 | D8: =COUNTIFS(DATA!$C:$C, CORRELATIONS!$A8, DATA!$E:$E, CORRELATIONS!D$1) -> 13 | F8: =SUM(B8:D8) -> 13 | V8: Kanbara Ariake | W8: =COUNTIFS(DATA!$C:$C, CORRELATIONS!$V8, DATA!$I:$I, CORRELATIONS!W$1) -> 0 | X8: =COUNTIFS(DATA!$C:$C, CORRELATIONS!$V8, DATA!$I:$I, CORRELATIONS!X$1) -> 0 | Y8: =COUNTIFS(DATA!$C:$C, CORRELATIONS!$V8, DATA!$I:$I, CORRELATIONS!Y$1) -> 0 | Z8: =COUNTIFS(DATA!$C:$C, CORRELATIONS!$V8, DATA!$I:$I, CORRELATIONS!Z$1) -> 0 | AA8: =COUNTIFS(DATA!$C:$C, CORRELATIONS!$V8, DATA!$I:$I, CORRELATIONS!AA$1) -> 0 | AB8: =COUNTIFS(DATA!$C:$C, CORRELATIONS!$V8, DATA!$I:$I, CORRELATIONS!AB$1) -> 0 | AC8: =COUNTIFS(DATA!$C:$C, CORRELATIONS!$V8, DATA!$I:$I, CORRELATIONS!AC$1) -> 0 | AD8: =COUNTIFS(DATA!$C:$C, CORRELATIONS!$V8, DATA!$I:$I, CORRELATIONS!AD$1) -> 0 | ... AI8: =COUNTIFS(DATA!$C:$C, CORRELATIONS!$V8, DATA!$I:$I, CORRELATIONS!AI$1) -> 0 | AK8: =SUM(W8:AI8) -> 0
A9: Kanda Takahira | B9: =COUNTIFS(DATA!$C:$C, CORRELATIONS!$A9, DATA!$E:$E, CORRELATIONS!B$1) -> 0 | C9: =COUNTIFS(DATA!$C:$C, CORRELATIONS!$A9, DATA!$E:$E, CORRELATIONS!C$1) -> 0 | D9: =COUNTIFS(DATA!$C:$C, CORRELATIONS!$A9, DATA!$E:$E, CORRELATIONS!D$1) -> 2 | F9: =SUM(B9:D9) -> 2 | V9: Kanda Takahira | W9: =COUNTIFS(DATA!$C:$C, CORRELATIONS!$V9, DATA!$I:$I, CORRELATIONS!W$1) -> 0 | X9: =COUNTIFS(DATA!$C:$C, CORRELATIONS!$V9, DATA!$I:$I, CORRELATIONS!X$1) -> 0 | Y9: =COUNTIFS(DATA!$C:$C, CORRELATIONS!$V9, DATA!$I:$I, CORRELATIONS!Y$1) -> 0 | Z9: =COUNTIFS(DATA!$C:$C, CORRELATIONS!$V9, DATA!$I:$I, CORRELATIONS!Z$1) -> 0 | AA9: =COUNTIFS(DATA!$C:$C, CORRELATIONS!$V9, DATA!$I:$I, CORRELATIONS!AA$1) -> 0 | AB9: =COUNTIFS(DATA!$C:$C, CORRELATIONS!$V9, DATA!$I:$I, CORRELATIONS!AB$1) -> 0 | AC9: =COUNTIFS(DATA!$C:$C, CORRELATIONS!$V9, DATA!$I:$I, CORRELATIONS!AC$1) -> 0 | AD9: =COUNTIFS(DATA!$C:$C, CORRELATIONS!$V9, DATA!$I:$I, CORRELATIONS!AD$1) -> 0 | ... AI9: =COUNTIFS(DATA!$C:$C, CORRELATIONS!$V9, DATA!$I:$I, CORRELATIONS!AI$1) -> 0 | AK9: =SUM(W9:AI9) -> 0
A10: Kōda Rohan | B10: =COUNTIFS(DATA!$C:$C, CORRELATIONS!$A10, DATA!$E:$E, CORRELATIONS!B$1) -> 0 | C10: =COUNTIFS(DATA!$C:$C, CORRELATIONS!$A10, DATA!$E:$E, CORRELATIONS!C$1) -> 0 | D10: =COUNTIFS(DATA!$C:$C, CORRELATIONS!$A10, DATA!$E:$E, CORRELATIONS!D$1) -> 11 | F10: =SUM(B10:D10) -> 11 | V10: Kōda Rohan | W10: =COUNTIFS(DATA!$C:$C, CORRELATIONS!$V10, DATA!$I:$I, CORRELATIONS!W$1) -> 0 | X10: =COUNTIFS(DATA!$C:$C, CORRELATIONS!$V10, DATA!$I:$I, CORRELATIONS!X$1) -> 0 | Y10: =COUNTIFS(DATA!$C:$C, CORRELATIONS!$V10, DATA!$I:$I, CORRELATIONS!Y$1) -> 0 | Z10: =COUNTIFS(DATA!$C:$C, CORRELATIONS!$V10, DATA!$I:$I, CORRELATIONS!Z$1) -> 0 | AA10: =COUNTIFS(DATA!$C:$C, CORRELATIONS!$V10, DATA!$I:$I, CORRELATIONS!AA$1) -> 0 | AB10: =COUNTIFS(DATA!$C:$C, CORRELATIONS!$V10, DATA!$I:$I, CORRELATIONS!AB$1) -> 0 | AC10: =COUNTIFS(DATA!$C:$C, CORRELATIONS!$V10, DATA!$I:$I, CORRELATIONS!AC$1) -> 0 | AD10: =COUNTIFS(DATA!$C:$C, CORRELATIONS!$V10, DATA!$I:$I, CORRELATIONS!AD$1) -> 0 | ... AI10: =COUNTIFS(DATA!$C:$C, CORRELATIONS!$V10, DATA!$I:$I, CORRELATIONS!AI$1) -> 0 | AK10: =SUM(W10:AI10) -> 0
A11: Kodama Kagai | B11: =COUNTIFS(DATA!$C:$C, CORRELATIONS!$A11, DATA!$E:$E, CORRELATIONS!B$1) -> 0 | C11: =COUNTIFS(DATA!$C:$C, CORRELATIONS!$A11, DATA!$E:$E, CORRELATIONS!C$1) -> 0 | D11: =COUNTIFS(DATA!$C:$C, CORRELATIONS!$A11, DATA!$E:$E, CORRELATIONS!D$1) -> 1 | F11: =SUM(B11:D11) -> 1 | V11: Kodama Kagai | W11: =COUNTIFS(DATA!$C:$C, CORRELATIONS!$V11, DATA!$I:$I, CORRELATIONS!W$1) -> 0 | X11: =COUNTIFS(DATA!$C:$C, CORRELATIONS!$V11, DATA!$I:$I, CORRELATIONS!X$1) -> 0 | Y11: =COUNTIFS(DATA!$C:$C, CORRELATIONS!$V11, DATA!$I:$I, CORRELATIONS!Y$1) -> 0 | Z11: =COUNTIFS(DATA!$C:$C, CORRELATIONS!$V11, DATA!$I:$I, CORRELATIONS!Z$1) -> 0 | AA11: =COUNTIFS(DATA!$C:$C, CORRELATIONS!$V11, DATA!$I:$I, CORRELATIONS!AA$1) -> 0 | AB11: =COUNTIFS(DATA!$C:$C, CORRELATIONS!$V11, DATA!$I:$I, CORRELATIONS!AB$1) -> 0 | AC11: =COUNTIFS(DATA!$C:$C, CORRELATIONS!$V11, DATA!$I:$I, CORRELATIONS!AC$1) -> 0 | AD11: =COUNTIFS(DATA!$C:$C, CORRELATIONS!$V11, DATA!$I:$I, CORRELATIONS!AD$1) -> 0 | ... AI11: =COUNTIFS(DATA!$C:$C, CORRELATIONS!$V11, DATA!$I:$I, CORRELATIONS!AI$1) -> 0 | AK11: =SUM(W11:AI11) -> 0
A12: Kunikida Doppo | B12: =COUNTIFS(DATA!$C:$C, CORRELATIONS!$A12, DATA!$E:$E, CORRELATIONS!B$1) -> 0 | C12: =COUNTIFS(DATA!$C:$C, CORRELATIONS!$A12, DATA!$E:$E, CORRELATIONS!C$1) -> 3 | D12: =COUNTIFS(DATA!$C:$C, CORRELATIONS!$A12, DATA!$E:$E, CORRELATIONS!D$1) -> 41 | F12: =SUM(B12:D12) -> 44 | V12: Kunikida Doppo | W12: =COUNTIFS(DATA!$C:$C, CORRELATIONS!$V12, DATA!$I:$I, CORRELATIONS!W$1) -> 0 | X12: =COUNTIFS(DATA!$C:$C, CORRELATIONS!$V12, DATA!$I:$I, CORRELATIONS!X$1) -> 0 | Y12: =COUNTIFS(DATA!$C:$C, CORRELATIONS!$V12, DATA!$I:$I, CORRELATIONS!Y$1) -> 2 | Z12: =COUNTIFS(DATA!$C:$C, CORRELATIONS!$V12, DATA!$I:$I, CORRELATIONS!Z$1) -> 0 | AA12: =COUNTIFS(DATA!$C:$C, CORRELATIONS!$V12, DATA!$I:$I, CORRELATIONS!AA$1) -> 0 | AB12: =COUNTIFS(DATA!$C:$C, CORRELATIONS!$V12, DATA!$I:$I, CORRELATIONS!AB$1) -> 0 | AC12: =COUNTIFS(DATA!$C:$C, CORRELATIONS!$V12, DATA!$I:$I, CORRELATIONS!AC$1) -> 0 | AD12: =COUNTIFS(DATA!$C:$C, CORRELATIONS!$V12, DATA!$I:$I, CORRELATIONS!AD$1) -> 0 | ... AI12: =COUNTIFS(DATA!$C:$C, CORRELATIONS!$V12, DATA!$I:$I, CORRELATIONS!AI$1) -> 0 | AK12: =SUM(W12:AI12) -> 2
A13: Kuroiwa Ruiko | B13: =COUNTIFS(DATA!$C:$C, CORRELATIONS!$A13, DATA!$E:$E, CORRELATIONS!B$1) -> 3 | C13: =COUNTIFS(DATA!$C:$C, CORRELATIONS!$A13, DATA!$E:$E, CORRELATIONS!C$1) -> 1 | D13: =COUNTIFS(DATA!$C:$C, CORRELATIONS!$A13, DATA!$E:$E, CORRELATIONS!D$1) -> 2 | F13: =SUM(B13:D13) -> 6 | V13: Kuroiwa Ruiko | W13: =COUNTIFS(DATA!$C:$C, CORRELATIONS!$V13, DATA!$I:$I, CORRELATIONS!W$1) -> 0 | X13: =COUNTIFS(DATA!$C:$C, CORRELATIONS!$V13, DATA!$I:$I, CORRELATIONS!X$1) -> 2 | Y13: =COUNTIFS(DATA!$C:$C, CORRELATIONS!$V13, DATA!$I:$I, CORRELATIONS!Y$1) -> 1 | Z13: =COUNTIFS(DATA!$C:$C, CORRELATIONS!$V13, DATA!$I:$I, CORRELATIONS!Z$1) -> 0 | AA13: =COUNTIFS(DATA!$C:$C, CORRELATIONS!$V13, DATA!$I:$I, CORRELATIONS!AA$1) -> 0 | AB13: =COUNTIFS(DATA!$C:$C, CORRELATIONS!$V13, DATA!$I:$I, CORRELATIONS!AB$1) -> 0 | AC13: =COUNTIFS(DATA!$C:$C, CORRELATIONS!$V13, DATA!$I:$I, CORRELATIONS!AC$1) -> 0 | AD13: =COUNTIFS(DATA!$C:$C, CORRELATIONS!$V13, DATA!$I:$I, CORRELATIONS!AD$1) -> 0 | ... AI13: =COUNTIFS(DATA!$C:$C, CORRELATIONS!$V13, DATA!$I:$I, CORRELATIONS!AI$1) -> 0 | AK13: =SUM(W13:AI13) -> 3
A14: Miyazaki Koshoshi | B14: =COUNTIFS(DATA!$C:$C, CORRELATIONS!$A14, DATA!$E:$E, CORRELATIONS!B$1) -> 0 | C14: =COUNTIFS(DATA!$C:$C, CORRELATIONS!$A14, DATA!$E:$E, CORRELATIONS!C$1) -> 0 | D14: =COUNTIFS(DATA!$C:$C, CORRELATIONS!$A14, DATA!$E:$E, CORRELATIONS!D$1) -> 2 | F14: =SUM(B14:D14) -> 2 | V14: Miyazaki Koshoshi | W14: =COUNTIFS(DATA!$C:$C, CORRELATIONS!$V14, DATA!$I:$I, CORRELATIONS!W$1) -> 0 | X14: =COUNTIFS(DATA!$C:$C, CORRELATIONS!$V14, DATA!$I:$I, CORRELATIONS!X$1) -> 0 | Y14: =COUNTIFS(DATA!$C:$C, CORRELATIONS!$V14, DATA!$I:$I, CORRELATIONS!Y$1) -> 0 | Z14: =COUNTIFS(DATA!$C:$C, CORRELATIONS!$V14, DATA!$I:$I, CORRELATIONS!Z$1) -> 0 | AA14: =COUNTIFS(DATA!$C:$C, CORRELATIONS!$V14, DATA!$I:$I, CORRELATIONS!AA$1) -> 0 | AB14: =COUNTIFS(DATA!$C:$C, CORRELATIONS!$V14, DATA!$I:$I, CORRELATIONS!AB$1) -> 0 | AC14: =COUNTIFS(DATA!$C:$C, CORRELATIONS!$V14, DATA!$I:$I, CORRELATIONS!AC$1) -> 0 | AD14: =COUNTIFS(DATA!$C:$C, CORRELATIONS!$V14, DATA!$I:$I, CORRELATIONS!AD$1) -> 0 | ... AI14: =COUNTIFS(DATA!$C:$C, CORRELATIONS!$V14, DATA!$I:$I, CORRELATIONS!AI$1) -> 0 | AK14: =SUM(W14:AI14) -> 0
A15: Mori Ogai | B15: =COUNTIFS(DATA!$C:$C, CORRELATIONS!$A15, DATA!$E:$E, CORRELATIONS!B$1) -> 22 | C15: =COUNTIFS(DATA!$C:$C, CORRELATIONS!$A15, DATA!$E:$E, CORRELATIONS!C$1) -> 10 | D15: =COUNTIFS(DATA!$C:$C, CORRELATIONS!$A15, DATA!$E:$E, CORRELATIONS!D$1) -> 34 | F15: =SUM(B15:D15) -> 66 | V15: Mori Ogai | W15: =COUNTIFS(DATA!$C:$C, CORRELATIONS!$V15, DATA!$I:$I, CORRELATIONS!W$1) -> 2 | X15: =COUNTIFS(DATA!$C:$C, CORRELATIONS!$V15, DATA!$I:$I, CORRELATIONS!X$1) -> 2 | Y15: =COUNTIFS(DATA!$C:$C, CORRELATIONS!$V15, DATA!$I:$I, CORRELATIONS!Y$1) -> 4 | Z15: =COUNTIFS(DATA!$C:$C, CORRELATIONS!$V15, DATA!$I:$I, CORRELATIONS!Z$1) -> 15 | AA15: =COUNTIFS(DATA!$C:$C, CORRELATIONS!$V15, DATA!$I:$I, CORRELATIONS!AA$1) -> 0 | AB15: =COUNTIFS(DATA!$C:$C, CORRELATIONS!$V15, DATA!$I:$I, CORRELATIONS!AB$1) -> 0 | AC15: =COUNTIFS(DATA!$C:$C, CORRELATIONS!$V15, DATA!$I:$I, CORRELATIONS!AC$1) -> 8 | AD15: =COUNTIFS(DATA!$C:$C, CORRELATIONS!$V15, DATA!$I:$I, CORRELATIONS!AD$1) -> 1 | ... AI15: =COUNTIFS(DATA!$C:$C, CORRELATIONS!$V15, DATA!$I:$I, CORRELATIONS!AI$1) -> 0 | AK15: =SUM(W15:AI15) -> 32
A16: Morita Shiken | B16: =COUNTIFS(DATA!$C:$C, CORRELATIONS!$A16, DATA!$E:$E, CORRELATIONS!B$1) -> 3 | C16: =COUNTIFS(DATA!$C:$C, CORRELATIONS!$A16, DATA!$E:$E, CORRELATIONS!C$1) -> 0 | D16: =COUNTIFS(DATA!$C:$C, CORRELATIONS!$A16, DATA!$E:$E, CORRELATIONS!D$1) -> 0 | F16: =SUM(B16:D16) -> 3 | V16: Morita Shiken | W16: =COUNTIFS(DATA!$C:$C, CORRELATIONS!$V16, DATA!$I:$I, CORRELATIONS!W$1) -> 0 | X16: =COUNTIFS(DATA!$C:$C, CORRELATIONS!$V16, DATA!$I:$I, CORRELATIONS!X$1) -> 3 | Y16: =COUNTIFS(DATA!$C:$C, CORRELATIONS!$V16, DATA!$I:$I, CORRELATIONS!Y$1) -> 0 | Z16: =COUNTIFS(DATA!$C:$C, CORRELATIONS!$V16, DATA!$I:$I, CORRELATIONS!Z$1) -> 0 | AA16: =COUNTIFS(DATA!$C:$C, CORRELATIONS!$V16, DATA!$I:$I, CORRELATIONS!AA$1) -> 0 | AB16: =COUNTIFS(DATA!$C:$C, CORRELATIONS!$V16, DATA!$I:$I, CORRELATIONS!AB$1) -> 0 | AC16: =COUNTIFS(DATA!$C:$C, CORRELATIONS!$V16, DATA!$I:$I, CORRELATIONS!AC$1) -> 0 | AD16: =COUNTIFS(DATA!$C:$C, CORRELATIONS!$V16, DATA!$I:$I, CORRELATIONS!AD$1) -> 0 | ... AI16: =COUNTIFS(DATA!$C:$C, CORRELATIONS!$V16, DATA!$I:$I, CORRELATIONS!AI$1) -> 0 | AK16: =SUM(W16:AI16) -> 3
... A36: Yoshie Takamatsu | B36: =COUNTIFS(DATA!$C:$C, CORRELATIONS!$A36, DATA!$E:$E, CORRELATIONS!B$1) -> 0 | C36: =COUNTIFS(DATA!$C:$C, CORRELATIONS!$A36, DATA!$E:$E, CORRELATIONS!C$1) -> 0 | D36: =COUNTIFS(DATA!$C:$C, CORRELATIONS!$A36, DATA!$E:$E, CORRELATIONS!D$1) -> 2 | F36: =SUM(B36:D36) -> 2 | V36: Yoshie Takamatsu | W36: =COUNTIFS(DATA!$C:$C, CORRELATIONS!$V36, DATA!$I:$I, CORRELATIONS!W$1) -> 0 | X36: =COUNTIFS(DATA!$C:$C, CORRELATIONS!$V36, DATA!$I:$I, CORRELATIONS!X$1) -> 0 | Y36: =COUNTIFS(DATA!$C:$C, CORRELATIONS!$V36, DATA!$I:$I, CORRELATIONS!Y$1) -> 0 | Z36: =COUNTIFS(DATA!$C:$C, CORRELATIONS!$V36, DATA!$I:$I, CORRELATIONS!Z$1) -> 0 | AA36: =COUNTIFS(DATA!$C:$C, CORRELATIONS!$V36, DATA!$I:$I, CORRELATIONS!AA$1) -> 0 | AB36: =COUNTIFS(DATA!$C:$C, CORRELATIONS!$V36, DATA!$I:$I, CORRELATIONS!AB$1) -> 0 | AC36: =COUNTIFS(DATA!$C:$C, CORRELATIONS!$V36, DATA!$I:$I, CORRELATIONS!AC$1) -> 0 | AD36: =COUNTIFS(DATA!$C:$C, CORRELATIONS!$V36, DATA!$I:$I, CORRELATIONS!AD$1) -> 0 | ... AI36: =COUNTIFS(DATA!$C:$C, CORRELATIONS!$V36, DATA!$I:$I, CORRELATIONS!AI$1) -> 0 | AK36: =SUM(W36:AI36) -> 0
A37: 0 | B37: =COUNTIFS(DATA!$C:$C, CORRELATIONS!$A37, DATA!$E:$E, CORRELATIONS!B$1) -> 0 | C37: =COUNTIFS(DATA!$C:$C, CORRELATIONS!$A37, DATA!$E:$E, CORRELATIONS!C$1) -> 0 | D37: =COUNTIFS(DATA!$C:$C, CORRELATIONS!$A37, DATA!$E:$E, CORRELATIONS!D$1) -> 0 | F37: =SUM(B37:D37) -> 0 | V37: 0 | W37: =COUNTIFS(DATA!$C:$C, CORRELATIONS!$V37, DATA!$I:$I, CORRELATIONS!W$1) -> 0 | X37: =COUNTIFS(DATA!$C:$C, CORRELATIONS!$V37, DATA!$I:$I, CORRELATIONS!X$1) -> 0 | Y37: =COUNTIFS(DATA!$C:$C, CORRELATIONS!$V37, DATA!$I:$I, CORRELATIONS!Y$1) -> 0 | Z37: =COUNTIFS(DATA!$C:$C, CORRELATIONS!$V37, DATA!$I:$I, CORRELATIONS!Z$1) -> 0 | AA37: =COUNTIFS(DATA!$C:$C, CORRELATIONS!$V37, DATA!$I:$I, CORRELATIONS!AA$1) -> 0 | AB37: =COUNTIFS(DATA!$C:$C, CORRELATIONS!$V37, DATA!$I:$I, CORRELATIONS!AB$1) -> 0 | AC37: =COUNTIFS(DATA!$C:$C, CORRELATIONS!$V37, DATA!$I:$I, CORRELATIONS!AC$1) -> 0 | AD37: =COUNTIFS(DATA!$C:$C, CORRELATIONS!$V37, DATA!$I:$I, CORRELATIONS!AD$1) -> 0 | ... AI37: =COUNTIFS(DATA!$C:$C, CORRELATIONS!$V37, DATA!$I:$I, CORRELATIONS!AI$1) -> 0 | AK37: =SUM(W37:AI37) -> 0
B38: =COUNTIFS(DATA!$C:$C, CORRELATIONS!$A38, DATA!$E:$E, CORRELATIONS!B$1) -> 0 | C38: =COUNTIFS(DATA!$C:$C, CORRELATIONS!$A38, DATA!$E:$E, CORRELATIONS!C$1) -> 0 | D38: =COUNTIFS(DATA!$C:$C, CORRELATIONS!$A38, DATA!$E:$E, CORRELATIONS!D$1) -> 0 | F38: =SUM(B38:D38) -> 0 | W38: =COUNTIFS(DATA!$C:$C, CORRELATIONS!$V38, DATA!$I:$I, CORRELATIONS!W$1) -> 0 | X38: =COUNTIFS(DATA!$C:$C, CORRELATIONS!$V38, DATA!$I:$I, CORRELATIONS!X$1) -> 0 | Y38: =COUNTIFS(DATA!$C:$C, CORRELATIONS!$V38, DATA!$I:$I, CORRELATIONS!Y$1) -> 0 | Z38: =COUNTIFS(DATA!$C:$C, CORRELATIONS!$V38, DATA!$I:$I, CORRELATIONS!Z$1) -> 0 | AA38: =COUNTIFS(DATA!$C:$C, CORRELATIONS!$V38, DATA!$I:$I, CORRELATIONS!AA$1) -> 0 | AB38: =COUNTIFS(DATA!$C:$C, CORRELATIONS!$V38, DATA!$I:$I, CORRELATIONS!AB$1) -> 0 | AC38: =COUNTIFS(DATA!$C:$C, CORRELATIONS!$V38, DATA!$I:$I, CORRELATIONS!AC$1) -> 0 | AD38: =COUNTIFS(DATA!$C:$C, CORRELATIONS!$V38, DATA!$I:$I, CORRELATIONS!AD$1) -> 0 | ... AI38: =COUNTIFS(DATA!$C:$C, CORRELATIONS!$V38, DATA!$I:$I, CORRELATIONS!AI$1) -> 0 | AK38: =SUM(W38:AI38) -> 0
B39: =COUNTIFS(DATA!$C:$C, CORRELATIONS!$A39, DATA!$E:$E, CORRELATIONS!B$1) -> 0 | C39: =COUNTIFS(DATA!$C:$C, CORRELATIONS!$A39, DATA!$E:$E, CORRELATIONS!C$1) -> 0 | D39: =COUNTIFS(DATA!$C:$C, CORRELATIONS!$A39, DATA!$E:$E, CORRELATIONS!D$1) -> 0 | F39: =SUM(B39:D39) -> 0 | W39: =COUNTIFS(DATA!$C:$C, CORRELATIONS!$V39, DATA!$I:$I, CORRELATIONS!W$1) -> 0 | X39: =COUNTIFS(DATA!$C:$C, CORRELATIONS!$V39, DATA!$I:$I, CORRELATIONS!X$1) -> 0 | Y39: =COUNTIFS(DATA!$C:$C, CORRELATIONS!$V39, DATA!$I:$I, CORRELATIONS!Y$1) -> 0 | Z39: =COUNTIFS(DATA!$C:$C, CORRELATIONS!$V39, DATA!$I:$I, CORRELATIONS!Z$1) -> 0 | AA39: =COUNTIFS(DATA!$C:$C, CORRELATIONS!$V39, DATA!$I:$I, CORRELATIONS!AA$1) -> 0 | AB39: =COUNTIFS(DATA!$C:$C, CORRELATIONS!$V39, DATA!$I:$I, CORRELATIONS!AB$1) -> 0 | AC39: =COUNTIFS(DATA!$C:$C, CORRELATIONS!$V39, DATA!$I:$I, CORRELATIONS!AC$1) -> 0 | AD39: =COUNTIFS(DATA!$C:$C, CORRELATIONS!$V39, DATA!$I:$I, CORRELATIONS!AD$1) -> 0 | ... AI39: =COUNTIFS(DATA!$C:$C, CORRELATIONS!$V39, DATA!$I:$I, CORRELATIONS!AI$1) -> 0 | AK39: =SUM(W39:AI39) -> 0

Sheet 明治期
B1: {=TRANSPOSE(_xlfn._xlws.SORT(_xlfn.UNIQUE(STATS!A2:A100)))} -> Chikamatsu Shūkō | C1: Emi Suiin | D1: Futabatei Shimei | E1: Iwano Hōmei | F1: Iwaya Sazanami | G1: Jōno Saigiku | H1: Kanbara Ariake | I1: Kanda Takahira | J1: Kōda Rohan | K1: Kodama Kagai | L1: Kunikida Doppo | M1: Kuroiwa Ruiko | N1: Miyazaki Koshoshi | O1: Mori Ogai | P1: Morita Shiken | Q1: Oguri Fūyō | R1: Osanai Kaoru | S1: Ozaki Kōyō | T1: Sakai Toshihiko | U1: Shibata Ryūsei | V1: Shimamura Hōgetsu | W1: Shimazaki Tōson | X1: Sugano Tokusuke/Nakura Jiro | Y1: Takayama Chogyū | Z1: Tayama Katai | AA1: Tokuda Shūsei | AB1: Tsubouchi Shōyō | AC1: Tsukahara Jūshien | AD1: Uchida Roan | AE1: Uchimura Kanzo | AF1: Ueda Bin | AG1: Wakamatsu Shizuko | AH1: Yamada Bimyō | AI1: Yazaki Sagano | AJ1: Yoshie Takamatsu | AK1: 0 | AZ1: SUM | BE1: {=TRANSPOSE(_xlfn._xlws.SORT(_xlfn.UNIQUE(STATS!E2:E100)))} -> Direct Translation | BF1: Indirect Translation | BG1: Non-translation | BH1: 0 | BL1: {=TRANSPOSE(_xlfn._xlws.SORT(_xlfn.UNIQUE(STATS!I2:I100)))} -> Famous | BM1: Normal | BN1: 0 | BQ1: {=TRANSPOSE(_xlfn._xlws.SORT(_xlfn.UNIQUE(STATS!M2:M100)))} -> 女 | BR1: 男 | BS1: 0 | BV1: {=TRANSPOSE(_xlfn._xlws.SORT(_xlfn.UNIQUE(STATS!Q2:Q100)))} -> Danish | BW1: English | BX1: French | BY1: German | BZ1: Norwegian | CA1: Polish | CB1: Russian | CC1: Swedish | CD1: 0
A2: 1868 | B2: =COUNTIFS(DATA!$B:$B, 明治期!$A2, DATA!$C:$C, 明治期!B$1) -> 0 | C2: =COUNTIFS(DATA!$B:$B, 明治期!$A2, DATA!$C:$C, 明治期!C$1) -> 0 | D2: =COUNTIFS(DATA!$B:$B, 明治期!$A2, DATA!$C:$C, 明治期!D$1) -> 1 | E2: =COUNTIFS(DATA!$B:$B, 明治期!$A2, DATA!$C:$C, 明治期!E$1) -> 0 | F2: =COUNTIFS(DATA!$B:$B, 明治期!$A2, DATA!$C:$C, 明治期!F$1) -> 0 | G2: =COUNTIFS(DATA!$B:$B, 明治期!$A2, DATA!$C:$C, 明治期!G$1) -> 0 | H2: =COUNTIFS(DATA!$B:$B, 明治期!$A2, DATA!$C:$C, 明治期!H$1) -> 0 | I2: =COUNTIFS(DATA!$B:$B, 明治期!$A2, DATA!$C:$C, 明治期!I$1) -> 0 | ... AX2: =COUNTIFS(DATA!$B:$B, 明治期!$A2, DATA!$C:$C, 明治期!AX$1) -> 0 | AZ2: =SUM(B2:L2) -> 1 | BD2: =A2 -> 1868 | BE2: =COUNTIFS(DATA!$B:$B, 明治期!$A2, DATA!$E:$E, 明治期!BE$1) -> 0 | BF2: =COUNTIFS(DATA!$B:$B, 明治期!$A2, DATA!$E:$E, 明治期!BF$1) -> 0 | BG2: =COUNTIFS(DATA!$B:$B, 明治期!$A2, DATA!$E:$E, 明治期!BG$1) -> 1 | BH2: =COUNTIFS(DATA!$B:$B, 明治期!$A2, DATA!$E:$E, 明治期!BH$1) -> 0 | BK2: =BD2 -> 1868 | BL2: =COUNTIFS(DATA!$B:$B, 明治期!$A2, DATA!$F:$F, 明治期!BL$1) -> 1 | BM2: =COUNTIFS(DATA!$B:$B, 明治期!$A2, DATA!$F:$F, 明治期!BM$1) -> 0 | BP2: =BK2 -> 1868 | BQ2: =COUNTIFS(DATA!$B:$B, 明治期!$A2, DATA!$G:$G, 明治期!BQ$1) -> 0 | BR2: =COUNTIFS(DATA!$B:$B, 明治期!$A2, DATA!$G:$G, 明治期!BR$1) -> 1 | BU2: =BP2 -> 1868 | BV2: =COUNTIFS(DATA!$B:$B, 明治期!$A2, DATA!$I:$I, 明治期!BV$1) -> 0 | BW2: =COUNTIFS(DATA!$B:$B, 明治期!$A2, DATA!$I:$I, 明治期!BW$1) -> 0 | BX2: =COUNTIFS(DATA!$B:$B, 明治期!$A2, DATA!$I:$I, 明治期!BX$1) -> 0 | BY2: =COUNTIFS(DATA!$B:$B, 明治期!$A2, DATA!$I:$I, 明治期!BY$1) -> 0 | BZ2: =COUNTIFS(DATA!$B:$B, 明治期!$A2, DATA!$I:$I, 明治期!BZ$1) -> 0 | CA2: =COUNTIFS(DATA!$B:$B, 明治期!$A2, DATA!$I:$I, 明治期!CA$1) -> 0 | CB2: =COUNTIFS(DATA!$B:$B, 明治期!$A2, DATA!$I:$I, 明治期!CB$1) -> 0 | CC2: =COUNTIFS(DATA!$B:$B, 明治期!$A2, DATA!$I:$I, 明治期!CC$1) -> 0 | ... CH2: =COUNTIFS(DATA!$B:$B, 明治期!$A2, DATA!$I:$I, 明治期!CH$1) -> 0
A3: =A2+1 -> 1869 | B3: =COUNTIFS(DATA!$B:$B, 明治期!$A3, DATA!$C:$C, 明治期!B$1) -> 0 | C3: =COUNTIFS(DATA!$B:$B, 明治期!$A3, DATA!$C:$C, 明治期!C$1) -> 0 | D3: =COUNTIFS(DATA!$B:$B, 明治期!$A3, DATA!$C:$C, 明治期!D$1) -> 0 | E3: =COUNTIFS(DATA!$B:$B, 明治期!$A3, DATA!$C:$C, 明治期!E$1) -> 0 | F3: =COUNTIFS(DATA!$B:$B, 明治期!$A3, DATA!$C:$C, 明治期!F$1) -> 0 | G3: =COUNTIFS(DATA!$B:$B, 明治期!$A3, DATA!$C:$C, 明治期!G$1) -> 0 | H3: =COUNTIFS(DATA!$B:$B, 明治期!$A3, DATA!$C:$C, 明治期!H$1) -> 0 | I3: =COUNTIFS(DATA!$B:$B, 明治期!$A3, DATA!$C:$C, 明治期!I$1) -> 0 | ... AX3: =COUNTIFS(DATA!$B:$B, 明治期!$A3, DATA!$C:$C, 明治期!AX$1) -> 0 | AZ3: =SUM(B3:L3) -> 0 | BD3: =A3 -> 1869 | BE3: =COUNTIFS(DATA!$B:$B, 明治期!$A3, DATA!$E:$E, 明治期!BE$1) -> 0 | BF3: =COUNTIFS(DATA!$B:$B, 明治期!$A3, DATA!$E:$E, 明治期!BF$1) -> 0 | BG3: =COUNTIFS(DATA!$B:$B, 明治期!$A3, DATA!$E:$E, 明治期!BG$1) -> 0 | BH3: =COUNTIFS(DATA!$B:$B, 明治期!$A3, DATA!$E:$E, 明治期!BH$1) -> 0 | BK3: =BD3 -> 1869 | BL3: =COUNTIFS(DATA!$B:$B, 明治期!$A3, DATA!$F:$F, 明治期!BL$1) -> 0 | BM3: =COUNTIFS(DATA!$B:$B, 明治期!$A3, DATA!$F:$F, 明治期!BM$1) -> 0 | BP3: =BK3 -> 1869 | BQ3: =COUNTIFS(DATA!$B:$B, 明治期!$A3, DATA!$G:$G, 明治期!BQ$1) -> 0 | BR3: =COUNTIFS(DATA!$B:$B, 明治期!$A3, DATA!$G:$G, 明治期!BR$1) -> 0 | BU3: =BP3 -> 1869 | BV3: =COUNTIFS(DATA!$B:$B, 明治期!$A3, DATA!$I:$I, 明治期!BV$1) -> 0 | BW3: =COUNTIFS(DATA!$B:$B, 明治期!$A3, DATA!$I:$I, 明治期!BW$1) -> 0 | BX3: =COUNTIFS(DATA!$B:$B, 明治期!$A3, DATA!$I:$I, 明治期!BX$1) -> 0 | BY3: =COUNTIFS(DATA!$B:$B, 明治期!$A3, DATA!$I:$I, 明治期!BY$1) -> 0 | BZ3: =COUNTIFS(DATA!$B:$B, 明治期!$A3, DATA!$I:$I, 明治期!BZ$1) -> 0 | CA3: =COUNTIFS(DATA!$B:$B, 明治期!$A3, DATA!$I:$I, 明治期!CA$1) -> 0 | CB3: =COUNTIFS(DATA!$B:$B, 明治期!$A3, DATA!$I:$I, 明治期!CB$1) -> 0 | CC3: =COUNTIFS(DATA!$B:$B, 明治期!$A3, DATA!$I:$I, 明治期!CC$1) -> 0 | ... CH3: =COUNTIFS(DATA!$B:$B, 明治期!$A3, DATA!$I:$I, 明治期!CH$1) -> 0
A4: =A3+1 -> 1870 | B4: =COUNTIFS(DATA!$B:$B, 明治期!$A4, DATA!$C:$C, 明治期!B$1) -> 0 | C4: =COUNTIFS(DATA!$B:$B, 明治期!$A4, DATA!$C:$C, 明治期!C$1) -> 0 | D4: =COUNTIFS(DATA!$B:$B, 明治期!$A4, DATA!$C:$C, 明治期!D$1) -> 0 | E4: =COUNTIFS(DATA!$B:$B, 明治期!$A4, DATA!$C:$C, 明治期!E$1) -> 0 | F4: =COUNTIFS(DATA!$B:$B, 明治期!$A4, DATA!$C:$C, 明治期!F$1) -> 0 | G4: =COUNTIFS(DATA!$B:$B, 明治期!$A4, DATA!$C:$C, 明治期!G$1) -> 0 | H4: =COUNTIFS(DATA!$B:$B, 明治期!$A4, DATA!$C:$C, 明治期!H$1) -> 0 | I4: =COUNTIFS(DATA!$B:$B, 明治期!$A4, DATA!$C:$C, 明治期!I$1) -> 0 | ... AX4: =COUNTIFS(DATA!$B:$B, 明治期!$A4, DATA!$C:$C, 明治期!AX$1) -> 0 | AZ4: =SUM(B4:L4) -> 0 | BD4: =A4 -> 1870 | BE4: =COUNTIFS(DATA!$B:$B, 明治期!$A4, DATA!$E:$E, 明治期!BE$1) -> 0 | BF4: =COUNTIFS(DATA!$B:$B, 明治期!$A4, DATA!$E:$E, 明治期!BF$1) -> 0 | BG4: =COUNTIFS(DATA!$B:$B, 明治期!$A4, DATA!$E:$E, 明治期!BG$1) -> 0 | BH4: =COUNTIFS(DATA!$B:$B, 明治期!$A4, DATA!$E:$E, 明治期!BH$1) -> 0 | BK4: =BD4 -> 1870 | BL4: =COUNTIFS(DATA!$B:$B, 明治期!$A4, DATA!$F:$F, 明治期!BL$1) -> 0 | BM4: =COUNTIFS(DATA!$B:$B, 明治期!$A4, DATA!$F:$F, 明治期!BM$1) -> 0 | BP4: =BK4 -> 1870 | BQ4: =COUNTIFS(DATA!$B:$B, 明治期!$A4, DATA!$G:$G, 明治期!BQ$1) -> 0 | BR4: =COUNTIFS(DATA!$B:$B, 明治期!$A4, DATA!$G:$G, 明治期!BR$1) -> 0 | BU4: =BP4 -> 1870 | BV4: =COUNTIFS(DATA!$B:$B, 明治期!$A4, DATA!$I:$I, 明治期!BV$1) -> 0 | BW4: =COUNTIFS(DATA!$B:$B, 明治期!$A4, DATA!$I:$I, 明治期!BW$1) -> 0 | BX4: =COUNTIFS(DATA!$B:$B, 明治期!$A4, DATA!$I:$I, 明治期!BX$1) -> 0 | BY4: =COUNTIFS(DATA!$B:$B, 明治期!$A4, DATA!$I:$I, 明治期!BY$1) -> 0 | BZ4: =COUNTIFS(DATA!$B:$B, 明治期!$A4, DATA!$I:$I, 明治期!BZ$1) -> 0 | CA4: =COUNTIFS(DATA!$B:$B, 明治期!$A4, DATA!$I:$I, 明治期!CA$1) -> 0 | CB4: =COUNTIFS(DATA!$B:$B, 明治期!$A4, DATA!$I:$I, 明治期!CB$1) -> 0 | CC4: =COUNTIFS(DATA!$B:$B, 明治期!$A4, DATA!$I:$I, 明治期!CC$1) -> 0 | ... CH4: =COUNTIFS(DATA!$B:$B, 明治期!$A4, DATA!$I:$I, 明治期!CH$1) -> 0
A5: =A4+1 -> 1871 | B5: =COUNTIFS(DATA!$B:$B, 明治期!$A5, DATA!$C:$C, 明治期!B$1) -> 0 | C5: =COUNTIFS(DATA!$B:$B, 明治期!$A5, DATA!$C:$C, 明治期!C$1) -> 0 | D5: =COUNTIFS(DATA!$B:$B, 明治期!$A5, DATA!$C:$C, 明治期!D$1) -> 0 | E5: =COUNTIFS(DATA!$B:$B, 明治期!$A5, DATA!$C:$C, 明治期!E$1) -> 0 | F5: =COUNTIFS(DATA!$B:$B, 明治期!$A5, DATA!$C:$C, 明治期!F$1) -> 0 | G5: =COUNTIFS(DATA!$B:$B, 明治期!$A5, DATA!$C:$C, 明治期!G$1) -> 0 | H5: =COUNTIFS(DATA!$B:$B, 明治期!$A5, DATA!$C:$C, 明治期!H$1) -> 0 | I5: =COUNTIFS(DATA!$B:$B, 明治期!$A5, DATA!$C:$C, 明治期!I$1) -> 0 | ... AX5: =COUNTIFS(DATA!$B:$B, 明治期!$A5, DATA!$C:$C, 明治期!AX$1) -> 0 | AZ5: =SUM(B5:L5) -> 0 | BD5: =A5 -> 1871 | BE5: =COUNTIFS(DATA!$B:$B, 明治期!$A5, DATA!$E:$E, 明治期!BE$1) -> 0 | BF5: =COUNTIFS(DATA!$B:$B, 明治期!$A5, DATA!$E:$E, 明治期!BF$1) -> 0 | BG5: =COUNTIFS(DATA!$B:$B, 明治期!$A5, DATA!$E:$E, 明治期!BG$1) -> 0 | BH5: =COUNTIFS(DATA!$B:$B, 明治期!$A5, DATA!$E:$E, 明治期!BH$1) -> 0 | BK5: =BD5 -> 1871 | BL5: =COUNTIFS(DATA!$B:$B, 明治期!$A5, DATA!$F:$F, 明治期!BL$1) -> 0 | BM5: =COUNTIFS(DATA!$B:$B, 明治期!$A5, DATA!$F:$F, 明治期!BM$1) -> 0 | BP5: =BK5 -> 1871 | BQ5: =COUNTIFS(DATA!$B:$B, 明治期!$A5, DATA!$G:$G, 明治期!BQ$1) -> 0 | BR5: =COUNTIFS(DATA!$B:$B, 明治期!$A5, DATA!$G:$G, 明治期!BR$1) -> 0 | BU5: =BP5 -> 1871 | BV5: =COUNTIFS(DATA!$B:$B, 明治期!$A5, DATA!$I:$I, 明治期!BV$1) -> 0 | BW5: =COUNTIFS(DATA!$B:$B, 明治期!$A5, DATA!$I:$I, 明治期!BW$1) -> 0 | BX5: =COUNTIFS(DATA!$B:$B, 明治期!$A5, DATA!$I:$I, 明治期!BX$1) -> 0 | BY5: =COUNTIFS(DATA!$B:$B, 明治期!$A5, DATA!$I:$I, 明治期!BY$1) -> 0 | BZ5: =COUNTIFS(DATA!$B:$B, 明治期!$A5, DATA!$I:$I, 明治期!BZ$1) -> 0 | CA5: =COUNTIFS(DATA!$B:$B, 明治期!$A5, DATA!$I:$I, 明治期!CA$1) -> 0 | CB5: =COUNTIFS(DATA!$B:$B, 明治期!$A5, DATA!$I:$I, 明治期!CB$1) -> 0 | CC5: =COUNTIFS(DATA!$B:$B, 明治期!$A5, DATA!$I:$I, 明治期!CC$1) -> 0 | ... CH5: =COUNTIFS(DATA!$B:$B, 明治期!$A5, DATA!$I:$I, 明治期!CH$1) -> 0
