Workbook

Sheet DATA
A1: TITLE | B1: PUBLICATION YEAR | C1: TRANSLATOR | D1: TEXT NUMBER | E1: TEXT TYPE | F1: TRANSLATOR TYPE | G1: GENDER | H1: CODE | I1: SOURCE LANGUAGE | J1: NOTES
A2: アンドレアス・タアマイエルが遺書 | B2: 1908 | C2: Mori Ogai | D2: 1 | E2: Direct Translation | F2: =IFERROR(VLOOKUP(C2, TRANSLATORS!A:C, 2, FALSE), "") -> Famous | G2: =IFERROR(VLOOKUP(C2, TRANSLATORS!A:C, 3, FALSE), "") -> 男 | H2: =IFERROR(CONCATENATE(VLOOKUP(E2,CATEGORIES!A:B,2,FALSE),(VLOOKUP(F2,CATEGORIES!E:F,2,FALSE)), VLOOKUP(G2, CATEGORIES!I:J, 2, FALSE), D2), "") -> DFM1 | I2: German
A3: うづしほ | B3: 1910 | C3: Mori Ogai | D3: =IF(C3<>"", D2+1, "") -> 2 | E3: Direct Translation | F3: =IFERROR(VLOOKUP(C3, TRANSLATORS!A:C, 2, FALSE), "") -> Famous | G3: =IFERROR(VLOOKUP(C3, TRANSLATORS!A:C, 3, FALSE), "") -> 男 | H3: =IFERROR(CONCATENATE(VLOOKUP(E3,CATEGORIES!A:B,2,FALSE),(VLOOKUP(F3,CATEGORIES!E:F,2,FALSE)), VLOOKUP(G3, CATEGORIES!I:J, 2, FALSE), D3), "") -> DFM2 | I3: English
A4: クサンチス | B4: 1911 | C4: Mori Ogai | D4: =IF(C4<>"", D3+1, "") -> 3 | E4: Direct Translation | F4: =IFERROR(VLOOKUP(C4, TRANSLATORS!A:C, 2, FALSE), "") -> Famous | G4: =IFERROR(VLOOKUP(C4, TRANSLATORS!A:C, 3, FALSE), "") -> 男 | H4: =IFERROR(CONCATENATE(VLOOKUP(E4,CATEGORIES!A:B,2,FALSE),(VLOOKUP(F4,CATEGORIES!E:F,2,FALSE)), VLOOKUP(G4, CATEGORIES!I:J, 2, FALSE), D4), "") -> DFM3 | I4: French
A5: みれん | B5: 1912 | C5: Mori Ogai | D5: =IF(C5<>"", D4+1, "") -> 4 | E5: Direct Translation | F5: =IFERROR(VLOOKUP(C5, TRANSLATORS!A:C, 2, FALSE), "") -> Famous | G5: =IFERROR(VLOOKUP(C5, TRANSLATORS!A:C, 3, FALSE), "") -> 男 | H5: =IFERROR(CONCATENATE(VLOOKUP(E5,CATEGORIES!A:B,2,FALSE),(VLOOKUP(F5,CATEGORIES!E:F,2,FALSE)), VLOOKUP(G5, CATEGORIES!I:J, 2, FALSE), D5), "") -> DFM4 | I5: German
A6: 一人舞台 | C6: Mori Ogai | D6: =IF(C6<>"", D5+1, "") -> 5 | E6: Direct Translation | F6: =IFERROR(VLOOKUP(C6, TRANSLATORS!A:C, 2, FALSE), "") -> Famous | G6: =IFERROR(VLOOKUP(C6, TRANSLATORS!A:C, 3, FALSE), "") -> 男 | H6: =IFERROR(CONCATENATE(VLOOKUP(E6,CATEGORIES!A:B,2,FALSE),(VLOOKUP(F6,CATEGORIES!E:F,2,FALSE)), VLOOKUP(G6, CATEGORIES!I:J, 2, FALSE), D6), "") -> DFM5 | I6: Swedish
A7: 不可説 | B7: 1912 | C7: Mori Ogai | D7: =IF(C7<>"", D6+1, "") -> 6 | E7: Direct Translation | F7: =IFERROR(VLOOKUP(C7, TRANSLATORS!A:C, 2, FALSE), "") -> Famous | G7: =IFERROR(VLOOKUP(C7, TRANSLATORS!A:C, 3, FALSE), "") -> 男 | H7: =IFERROR(CONCATENATE(VLOOKUP(E7,CATEGORIES!A:B,2,FALSE),(VLOOKUP(F7,CATEGORIES!E:F,2,FALSE)), VLOOKUP(G7, CATEGORIES!I:J, 2, FALSE), D7), "") -> DFM6 | I7: French
A8: 世界漫遊 | C8: Mori Ogai | D8: =IF(C8<>"", D7+1, "") -> 7 | E8: Direct Translation | F8: =IFERROR(VLOOKUP(C8, TRANSLATORS!A:C, 2, FALSE), "") -> Famous | G8: =IFERROR(VLOOKUP(C8, TRANSLATORS!A:C, 3, FALSE), "") -> 男 | H8: =IFERROR(CONCATENATE(VLOOKUP(E8,CATEGORIES!A:B,2,FALSE),(VLOOKUP(F8,CATEGORIES!E:F,2,FALSE)), VLOOKUP(G8, CATEGORIES!I:J, 2, FALSE), D8), "") -> DFM7 | I8: German
A9: 冬の王 | B9: 1912 | C9: Mori Ogai | D9: =IF(C9<>"", D8+1, "") -> 8 | E9: Direct Translation | F9: =IFERROR(VLOOKUP(C9, TRANSLATORS!A:C, 2, FALSE), "") -> Famous | G9: =IFERROR(VLOOKUP(C9, TRANSLATORS!A:C, 3, FALSE), "") -> 男 | H9: =IFERROR(CONCATENATE(VLOOKUP(E9,CATEGORIES!A:B,2,FALSE),(VLOOKUP(F9,CATEGORIES!E:F,2,FALSE)), VLOOKUP(G9, CATEGORIES!I:J, 2, FALSE), D9), "") -> DFM8 | I9: German
A10: 即興詩人 | B10: 1892 | C10: Mori Ogai | D10: =IF(C10<>"", D9+1, "") -> 9 | E10: Indirect Translation | F10: =IFERROR(VLOOKUP(C10, TRANSLATORS!A:C, 2, FALSE), "") -> Famous | G10: =IFERROR(VLOOKUP(C10, TRANSLATORS!A:C, 3, FALSE), "") -> 男 | H10: =IFERROR(CONCATENATE(VLOOKUP(E10,CATEGORIES!A:B,2,FALSE),(VLOOKUP(F10,CATEGORIES!E:F,2,FALSE)), VLOOKUP(G10, CATEGORIES!I:J, 2, FALSE), D10), "") -> IFM9 | I10: Danish
A11: 女の決闘 | C11: Mori Ogai | D11: =IF(C11<>"", D10+1, "") -> 10 | E11: Direct Translation | F11: =IFERROR(VLOOKUP(C11, TRANSLATORS!A:C, 2, FALSE), "") -> Famous | G11: =IFERROR(VLOOKUP(C11, TRANSLATORS!A:C, 3, FALSE), "") -> 男 | H11: =IFERROR(CONCATENATE(VLOOKUP(E11,CATEGORIES!A:B,2,FALSE),(VLOOKUP(F11,CATEGORIES!E:F,2,FALSE)), VLOOKUP(G11, CATEGORIES!I:J, 2, FALSE), D11), "") -> DFM10 | I11: German
A12: 新浦島 | B12: 1889 | C12: Mori Ogai | D12: =IF(C12<>"", D11+1, "") -> 11 | E12: Direct Translation | F12: =IFERROR(VLOOKUP(C12, TRANSLATORS!A:C, 2, FALSE), "") -> Famous | G12: =IFERROR(VLOOKUP(C12, TRANSLATORS!A:C, 3, FALSE), "") -> 男 | H12: =IFERROR(CONCATENATE(VLOOKUP(E12,CATEGORIES!A:B,2,FALSE),(VLOOKUP(F12,CATEGORIES!E:F,2,FALSE)), VLOOKUP(G12, CATEGORIES!I:J, 2, FALSE), D12), "") -> DFM11 | I12: English
A13: 最終の午後 | C13: Mori Ogai | D13: =IF(C13<>"", D12+1, "") -> 12 | E13: Direct Translation | F13: =IFERROR(VLOOKUP(C13, TRANSLATORS!A:C, 2, FALSE), "") -> Famous | G13: =IFERROR(VLOOKUP(C13, TRANSLATORS!A:C, 3, FALSE), "") -> 男 | H13: =IFERROR(CONCATENATE(VLOOKUP(E13,CATEGORIES!A:B,2,FALSE),(VLOOKUP(F13,CATEGORIES!E:F,2,FALSE)), VLOOKUP(G13, CATEGORIES!I:J, 2, FALSE), D13), "") -> DFM12 | I13: German
A14: 板ばさみ | B14: 1911 | C14: Mori Ogai | D14: =IF(C14<>"", D13+1, "") -> 13 | E14: Indirect Translation | F14: =IFERROR(VLOOKUP(C14, TRANSLATORS!A:C, 2, FALSE), "") -> Famous | G14: =IFERROR(VLOOKUP(C14, TRANSLATORS!A:C, 3, FALSE), "") -> 男 | H14: =IFERROR(CONCATENATE(VLOOKUP(E14,CATEGORIES!A:B,2,FALSE),(VLOOKUP(F14,CATEGORIES!E:F,2,FALSE)), VLOOKUP(G14, CATEGORIES!I:J, 2, FALSE), D14), "") -> IFM13 | I14: Russian
A15: 樺太脱獄記 | B15: 1912 | C15: Mori Ogai | D15: =IF(C15<>"", D14+1, "") -> 14 | E15: Indirect Translation | F15: =IFERROR(VLOOKUP(C15, TRANSLATORS!A:C, 2, FALSE), "") -> Famous | G15: =IFERROR(VLOOKUP(C15, TRANSLATORS!A:C, 3, FALSE), "") -> 男 | H15: =IFERROR(CONCATENATE(VLOOKUP(E15,CATEGORIES!A:B,2,FALSE),(VLOOKUP(F15,CATEGORIES!E:F,2,FALSE)), VLOOKUP(G15, CATEGORIES!I:J, 2, FALSE), D15), "") -> IFM14 | I15: Russian
A16: 橋の下 | C16: Mori Ogai | D16: =IF(C16<>"", D15+1, "") -> 15 | E16: Direct Translation | F16: =IFERROR(VLOOKUP(C16, TRANSLATORS!A:C, 2, FALSE), "") -> Famous | G16: =IFERROR(VLOOKUP(C16, TRANSLATORS!A:C, 3, FALSE), "") -> 男 | H16: =IFERROR(CONCATENATE(VLOOKUP(E16,CATEGORIES!A:B,2,FALSE),(VLOOKUP(F16,CATEGORIES!E:F,2,FALSE)), VLOOKUP(G16, CATEGORIES!I:J, 2, FALSE), D16), "") -> DFM15 | I16: French
A17: 死 | B17: 1910 | C17: Mori Ogai | D17: =IF(C17<>"", D16+1, "") -> 16 | E17: Indirect Translation | F17: =IFERROR(VLOOKUP(C17, TRANSLATORS!A:C, 2, FALSE), "") -> Famous | G17: =IFERROR(VLOOKUP(C17, TRANSLATORS!A:C, 3, FALSE), "") -> 男 | H17: =IFERROR(CONCATENATE(VLOOKUP(E17,CATEGORIES!A:B,2,FALSE),(VLOOKUP(F17,CATEGORIES!E:F,2,FALSE)), VLOOKUP(G17, CATEGORIES!I:J, 2, FALSE), D17), "") -> IFM16 | I17: Russian
A18: 犬 | C18: Mori Ogai | D18: =IF(C18<>"", D17+1, "") -> 17 | E18: Indirect Translation | F18: =IFERROR(VLOOKUP(C18, TRANSLATORS!A:C, 2, FALSE), "") -> Famous | G18: =IFERROR(VLOOKUP(C18, TRANSLATORS!A:C, 3, FALSE), "") -> 男 | H18: =IFERROR(CONCATENATE(VLOOKUP(E18,CATEGORIES!A:B,2,FALSE),(VLOOKUP(F18,CATEGORIES!E:F,2,FALSE)), VLOOKUP(G18, CATEGORIES!I:J, 2, FALSE), D18), "") -> IFM17 | I18: Russian
A19: 田舎 | C19: Mori Ogai | D19: =IF(C19<>"", D18+1, "") -> 18 | E19: Direct Translation | F19: =IFERROR(VLOOKUP(C19, TRANSLATORS!A:C, 2, FALSE), "") -> Famous | G19: =IFERROR(VLOOKUP(C19, TRANSLATORS!A:C, 3, FALSE), "") -> 男 | H19: =IFERROR(CONCATENATE(VLOOKUP(E19,CATEGORIES!A:B,2,FALSE),(VLOOKUP(F19,CATEGORIES!E:F,2,FALSE)), VLOOKUP(G19, CATEGORIES!I:J, 2, FALSE), D19), "") -> DFM18 | I19: French
A20: 痴人と死と | C20: Mori Ogai | D20: =IF(C20<>"", D19+1, "") -> 19 | E20: Direct Translation | F20: =IFERROR(VLOOKUP(C20, TRANSLATORS!A:C, 2, FALSE), "") -> Famous | G20: =IFERROR(VLOOKUP(C20, TRANSLATORS!A:C, 3, FALSE), "") -> 男 | H20: =IFERROR(CONCATENATE(VLOOKUP(E20,CATEGORIES!A:B,2,FALSE),(VLOOKUP(F20,CATEGORIES!E:F,2,FALSE)), VLOOKUP(G20, CATEGORIES!I:J, 2, FALSE), D20), "") -> DFM19 | I20: German
A21: 破落戸の昇天 | C21: Mori Ogai | D21: =IF(C21<>"", D20+1, "") -> 20 | E21: Direct Translation | F21: =IFERROR(VLOOKUP(C21, TRANSLATORS!A:C, 2, FALSE), "") -> Famous | G21: =IFERROR(VLOOKUP(C21, TRANSLATORS!A:C, 3, FALSE), "") -> 男 | H21: =IFERROR(CONCATENATE(VLOOKUP(E21,CATEGORIES!A:B,2,FALSE),(VLOOKUP(F21,CATEGORIES!E:F,2,FALSE)), VLOOKUP(G21, CATEGORIES!I:J, 2, FALSE), D21), "") -> DFM20 | I21: German
A22: 祭日 | B22: 1912 | C22: Mori Ogai | D22: =IF(C22<>"", D21+1, "") -> 21 | E22: Direct Translation | F22: =IFERROR(VLOOKUP(C22, TRANSLATORS!A:C, 2, FALSE), "") -> Famous | G22: =IFERROR(VLOOKUP(C22, TRANSLATORS!A:C, 3, FALSE), "") -> 男 | H22: =IFERROR(CONCATENATE(VLOOKUP(E22,CATEGORIES!A:B,2,FALSE),(VLOOKUP(F22,CATEGORIES!E:F,2,FALSE)), VLOOKUP(G22, CATEGORIES!I:J, 2, FALSE), D22), "") -> DFM21 | I22: German
A23: 笑 | B23: 1910 | C23: Mori Ogai | D23: =IF(C23<>"", D22+1, "") -> 22 | E23: Indirect Translation | F23: =IFERROR(VLOOKUP(C23, TRANSLATORS!A:C, 2, FALSE), "") -> Famous | G23: =IFERROR(VLOOKUP(C23, TRANSLATORS!A:C, 3, FALSE), "") -> 男 | H23: =IFERROR(CONCATENATE(VLOOKUP(E23,CATEGORIES!A:B,2,FALSE),(VLOOKUP(F23,CATEGORIES!E:F,2,FALSE)), VLOOKUP(G23, CATEGORIES!I:J, 2, FALSE), D23), "") -> IFM22 | I23: Russian
A24: 罪人 | B24: 1910 | C24: Mori Ogai | D24: =IF(C24<>"", D23+1, "") -> 23 | E24: Indirect Translation | F24: =IFERROR(VLOOKUP(C24, TRANSLATORS!A:C, 2, FALSE), "") -> Famous | G24: =IFERROR(VLOOKUP(C24, TRANSLATORS!A:C, 3, FALSE), "") -> 男 | H24: =IFERROR(CONCATENATE(VLOOKUP(E24,CATEGORIES!A:B,2,FALSE),(VLOOKUP(F24,CATEGORIES!E:F,2,FALSE)), VLOOKUP(G24, CATEGORIES!I:J, 2, FALSE), D24), "") -> IFM23 | I24: Russian
A25: 薔薇 | B25: 1911 | C25: Mori Ogai | D25: =IF(C25<>"", D24+1, "") -> 24 | E25: Indirect Translation | F25: =IFERROR(VLOOKUP(C25, TRANSLATORS!A:C, 2, FALSE), "") -> Famous | G25: =IFERROR(VLOOKUP(C25, TRANSLATORS!A:C, 3, FALSE), "") -> 男 | H25: =IFERROR(CONCATENATE(VLOOKUP(E25,CATEGORIES!A:B,2,FALSE),(VLOOKUP(F25,CATEGORIES!E:F,2,FALSE)), VLOOKUP(G25, CATEGORIES!I:J, 2, FALSE), D25), "") -> IFM24 | I25: Danish
A26: 辻馬車 | C26: Mori Ogai | D26: =IF(C26<>"", D25+1, "") -> 25 | E26: Direct Translation | F26: =IFERROR(VLOOKUP(C26, TRANSLATORS!A:C, 2, FALSE), "") -> Famous | G26: =IFERROR(VLOOKUP(C26, TRANSLATORS!A:C, 3, FALSE), "") -> 男 | H26: =IFERROR(CONCATENATE(VLOOKUP(E26,CATEGORIES!A:B,2,FALSE),(VLOOKUP(F26,CATEGORIES!E:F,2,FALSE)), VLOOKUP(G26, CATEGORIES!I:J, 2, FALSE), D26), "") -> DFM25 | I26: German
A27: 釣 | B27: 1910 | C27: Mori Ogai | D27: =IF(C27<>"", D26+1, "") -> 26 | E27: Direct Translation | F27: =IFERROR(VLOOKUP(C27, TRANSLATORS!A:C, 2, FALSE), "") -> Famous | G27: =IFERROR(VLOOKUP(C27, TRANSLATORS!A:C, 3, FALSE), "") -> 男 | H27: =IFERROR(CONCATENATE(VLOOKUP(E27,CATEGORIES!A:B,2,FALSE),(VLOOKUP(F27,CATEGORIES!E:F,2,FALSE)), VLOOKUP(G27, CATEGORIES!I:J, 2, FALSE), D27), "") -> DFM26 | I27: German
A28: 鰐 | B28: 1912 | C28: Mori Ogai | D28: =IF(C28<>"", D27+1, "") -> 27 | E28: Indirect Translation | F28: =IFERROR(VLOOKUP(C28, TRANSLATORS!A:C, 2, FALSE), "") -> Famous | G28: =IFERROR(VLOOKUP(C28, TRANSLATORS!A:C, 3, FALSE), "") -> 男 | H28: =IFERROR(CONCATENATE(VLOOKUP(E28,CATEGORIES!A:B,2,FALSE),(VLOOKUP(F28,CATEGORIES!E:F,2,FALSE)), VLOOKUP(G28, CATEGORIES!I:J, 2, FALSE), D28), "") -> IFM27 | I28: Russian
A29: 鴉 | B29: 1910 | C29: Mori Ogai | D29: =IF(C29<>"", D28+1, "") -> 28 | E29: Direct Translation | F29: =IFERROR(VLOOKUP(C29, TRANSLATORS!A:C, 2, FALSE), "") -> Famous | G29: =IFERROR(VLOOKUP(C29, TRANSLATORS!A:C, 3, FALSE), "") -> 男 | H29: =IFERROR(CONCATENATE(VLOOKUP(E29,CATEGORIES!A:B,2,FALSE),(VLOOKUP(F29,CATEGORIES!E:F,2,FALSE)), VLOOKUP(G29, CATEGORIES!I:J, 2, FALSE), D29), "") -> DFM28 | I29: German
A30: 襟 | C30: Mori Ogai | D30: =IF(C30<>"", D29+1, "") -> 29 | E30: Indirect Translation | F30: =IFERROR(VLOOKUP(C30, TRANSLATORS!A:C, 2, FALSE), "") -> Famous | G30: =IFERROR(VLOOKUP(C30, TRANSLATORS!A:C, 3, FALSE), "") -> 男 | H30: =IFERROR(CONCATENATE(VLOOKUP(E30,CATEGORIES!A:B,2,FALSE),(VLOOKUP(F30,CATEGORIES!E:F,2,FALSE)), VLOOKUP(G30, CATEGORIES!I:J, 2, FALSE), D30), "") -> IFM29 | I30: Russian
A31: 家常茶飯 | C31: Mori Ogai | D31: =IF(C31<>"", D30+1, "") -> 30 | E31: Direct Translation | F31: =IFERROR(VLOOKUP(C31, TRANSLATORS!A:C, 2, FALSE), "") -> Famous | G31: =IFERROR(VLOOKUP(C31, TRANSLATORS!A:C, 3, FALSE), "") -> 男 | H31: =IFERROR(CONCATENATE(VLOOKUP(E31,CATEGORIES!A:B,2,FALSE),(VLOOKUP(F31,CATEGORIES!E:F,2,FALSE)), VLOOKUP(G31, CATEGORIES!I:J, 2, FALSE), D31), "") -> DFM30 | I31: German
A32: 白 | C32: Mori Ogai | D32: =IF(C32<>"", D31+1, "") -> 31 | E32: Direct Translation | F32: =IFERROR(VLOOKUP(C32, TRANSLATORS!A:C, 2, FALSE), "") -> Famous | G32: =IFERROR(VLOOKUP(C32, TRANSLATORS!A:C, 3, FALSE), "") -> 男 | H32: =IFERROR(CONCATENATE(VLOOKUP(E32,CATEGORIES!A:B,2,FALSE),(VLOOKUP(F32,CATEGORIES!E:F,2,FALSE)), VLOOKUP(G32, CATEGORIES!I:J, 2, FALSE), D32), "") -> DFM31 | I32: German
A33: 駆落 | B33: 1912 | C33: Mori Ogai | D33: =IF(C33<>"", D32+1, "") -> 32 | E33: Direct Translation | F33: =IFERROR(VLOOKUP(C33, TRANSLATORS!A:C, 2, FALSE), "") -> Famous | G33: =IFERROR(VLOOKUP(C33, TRANSLATORS!A:C, 3, FALSE), "") -> 男 | H33: =IFERROR(CONCATENATE(VLOOKUP(E33,CATEGORIES!A:B,2,FALSE),(VLOOKUP(F33,CATEGORIES!E:F,2,FALSE)), VLOOKUP(G33, CATEGORIES!I:J, 2, FALSE), D33), "") -> DFM32 | I33: German
A34: 糸くず | B34: 1898 | C34: Kunikida Doppo | D34: =IF(C34<>"", D33+1, "") -> 33 | E34: Indirect Translation | F34: =IFERROR(VLOOKUP(C34, TRANSLATORS!A:C, 2, FALSE), "") -> Famous | G34: =IFERROR(VLOOKUP(C34, TRANSLATORS!A:C, 3, FALSE), "") -> 男 | H34: =IFERROR(CONCATENATE(VLOOKUP(E34,CATEGORIES!A:B,2,FALSE),(VLOOKUP(F34,CATEGORIES!E:F,2,FALSE)), VLOOKUP(G34, CATEGORIES!I:J, 2, FALSE), D34), "") -> IFM33 | J34: Ignore this. The same text can be found in 130.
A35: ロミオとヂュリエット | B35: 1910 | C35: Tsubouchi Shōyō | D35: =IF(C35<>"", D34+1, "") -> 34 | E35: Direct Translation | F35: =IFERROR(VLOOKUP(C35, TRANSLATORS!A:C, 2, FALSE), "") -> Famous | G35: =IFERROR(VLOOKUP(C35, TRANSLATORS!A:C, 3, FALSE), "") -> 男 | H35: =IFERROR(CONCATENATE(VLOOKUP(E35,CATEGORIES!A:B,2,FALSE),(VLOOKUP(F35,CATEGORIES!E:F,2,FALSE)), VLOOKUP(G35, CATEGORIES!I:J, 2, FALSE), D35), "") -> DFM34 | I35: English | J35: seems to be missing
A36: パスカルの言葉 | C36: Shimazaki Tōson | D36: =IF(C36<>"", D35+1, "") -> 35 | E36: Direct Translation | F36: =IFERROR(VLOOKUP(C36, TRANSLATORS!A:C, 2, FALSE), "") -> Famous | G36: =IFERROR(VLOOKUP(C36, TRANSLATORS!A:C, 3, FALSE), "") -> 男 | H36: =IFERROR(CONCATENATE(VLOOKUP(E36,CATEGORIES!A:B,2,FALSE),(VLOOKUP(F36,CATEGORIES!E:F,2,FALSE)), VLOOKUP(G36, CATEGORIES!I:J, 2, FALSE), D36), "") -> DFM35 | I36: French | J36: seems to be missing
A37: Resignation の説 | B37: 1909 | C37: Mori Ogai | D37: =IF(C37<>"", D36+1, "") -> 36 | E37: Non-translation | F37: =IFERROR(VLOOKUP(C37, TRANSLATORS!A:C, 2, FALSE), "") -> Famous | G37: =IFERROR(VLOOKUP(C37, TRANSLATORS!A:C, 3, FALSE), "") -> 男 | H37: =IFERROR(CONCATENATE(VLOOKUP(E37,CATEGORIES!A:B,2,FALSE),(VLOOKUP(F37,CATEGORIES!E:F,2,FALSE)), VLOOKUP(G37, CATEGORIES!I:J, 2, FALSE), D37), "") -> NFM36
A38: あそび | B38: 1910 | C38: Mori Ogai | D38: =IF(C38<>"", D37+1, "") -> 37 | E38: Non-translation | F38: =IFERROR(VLOOKUP(C38, TRANSLATORS!A:C, 2, FALSE), "") -> Famous | G38: =IFERROR(VLOOKUP(C38, TRANSLATORS!A:C, 3, FALSE), "") -> 男 | H38: =IFERROR(CONCATENATE(VLOOKUP(E38,CATEGORIES!A:B,2,FALSE),(VLOOKUP(F38,CATEGORIES!E:F,2,FALSE)), VLOOKUP(G38, CATEGORIES!I:J, 2, FALSE), D38), "") -> NFM37
A39: うたかたの記 | B39: 1890 | C39: Mori Ogai | D39: =IF(C39<>"", D38+1, "") -> 38 | E39: Non-translation | F39: =IFERROR(VLOOKUP(C39, TRANSLATORS!A:C, 2, FALSE), "") -> Famous | G39: =IFERROR(VLOOKUP(C39, TRANSLATORS!A:C, 3, FALSE), "") -> 男 | H39: =IFERROR(CONCATENATE(VLOOKUP(E39,CATEGORIES!A:B,2,FALSE),(VLOOKUP(F39,CATEGORIES!E:F,2,FALSE)), VLOOKUP(G39, CATEGORIES!I:J, 2, FALSE), D39), "") -> NFM38
A40: カズイスチカ | B40: 1911 | C40: Mori Ogai | D40: =IF(C40<>"", D39+1, "") -> 39 | E40: Non-translation | F40: =IFERROR(VLOOKUP(C40, TRANSLATORS!A:C, 2, FALSE), "") -> Famous | G40: =IFERROR(VLOOKUP(C40, TRANSLATORS!A:C, 3, FALSE), "") -> 男 | H40: =IFERROR(CONCATENATE(VLOOKUP(E40,CATEGORIES!A:B,2,FALSE),(VLOOKUP(F40,CATEGORIES!E:F,2,FALSE)), VLOOKUP(G40, CATEGORIES!I:J, 2, FALSE), D40), "") -> NFM39
A41: かのように | B41: 1912 | C41: Mori Ogai | D41: =IF(C41<>"", D40+1, "") -> 40 | E41: Non-translation | F41: =IFERROR(VLOOKUP(C41, TRANSLATORS!A:C, 2, FALSE), "") -> Famous | G41: =IFERROR(VLOOKUP(C41, TRANSLATORS!A:C, 3, FALSE), "") -> 男 | H41: =IFERROR(CONCATENATE(VLOOKUP(E41,CATEGORIES!A:B,2,FALSE),(VLOOKUP(F41,CATEGORIES!E:F,2,FALSE)), VLOOKUP(G41, CATEGORIES!I:J, 2, FALSE), D41), "") -> NFM40
A42: そめちがへ | B42: 1897 | C42: Mori Ogai | D42: =IF(C42<>"", D41+1, "") -> 41 | E42: Non-translation | F42: =IFERROR(VLOOKUP(C42, TRANSLATORS!A:C, 2, FALSE), "") -> Famous | G42: =IFERROR(VLOOKUP(C42, TRANSLATORS!A:C, 3, FALSE), "") -> 男 | H42: =IFERROR(CONCATENATE(VLOOKUP(E42,CATEGORIES!A:B,2,FALSE),(VLOOKUP(F42,CATEGORIES!E:F,2,FALSE)), VLOOKUP(G42, CATEGORIES!I:J, 2, FALSE), D42), "") -> NFM41
A43: みちの記 | B43: 1890 | C43: Mori Ogai | D43: =IF(C43<>"", D42+1, "") -> 42 | E43: Non-translation | F43: =IFERROR(VLOOKUP(C43, TRANSLATORS!A:C, 2, FALSE), "") -> Famous | G43: =IFERROR(VLOOKUP(C43, TRANSLATORS!A:C, 3, FALSE), "") -> 男 | H43: =IFERROR(CONCATENATE(VLOOKUP(E43,CATEGORIES!A:B,2,FALSE),(VLOOKUP(F43,CATEGORIES!E:F,2,FALSE)), VLOOKUP(G43, CATEGORIES!I:J, 2, FALSE), D43), "") -> NFM42
A44: ロビンソン・クルソオ | B44: 1911 | C44: Mori Ogai | D44: =IF(C44<>"", D43+1, "") -> 43 | E44: Non-translation | F44: =IFERROR(VLOOKUP(C44, TRANSLATORS!A:C, 2, FALSE), "") -> Famous | G44: =IFERROR(VLOOKUP(C44, TRANSLATORS!A:C, 3, FALSE), "") -> 男 | H44: =IFERROR(CONCATENATE(VLOOKUP(E44,CATEGORIES!A:B,2,FALSE),(VLOOKUP(F44,CATEGORIES!E:F,2,FALSE)), VLOOKUP(G44, CATEGORIES!I:J, 2, FALSE), D44), "") -> NFM43
A45: ヰタ・セクスアリス | B45: 1909 | C45: Mori Ogai | D45: =IF(C45<>"", D44+1, "") -> 44 | E45: Non-translation | F45: =IFERROR(VLOOKUP(C45, TRANSLATORS!A:C, 2, FALSE), "") -> Famous | G45: =IFERROR(VLOOKUP(C45, TRANSLATORS!A:C, 3, FALSE), "") -> 男 | H45: =IFERROR(CONCATENATE(VLOOKUP(E45,CATEGORIES!A:B,2,FALSE),(VLOOKUP(F45,CATEGORIES!E:F,2,FALSE)), VLOOKUP(G45, CATEGORIES!I:J, 2, FALSE), D45), "") -> NFM44
A46: 俳句と云ふもの | B46: 1912 | C46: Mori Ogai | D46: =IF(C46<>"", D45+1, "") -> 45 | E46: Non-translation | F46: =IFERROR(VLOOKUP(C46, TRANSLATORS!A:C, 2, FALSE), "") -> Famous | G46: =IFERROR(VLOOKUP(C46, TRANSLATORS!A:C, 3, FALSE), "") -> 男 | H46: =IFERROR(CONCATENATE(VLOOKUP(E46,CATEGORIES!A:B,2,FALSE),(VLOOKUP(F46,CATEGORIES!E:F,2,FALSE)), VLOOKUP(G46, CATEGORIES!I:J, 2, FALSE), D46), "") -> NFM45
A47: 假名遣意見 | B47: 1909 | C47: Mori Ogai | D47: =IF(C47<>"", D46+1, "") -> 46 | E47: Non-translation | F47: =IFERROR(VLOOKUP(C47, TRANSLATORS!A:C, 2, FALSE), "") -> Famous | G47: =IFERROR(VLOOKUP(C47, TRANSLATORS!A:C, 3, FALSE), "") -> 男 | H47: =IFERROR(CONCATENATE(VLOOKUP(E47,CATEGORIES!A:B,2,FALSE),(VLOOKUP(F47,CATEGORIES!E:F,2,FALSE)), VLOOKUP(G47, CATEGORIES!I:J, 2, FALSE), D47), "") -> NFM46
A48: 半日 | B48: 1909 | C48: Mori Ogai | D48: =IF(C48<>"", D47+1, "") -> 47 | E48: Non-translation | F48: =IFERROR(VLOOKUP(C48, TRANSLATORS!A:C, 2, FALSE), "") -> Famous | G48: =IFERROR(VLOOKUP(C48, TRANSLATORS!A:C, 3, FALSE), "") -> 男 | H48: =IFERROR(CONCATENATE(VLOOKUP(E48,CATEGORIES!A:B,2,FALSE),(VLOOKUP(F48,CATEGORIES!E:F,2,FALSE)), VLOOKUP(G48, CATEGORIES!I:J, 2, FALSE), D48), "") -> NFM47
... A69: 鼎軒先生 | B69: 1911 | C69: Mori Ogai | D69: =IF(C69<>"", D68+1, "") -> 68 | E69: Non-translation | F69: =IFERROR(VLOOKUP(C69, TRANSLATORS!A:C, 2, FALSE), "") -> Famous | G69: =IFERROR(VLOOKUP(C69, TRANSLATORS!A:C, 3, FALSE), "") -> 男 | H69: =IFERROR(CONCATENATE(VLOOKUP(E69,CATEGORIES!A:B,2,FALSE),(VLOOKUP(F69,CATEGORIES!E:F,2,FALSE)), VLOOKUP(G69, CATEGORIES!I:J, 2, FALSE), D69), "") -> NFM68
A70: 鼠坂 | B70: 1912 | C70: Mori Ogai | D70: =IF(C70<>"", D69+1, "") -> 69 | E70: Non-translation | F70: =IFERROR(VLOOKUP(C70, TRANSLATORS!A:C, 2, FALSE), "") -> Famous | G70: =IFERROR(VLOOKUP(C70, TRANSLATORS!A:C, 3, FALSE), "") -> 男 | H70: =IFERROR(CONCATENATE(VLOOKUP(E70,CATEGORIES!A:B,2,FALSE),(VLOOKUP(F70,CATEGORIES!E:F,2,FALSE)), VLOOKUP(G70, CATEGORIES!I:J, 2, FALSE), D70), "") -> NFM69 | J70: MORI
A71: あいびき | B71: 1888 | C71: Futabatei Shimei | D71: =IF(C71<>"", D70+1, "") -> 70 | E71: Direct Translation | F71: =IFERROR(VLOOKUP(C71, TRANSLATORS!A:C, 2, FALSE), "") -> Famous | G71: =IFERROR(VLOOKUP(C71, TRANSLATORS!A:C, 3, FALSE), "") -> 男 | H71: =IFERROR(CONCATENATE(VLOOKUP(E71,CATEGORIES!A:B,2,FALSE),(VLOOKUP(F71,CATEGORIES!E:F,2,FALSE)), VLOOKUP(G71, CATEGORIES!I:J, 2, FALSE), D71), "") -> DFM70 | I71: Russian
A72: 四日間 | B72: 1904 | C72: Futabatei Shimei | D72: =IF(C72<>"", D71+1, "") -> 71 | E72: Direct Translation | F72: =IFERROR(VLOOKUP(C72, TRANSLATORS!A:C, 2, FALSE), "") -> Famous | G72: =IFERROR(VLOOKUP(C72, TRANSLATORS!A:C, 3, FALSE), "") -> 男 | H72: =IFERROR(CONCATENATE(VLOOKUP(E72,CATEGORIES!A:B,2,FALSE),(VLOOKUP(F72,CATEGORIES!E:F,2,FALSE)), VLOOKUP(G72, CATEGORIES!I:J, 2, FALSE), D72), "") -> DFM71 | I72: Russian
A73: 椋のミハイロ | B73: 1908 | C73: Futabatei Shimei | D73: =IF(C73<>"", D72+1, "") -> 72 | E73: Indirect Translation | F73: =IFERROR(VLOOKUP(C73, TRANSLATORS!A:C, 2, FALSE), "") -> Famous | G73: =IFERROR(VLOOKUP(C73, TRANSLATORS!A:C, 3, FALSE), "") -> 男 | H73: =IFERROR(CONCATENATE(VLOOKUP(E73,CATEGORIES!A:B,2,FALSE),(VLOOKUP(F73,CATEGORIES!E:F,2,FALSE)), VLOOKUP(G73, CATEGORIES!I:J, 2, FALSE), D73), "") -> IFM72 | I73: Polish
A74: エスペラントの話 | B74: 1906 | C74: Futabatei Shimei | D74: =IF(C74<>"", D73+1, "") -> 73 | E74: Non-translation | F74: =IFERROR(VLOOKUP(C74, TRANSLATORS!A:C, 2, FALSE), "") -> Famous | G74: =IFERROR(VLOOKUP(C74, TRANSLATORS!A:C, 3, FALSE), "") -> 男 | H74: =IFERROR(CONCATENATE(VLOOKUP(E74,CATEGORIES!A:B,2,FALSE),(VLOOKUP(F74,CATEGORIES!E:F,2,FALSE)), VLOOKUP(G74, CATEGORIES!I:J, 2, FALSE), D74), "") -> NFM73
A75: 予が半生の懺悔 | B75: 1908 | C75: Futabatei Shimei | D75: =IF(C75<>"", D74+1, "") -> 74 | E75: Non-translation | F75: =IFERROR(VLOOKUP(C75, TRANSLATORS!A:C, 2, FALSE), "") -> Famous | G75: =IFERROR(VLOOKUP(C75, TRANSLATORS!A:C, 3, FALSE), "") -> 男 | H75: =IFERROR(CONCATENATE(VLOOKUP(E75,CATEGORIES!A:B,2,FALSE),(VLOOKUP(F75,CATEGORIES!E:F,2,FALSE)), VLOOKUP(G75, CATEGORIES!I:J, 2, FALSE), D75), "") -> NFM74
A76: 余が翻訳の標準 | B76: 1906 | C76: Futabatei Shimei | D76: =IF(C76<>"", D75+1, "") -> 75 | E76: Non-translation | F76: =IFERROR(VLOOKUP(C76, TRANSLATORS!A:C, 2, FALSE), "") -> Famous | G76: =IFERROR(VLOOKUP(C76, TRANSLATORS!A:C, 3, FALSE), "") -> 男 | H76: =IFERROR(CONCATENATE(VLOOKUP(E76,CATEGORIES!A:B,2,FALSE),(VLOOKUP(F76,CATEGORIES!E:F,2,FALSE)), VLOOKUP(G76, CATEGORIES!I:J, 2, FALSE), D76), "") -> NFM75
A77: 余が言文一致の由來 | B77: 1906 | C77: Futabatei Shimei | D77: =IF(C77<>"", D76+1, "") -> 76 | E77: Non-translation | F77: =IFERROR(VLOOKUP(C77, TRANSLATORS!A:C, 2, FALSE), "") -> Famous | G77: =IFERROR(VLOOKUP(C77, TRANSLATORS!A:C, 3, FALSE), "") -> 男 | H77: =IFERROR(CONCATENATE(VLOOKUP(E77,CATEGORIES!A:B,2,FALSE),(VLOOKUP(F77,CATEGORIES!E:F,2,FALSE)), VLOOKUP(G77, CATEGORIES!I:J, 2, FALSE), D77), "") -> NFM76
A78: 嫉妬する夫の手記 | B78: 1868 | C78: Futabatei Shimei | D78: =IF(C78<>"", D77+1, "") -> 77 | E78: Non-translation | F78: =IFERROR(VLOOKUP(C78, TRANSLATORS!A:C, 2, FALSE), "") -> Famous | G78: =IFERROR(VLOOKUP(C78, TRANSLATORS!A:C, 3, FALSE), "") -> 男 | H78: =IFERROR(CONCATENATE(VLOOKUP(E78,CATEGORIES!A:B,2,FALSE),(VLOOKUP(F78,CATEGORIES!E:F,2,FALSE)), VLOOKUP(G78, CATEGORIES!I:J, 2, FALSE), D78), "") -> NFM77
A79: 小説総論 | B79: 1886 | C79: Futabatei Shimei | D79: =IF(C79<>"", D78+1, "") -> 78 | E79: Non-translation | F79: =IFERROR(VLOOKUP(C79, TRANSLATORS!A:C, 2, FALSE), "") -> Famous | G79: =IFERROR(VLOOKUP(C79, TRANSLATORS!A:C, 3, FALSE), "") -> 男 | H79: =IFERROR(CONCATENATE(VLOOKUP(E79,CATEGORIES!A:B,2,FALSE),(VLOOKUP(F79,CATEGORIES!E:F,2,FALSE)), VLOOKUP(G79, CATEGORIES!I:J, 2, FALSE), D79), "") -> NFM78
A80: 平凡 | B80: 1907 | C80: Futabatei Shimei | D80: =IF(C80<>"", D79+1, "") -> 79 | E80: Non-translation | F80: =IFERROR(VLOOKUP(C80, TRANSLATORS!A:C, 2, FALSE), "") -> Famous | G80: =IFERROR(VLOOKUP(C80, TRANSLATORS!A:C, 3, FALSE), "") -> 男 | H80: =IFERROR(CONCATENATE(VLOOKUP(E80,CATEGORIES!A:B,2,FALSE),(VLOOKUP(F80,CATEGORIES!E:F,2,FALSE)), VLOOKUP(G80, CATEGORIES!I:J, 2, FALSE), D80), "") -> NFM79
A81: 旅日記 東海道線 | B81: 1908 | C81: Futabatei Shimei | D81: =IF(C81<>"", D80+1, "") -> 80 | E81: Non-translation | F81: =IFERROR(VLOOKUP(C81, TRANSLATORS!A:C, 2, FALSE), "") -> Famous | G81: =IFERROR(VLOOKUP(C81, TRANSLATORS!A:C, 3, FALSE), "") -> 男 | H81: =IFERROR(CONCATENATE(VLOOKUP(E81,CATEGORIES!A:B,2,FALSE),(VLOOKUP(F81,CATEGORIES!E:F,2,FALSE)), VLOOKUP(G81, CATEGORIES!I:J, 2, FALSE), D81), "") -> NFM80
A82: 未亡人と人道問題 | B82: 1906 | C82: Futabatei Shimei | D82: =IF(C82<>"", D81+1, "") -> 81 | E82: Non-translation | F82: =IFERROR(VLOOKUP(C82, TRANSLATORS!A:C, 2, FALSE), "") -> Famous | G82: =IFERROR(VLOOKUP(C82, TRANSLATORS!A:C, 3, FALSE), "") -> 男 | H82: =IFERROR(CONCATENATE(VLOOKUP(E82,CATEGORIES!A:B,2,FALSE),(VLOOKUP(F82,CATEGORIES!E:F,2,FALSE)), VLOOKUP(G82, CATEGORIES!I:J, 2, FALSE), D82), "") -> NFM81
A83: 浮雲 | B83: 1889 | C83: Futabatei Shimei | D83: =IF(C83<>"", D82+1, "") -> 82 | E83: Non-translation | F83: =IFERROR(VLOOKUP(C83, TRANSLATORS!A:C, 2, FALSE), "") -> Famous | G83: =IFERROR(VLOOKUP(C83, TRANSLATORS!A:C, 3, FALSE), "") -> 男 | H83: =IFERROR(CONCATENATE(VLOOKUP(E83,CATEGORIES!A:B,2,FALSE),(VLOOKUP(F83,CATEGORIES!E:F,2,FALSE)), VLOOKUP(G83, CATEGORIES!I:J, 2, FALSE), D83), "") -> NFM82
A84: 私は懐疑派だ | B84: 1908 | C84: Futabatei Shimei | D84: =IF(C84<>"", D83+1, "") -> 83 | E84: Non-translation | F84: =IFERROR(VLOOKUP(C84, TRANSLATORS!A:C, 2, FALSE), "") -> Famous | G84: =IFERROR(VLOOKUP(C84, TRANSLATORS!A:C, 3, FALSE), "") -> 男 | H84: =IFERROR(CONCATENATE(VLOOKUP(E84,CATEGORIES!A:B,2,FALSE),(VLOOKUP(F84,CATEGORIES!E:F,2,FALSE)), VLOOKUP(G84, CATEGORIES!I:J, 2, FALSE), D84), "") -> NFM83
A85: 露都雑記 | B85: 1909 | C85: Futabatei Shimei | D85: =IF(C85<>"", D84+1, "") -> 84 | E85: Non-translation | F85: =IFERROR(VLOOKUP(C85, TRANSLATORS!A:C, 2, FALSE), "") -> Famous | G85: =IFERROR(VLOOKUP(C85, TRANSLATORS!A:C, 3, FALSE), "") -> 男 | H85: =IFERROR(CONCATENATE(VLOOKUP(E85,CATEGORIES!A:B,2,FALSE),(VLOOKUP(F85,CATEGORIES!E:F,2,FALSE)), VLOOKUP(G85, CATEGORIES!I:J, 2, FALSE), D85), "") -> NFM84
... A101: 忘れえぬ人々 | B101: 1898 | C101: Kunikida Doppo | D101: =IF(C101<>"", D100+1, "") -> 100 | E101: Non-translation | F101: =IFERROR(VLOOKUP(C101, TRANSLATORS!A:C, 2, FALSE), "") -> Famous | G101: =IFERROR(VLOOKUP(C101, TRANSLATORS!A:C, 3, FALSE), "") -> 男 | H101: =IFERROR(CONCATENATE(VLOOKUP(E101,CATEGORIES!A:B,2,FALSE),(VLOOKUP(F101,CATEGORIES!E:F,2,FALSE)), VLOOKUP(G101, CATEGORIES!I:J, 2, FALSE), D101), "") -> NFM100
A102: 怠惰屋の弟子入り | B102: 1903 | C102: Kunikida Doppo | D102: =IF(C102<>"", D101+1, "") -> 101 | E102: Indirect Translation | F102: =IFERROR(VLOOKUP(C102, TRANSLATORS!A:C, 2, FALSE), "") -> Famous | G102: =IFERROR(VLOOKUP(C102, TRANSLATORS!A:C, 3, FALSE), "") -> 男 | H102: =IFERROR(CONCATENATE(VLOOKUP(E102,CATEGORIES!A:B,2,FALSE),(VLOOKUP(F102,CATEGORIES!E:F,2,FALSE)), VLOOKUP(G102, CATEGORIES!I:J, 2, FALSE), D102), "") -> IFM101 | I102: French
A103: 恋を恋する人 | B103: 1907 | C103: Kunikida Doppo | D103: =IF(C103<>"", D102+1, "") -> 102 | E103: Non-translation | F103: =IFERROR(VLOOKUP(C103, TRANSLATORS!A:C, 2, FALSE), "") -> Famous | G103: =IFERROR(VLOOKUP(C103, TRANSLATORS!A:C, 3, FALSE), "") -> 男 | H103: =IFERROR(CONCATENATE(VLOOKUP(E103,CATEGORIES!A:B,2,FALSE),(VLOOKUP(F103,CATEGORIES!E:F,2,FALSE)), VLOOKUP(G103, CATEGORIES!I:J, 2, FALSE), D103), "") -> NFM102
A104: 日の出 | B104: 1903 | C104: Kunikida Doppo | D104: =IF(C104<>"", D103+1, "") -> 103 | E104: Non-translation | F104: =IFERROR(VLOOKUP(C104, TRANSLATORS!A:C, 2, FALSE), "") -> Famous | G104: =IFERROR(VLOOKUP(C104, TRANSLATORS!A:C, 3, FALSE), "") -> 男 | H104: =IFERROR(CONCATENATE(VLOOKUP(E104,CATEGORIES!A:B,2,FALSE),(VLOOKUP(F104,CATEGORIES!E:F,2,FALSE)), VLOOKUP(G104, CATEGORIES!I:J, 2, FALSE), D104), "") -> NFM103
A105: 星 | B105: 1896 | C105: Kunikida Doppo | D105: =IF(C105<>"", D104+1, "") -> 104 | E105: Non-translation | F105: =IFERROR(VLOOKUP(C105, TRANSLATORS!A:C, 2, FALSE), "") -> Famous | G105: =IFERROR(VLOOKUP(C105, TRANSLATORS!A:C, 3, FALSE), "") -> 男 | H105: =IFERROR(CONCATENATE(VLOOKUP(E105,CATEGORIES!A:B,2,FALSE),(VLOOKUP(F105,CATEGORIES!E:F,2,FALSE)), VLOOKUP(G105, CATEGORIES!I:J, 2, FALSE), D105), "") -> NFM104
A106: 春の鳥 | B106: 1904 | C106: Kunikida Doppo | D106: =IF(C106<>"", D105+1, "") -> 105 | E106: Non-translation | F106: =IFERROR(VLOOKUP(C106, TRANSLATORS!A:C, 2, FALSE), "") -> Famous | G106: =IFERROR(VLOOKUP(C106, TRANSLATORS!A:C, 3, FALSE), "") -> 男 | H106: =IFERROR(CONCATENATE(VLOOKUP(E106,CATEGORIES!A:B,2,FALSE),(VLOOKUP(F106,CATEGORIES!E:F,2,FALSE)), VLOOKUP(G106, CATEGORIES!I:J, 2, FALSE), D106), "") -> NFM105
A107: 武蔵野 | B107: 1898 | C107: Kunikida Doppo | D107: =IF(C107<>"", D106+1, "") -> 106 | E107: Non-translation | F107: =IFERROR(VLOOKUP(C107, TRANSLATORS!A:C, 2, FALSE), "") -> Famous | G107: =IFERROR(VLOOKUP(C107, TRANSLATORS!A:C, 3, FALSE), "") -> 男 | H107: =IFERROR(CONCATENATE(VLOOKUP(E107,CATEGORIES!A:B,2,FALSE),(VLOOKUP(F107,CATEGORIES!E:F,2,FALSE)), VLOOKUP(G107, CATEGORIES!I:J, 2, FALSE), D107), "") -> NFM106
A108: 河霧 | B108: 1898 | C108: Kunikida Doppo | D108: =IF(C108<>"", D107+1, "") -> 107 | E108: Non-translation | F108: =IFERROR(VLOOKUP(C108, TRANSLATORS!A:C, 2, FALSE), "") -> Famous | G108: =IFERROR(VLOOKUP(C108, TRANSLATORS!A:C, 3, FALSE), "") -> 男 | H108: =IFERROR(CONCATENATE(VLOOKUP(E108,CATEGORIES!A:B,2,FALSE),(VLOOKUP(F108,CATEGORIES!E:F,2,FALSE)), VLOOKUP(G108, CATEGORIES!I:J, 2, FALSE), D108), "") -> NFM107
A109: 湯ヶ原ゆき | B109: 1907 | C109: Kunikida Doppo | D109: =IF(C109<>"", D108+1, "") -> 108 | E109: Non-translation | F109: =IFERROR(VLOOKUP(C109, TRANSLATORS!A:C, 2, FALSE), "") -> Famous | G109: =IFERROR(VLOOKUP(C109, TRANSLATORS!A:C, 3, FALSE), "") -> 男 | H109: =IFERROR(CONCATENATE(VLOOKUP(E109,CATEGORIES!A:B,2,FALSE),(VLOOKUP(F109,CATEGORIES!E:F,2,FALSE)), VLOOKUP(G109, CATEGORIES!I:J, 2, FALSE), D109), "") -> NFM108
A110: 湯ヶ原より | B110: 1901 | C110: Kunikida Doppo | D110: =IF(C110<>"", D109+1, "") -> 109 | E110: Non-translation | F110: =IFERROR(VLOOKUP(C110, TRANSLATORS!A:C, 2, FALSE), "") -> Famous | G110: =IFERROR(VLOOKUP(C110, TRANSLATORS!A:C, 3, FALSE), "") -> 男 | H110: =IFERROR(CONCATENATE(VLOOKUP(E110,CATEGORIES!A:B,2,FALSE),(VLOOKUP(F110,CATEGORIES!E:F,2,FALSE)), VLOOKUP(G110, CATEGORIES!I:J, 2, FALSE), D110), "") -> NFM109
A111: 源おじ | B111: 1897 | C111: Kunikida Doppo | D111: =IF(C111<>"", D110+1, "") -> 110 | E111: Non-translation | F111: =IFERROR(VLOOKUP(C111, TRANSLATORS!A:C, 2, FALSE), "") -> Famous | G111: =IFERROR(VLOOKUP(C111, TRANSLATORS!A:C, 3, FALSE), "") -> 男 | H111: =IFERROR(CONCATENATE(VLOOKUP(E111,CATEGORIES!A:B,2,FALSE),(VLOOKUP(F111,CATEGORIES!E:F,2,FALSE)), VLOOKUP(G111, CATEGORIES!I:J, 2, FALSE), D111), "") -> NFM110
A112: 牛肉と馬鈴薯 | B112: 1901 | C112: Kunikida Doppo | D112: =IF(C112<>"", D111+1, "") -> 111 | E112: Non-translation | F112: =IFERROR(VLOOKUP(C112, TRANSLATORS!A:C, 2, FALSE), "") -> Famous | G112: =IFERROR(VLOOKUP(C112, TRANSLATORS!A:C, 3, FALSE), "") -> 男 | H112: =IFERROR(CONCATENATE(VLOOKUP(E112,CATEGORIES!A:B,2,FALSE),(VLOOKUP(F112,CATEGORIES!E:F,2,FALSE)), VLOOKUP(G112, CATEGORIES!I:J, 2, FALSE), D112), "") -> NFM111
A113: 畫の悲み | B113: 1902 | C113: Kunikida Doppo | D113: =IF(C113<>"", D112+1, "") -> 112 | E113: Non-translation | F113: =IFERROR(VLOOKUP(C113, TRANSLATORS!A:C, 2, FALSE), "") -> Famous | G113: =IFERROR(VLOOKUP(C113, TRANSLATORS!A:C, 3, FALSE), "") -> 男 | H113: =IFERROR(CONCATENATE(VLOOKUP(E113,CATEGORIES!A:B,2,FALSE),(VLOOKUP(F113,CATEGORIES!E:F,2,FALSE)), VLOOKUP(G113, CATEGORIES!I:J, 2, FALSE), D113), "") -> NFM112
A114: 疲労 | B114: 1907 | C114: Kunikida Doppo | D114: =IF(C114<>"", D113+1, "") -> 113 | E114: Non-translation | F114: =IFERROR(VLOOKUP(C114, TRANSLATORS!A:C, 2, FALSE), "") -> Famous | G114: =IFERROR(VLOOKUP(C114, TRANSLATORS!A:C, 3, FALSE), "") -> 男 | H114: =IFERROR(CONCATENATE(VLOOKUP(E114,CATEGORIES!A:B,2,FALSE),(VLOOKUP(F114,CATEGORIES!E:F,2,FALSE)), VLOOKUP(G114, CATEGORIES!I:J, 2, FALSE), D114), "") -> NFM113
... A127: 鹿狩り | B127: 1898 | C127: Kunikida Doppo | D127: =IF(C127<>"", D126+1, "") -> 126 | E127: Non-translation | F127: =IFERROR(VLOOKUP(C127, TRANSLATORS!A:C, 2, FALSE), "") -> Famous | G127: =IFERROR(VLOOKUP(C127, TRANSLATORS!A:C, 3, FALSE), "") -> 男 | H127: =IFERROR(CONCATENATE(VLOOKUP(E127,CATEGORIES!A:B,2,FALSE),(VLOOKUP(F127,CATEGORIES!E:F,2,FALSE)), VLOOKUP(G127, CATEGORIES!I:J, 2, FALSE), D127), "") -> NFM126
A128: 幽霊塔 | B128: 1899 | C128: Kuroiwa Ruiko | D128: =IF(C128<>"", D127+1, "") -> 127 | E128: Direct Translation | F128: =IFERROR(VLOOKUP(C128, TRANSLATORS!A:C, 2, FALSE), "") -> Famous | G128: =IFERROR(VLOOKUP(C128, TRANSLATORS!A:C, 3, FALSE), "") -> 男 | H128: =IFERROR(CONCATENATE(VLOOKUP(E128,CATEGORIES!A:B,2,FALSE),(VLOOKUP(F128,CATEGORIES!E:F,2,FALSE)), VLOOKUP(G128, CATEGORIES!I:J, 2, FALSE), D128), "") -> DFM127 | I128: English
A129: 暗黒星 | B129: 1904 | C129: Kuroiwa Ruiko | D129: =IF(C129<>"", D128+1, "") -> 128 | E129: Direct Translation | F129: =IFERROR(VLOOKUP(C129, TRANSLATORS!A:C, 2, FALSE), "") -> Famous | G129: =IFERROR(VLOOKUP(C129, TRANSLATORS!A:C, 3, FALSE), "") -> 男 | H129: =IFERROR(CONCATENATE(VLOOKUP(E129,CATEGORIES!A:B,2,FALSE),(VLOOKUP(F129,CATEGORIES!E:F,2,FALSE)), VLOOKUP(G129, CATEGORIES!I:J, 2, FALSE), D129), "") -> DFM128 | I129: English
A130: 血の文字 | B130: 1892 | C130: Kuroiwa Ruiko | D130: =IF(C130<>"", D129+1, "") -> 129 | E130: Indirect Translation | F130: =IFERROR(VLOOKUP(C130, TRANSLATORS!A:C, 2, FALSE), "") -> Famous | G130: =IFERROR(VLOOKUP(C130, TRANSLATORS!A:C, 3, FALSE), "") -> 男 | H130: =IFERROR(CONCATENATE(VLOOKUP(E130,CATEGORIES!A:B,2,FALSE),(VLOOKUP(F130,CATEGORIES!E:F,2,FALSE)), VLOOKUP(G130, CATEGORIES!I:J, 2, FALSE), D130), "") -> IFM129 | I130: French
A131: 糸くず | B131: 1898 | C131: Kunikida Doppo | D131: 130 | E131: Indirect Translation | F131: =IFERROR(VLOOKUP(C131, TRANSLATORS!A:C, 2, FALSE), "") -> Famous | G131: =IFERROR(VLOOKUP(C131, TRANSLATORS!A:C, 3, FALSE), "") -> 男 | H131: =IFERROR(CONCATENATE(VLOOKUP(E131,CATEGORIES!A:B,2,FALSE),(VLOOKUP(F131,CATEGORIES!E:F,2,FALSE)), VLOOKUP(G131, CATEGORIES!I:J, 2, FALSE), D131), "") -> IFM130 | I131: French
A132: 人形の家 | B132: 1911 | C132: Shimamura Hōgetsu | D132: 131 | E132: Indirect Translation | F132: =IFERROR(VLOOKUP(C132, TRANSLATORS!A:C, 2, FALSE), "") -> Famous | G132: =IFERROR(VLOOKUP(C132, TRANSLATORS!A:C, 3, FALSE), "") -> 男 | H132: =IFERROR(CONCATENATE(VLOOKUP(E132,CATEGORIES!A:B,2,FALSE),(VLOOKUP(F132,CATEGORIES!E:F,2,FALSE)), VLOOKUP(G132, CATEGORIES!I:J, 2, FALSE), D132), "") -> IFM131 | I132: Norwegian
A133: アーサー王物語 | B133: 1907 | C133: Sugano Tokusuke/Nakura Jiro | D133: 132 | E133: Direct Translation | F133: =IFERROR(VLOOKUP(C133, TRANSLATORS!A:C, 2, FALSE), "") -> Normal | G133: =IFERROR(VLOOKUP(C133, TRANSLATORS!A:C, 3, FALSE), "") -> 男 | H133: =IFERROR(CONCATENATE(VLOOKUP(E133,CATEGORIES!A:B,2,FALSE),(VLOOKUP(F133,CATEGORIES!E:F,2,FALSE)), VLOOKUP(G133, CATEGORIES!I:J, 2, FALSE), D133), "") -> DNM132 | I133: English
A134: デンマルク国の話 | B134: 1911 | C134: Uchimura Kanzo | D134: 133 | E134: Non-translation | F134: =IFERROR(VLOOKUP(C134, TRANSLATORS!A:C, 2, FALSE), "") -> Famous | G134: =IFERROR(VLOOKUP(C134, TRANSLATORS!A:C, 3, FALSE), "") -> 男 | H134: =IFERROR(CONCATENATE(VLOOKUP(E134,CATEGORIES!A:B,2,FALSE),(VLOOKUP(F134,CATEGORIES!E:F,2,FALSE)), VLOOKUP(G134, CATEGORIES!I:J, 2, FALSE), D134), "") -> NFM133
A135: ネルソン伝に序す | B135: 1894 | C135: Uchimura Kanzo | D135: 134 | E135: Non-translation | F135: =IFERROR(VLOOKUP(C135, TRANSLATORS!A:C, 2, FALSE), "") -> Famous | G135: =IFERROR(VLOOKUP(C135, TRANSLATORS!A:C, 3, FALSE), "") -> 男 | H135: =IFERROR(CONCATENATE(VLOOKUP(E135,CATEGORIES!A:B,2,FALSE),(VLOOKUP(F135,CATEGORIES!E:F,2,FALSE)), VLOOKUP(G135, CATEGORIES!I:J, 2, FALSE), D135), "") -> NFM134
A136: 問答二三 | B136: 1896 | C136: Uchimura Kanzo | D136: 135 | E136: Non-translation | F136: =IFERROR(VLOOKUP(C136, TRANSLATORS!A:C, 2, FALSE), "") -> Famous | G136: =IFERROR(VLOOKUP(C136, TRANSLATORS!A:C, 3, FALSE), "") -> 男 | H136: =IFERROR(CONCATENATE(VLOOKUP(E136,CATEGORIES!A:B,2,FALSE),(VLOOKUP(F136,CATEGORIES!E:F,2,FALSE)), VLOOKUP(G136, CATEGORIES!I:J, 2, FALSE), D136), "") -> NFM135
A137: 基督信徒のなぐさめ | B137: 1893 | C137: Uchimura Kanzo | D137: 136 | E137: Non-translation | F137: =IFERROR(VLOOKUP(C137, TRANSLATORS!A:C, 2, FALSE), "") -> Famous | G137: =IFERROR(VLOOKUP(C137, TRANSLATORS!A:C, 3, FALSE), "") -> 男 | H137: =IFERROR(CONCATENATE(VLOOKUP(E137,CATEGORIES!A:B,2,FALSE),(VLOOKUP(F137,CATEGORIES!E:F,2,FALSE)), VLOOKUP(G137, CATEGORIES!I:J, 2, FALSE), D137), "") -> NFM136
A138: 後世への最大遺物 | B138: 1894 | C138: Uchimura Kanzo | D138: 137 | E138: Non-translation | F138: =IFERROR(VLOOKUP(C138, TRANSLATORS!A:C, 2, FALSE), "") -> Famous | G138: =IFERROR(VLOOKUP(C138, TRANSLATORS!A:C, 3, FALSE), "") -> 男 | H138: =IFERROR(CONCATENATE(VLOOKUP(E138,CATEGORIES!A:B,2,FALSE),(VLOOKUP(F138,CATEGORIES!E:F,2,FALSE)), VLOOKUP(G138, CATEGORIES!I:J, 2, FALSE), D138), "") -> NFM137
A139: 時事雑評二三 | B139: 1894 | C139: Uchimura Kanzo | D139: 138 | E139: Non-translation | F139: =IFERROR(VLOOKUP(C139, TRANSLATORS!A:C, 2, FALSE), "") -> Famous | G139: =IFERROR(VLOOKUP(C139, TRANSLATORS!A:C, 3, FALSE), "") -> 男 | H139: =IFERROR(CONCATENATE(VLOOKUP(E139,CATEGORIES!A:B,2,FALSE),(VLOOKUP(F139,CATEGORIES!E:F,2,FALSE)), VLOOKUP(G139, CATEGORIES!I:J, 2, FALSE), D139), "") -> NFM138
A140: 二葉亭四迷の一生 | B140: 1909 | C140: Uchida Roan | D140: 139 | E140: Non-translation | F140: =IFERROR(VLOOKUP(C140, TRANSLATORS!A:C, 2, FALSE), "") -> Famous | G140: =IFERROR(VLOOKUP(C140, TRANSLATORS!A:C, 3, FALSE), "") -> 男 | H140: =IFERROR(CONCATENATE(VLOOKUP(E140,CATEGORIES!A:B,2,FALSE),(VLOOKUP(F140,CATEGORIES!E:F,2,FALSE)), VLOOKUP(G140, CATEGORIES!I:J, 2, FALSE), D140), "") -> NFM139
A141: 文明国には必ず智識ある高等遊民あり | B141: 1912 | C141: Uchida Roan | D141: 140 | E141: Non-translation | F141: =IFERROR(VLOOKUP(C141, TRANSLATORS!A:C, 2, FALSE), "") -> Famous | G141: =IFERROR(VLOOKUP(C141, TRANSLATORS!A:C, 3, FALSE), "") -> 男 | H141: =IFERROR(CONCATENATE(VLOOKUP(E141,CATEGORIES!A:B,2,FALSE),(VLOOKUP(F141,CATEGORIES!E:F,2,FALSE)), VLOOKUP(G141, CATEGORIES!I:J, 2, FALSE), D141), "") -> NFM140
A142: 明治の文学の開拓者 | B142: 1912 | C142: Uchida Roan | D142: 141 | E142: Non-translation | F142: =IFERROR(VLOOKUP(C142, TRANSLATORS!A:C, 2, FALSE), "") -> Famous | G142: =IFERROR(VLOOKUP(C142, TRANSLATORS!A:C, 3, FALSE), "") -> 男 | H142: =IFERROR(CONCATENATE(VLOOKUP(E142,CATEGORIES!A:B,2,FALSE),(VLOOKUP(F142,CATEGORIES!E:F,2,FALSE)), VLOOKUP(G142, CATEGORIES!I:J, 2, FALSE), D142), "") -> NFM141
A143: 灰燼十万巻 | B143: 1910 | C143: Uchida Roan | D143: 142 | E143: Non-translation | F143: =IFERROR(VLOOKUP(C143, TRANSLATORS!A:C, 2, FALSE), "") -> Famous | G143: =IFERROR(VLOOKUP(C143, TRANSLATORS!A:C, 3, FALSE), "") -> 男 | H143: =IFERROR(CONCATENATE(VLOOKUP(E143,CATEGORIES!A:B,2,FALSE),(VLOOKUP(F143,CATEGORIES!E:F,2,FALSE)), VLOOKUP(G143, CATEGORIES!I:J, 2, FALSE), D143), "") -> NFM142
A144: 為文学者経 | B144: 1894 | C144: Uchida Roan | D144: 143 | E144: Non-translation | F144: =IFERROR(VLOOKUP(C144, TRANSLATORS!A:C, 2, FALSE), "") -> Famous | G144: =IFERROR(VLOOKUP(C144, TRANSLATORS!A:C, 3, FALSE), "") -> 男 | H144: =IFERROR(CONCATENATE(VLOOKUP(E144,CATEGORIES!A:B,2,FALSE),(VLOOKUP(F144,CATEGORIES!E:F,2,FALSE)), VLOOKUP(G144, CATEGORIES!I:J, 2, FALSE), D144), "") -> NFM143
A145: 夢 | B145: 1909 | C145: Yoshie Takamatsu | D145: 144 | E145: Non-translation | F145: =IFERROR(VLOOKUP(C145, TRANSLATORS!A:C, 2, FALSE), "") -> Normal | G145: =IFERROR(VLOOKUP(C145, TRANSLATORS!A:C, 3, FALSE), "") -> 男 | H145: =IFERROR(CONCATENATE(VLOOKUP(E145,CATEGORIES!A:B,2,FALSE),(VLOOKUP(F145,CATEGORIES!E:F,2,FALSE)), VLOOKUP(G145, CATEGORIES!I:J, 2, FALSE), D145), "") -> NNM144
A146: 木曽御嶽の両面 | B146: 1908 | C146: Yoshie Takamatsu | D146: 145 | E146: Non-translation | F146: =IFERROR(VLOOKUP(C146, TRANSLATORS!A:C, 2, FALSE), "") -> Normal | G146: =IFERROR(VLOOKUP(C146, TRANSLATORS!A:C, 3, FALSE), "") -> 男 | H146: =IFERROR(CONCATENATE(VLOOKUP(E146,CATEGORIES!A:B,2,FALSE),(VLOOKUP(F146,CATEGORIES!E:F,2,FALSE)), VLOOKUP(G146, CATEGORIES!I:J, 2, FALSE), D146), "") -> NNM145
A147: 十歳以前に読んだ本 | B147: 1912 | C147: Tsubouchi Shōyō | D147: 146 | E147: Non-translation | F147: Famous | G147: =IFERROR(VLOOKUP(C147, TRANSLATORS!A:C, 3, FALSE), "") -> 男 | H147: =IFERROR(CONCATENATE(VLOOKUP(E147,CATEGORIES!A:B,2,FALSE),(VLOOKUP(F147,CATEGORIES!E:F,2,FALSE)), VLOOKUP(G147, CATEGORIES!I:J, 2, FALSE), D147), "") -> NFM146
...

Sheet TRANSLATORS
A1: TRANSLATOR | B1: TRANSLATOR TYPE | C1: GENDER | D1: NOTES
A2: Mori Ogai | B2: Famous | C2: 男
A3: Kunikida Doppo | B3: Famous | C3: 男
A4: Tsubouchi Shōyō | B4: Famous | C4: 男
A5: Shimazaki Tōson | B5: Famous | C5: 男
A6: Futabatei Shimei | B6: Famous | C6: 男
A7: Kuroiwa Ruiko | B7: Famous | C7: 男
A8: Shimamura Hōgetsu | B8: Famous | C8: 男
A9: Sugano Tokusuke/Nakura Jiro | B9: Normal | C9: 男 | D9: They were scholars. They must be well-known but they would not have had kind of fame that the famous writers of that period had.
A10: Uchimura Kanzo | B10: Famous | C10: 男
A11: Uchida Roan | B11: Famous | C11: 男
A12: Yoshie Takamatsu | B12: Normal | C12: 男 | D12: He was a recognised scholar and authored a considerable number of books though these were mostly scholarly. I have categorised him as "normal" because his built his professional recognition mostly after the Meiji.
A13: Sakai Toshihiko | B13: Normal | C13: 男 | D13: He seems have authored many books so he must have been famous to come degree but he was basically a journalist and his books centre on political subjects. I am not sure whether he can be considered famous.
A14: Tsukahara Jūshien | B14: Famous | C14: 男 | D14: He was a newspaper novelist and was as popular as Kuroiwa.
A15: Miyazaki Koshoshi | B15: Normal | C15: 男 | D15: He produced a couple of popular works but he was basically a missionary so I place him as Normal category.
A16: Osanai Kaoru | B16: Famous | C16: 男
A17: Ueda Bin | B17: Famous | C17: 男
A18: Oguri Fūyō | B18: Famous | C18: 男
A19: Ozaki Kōyō | B19: Famous | C19: 男
A20: Yamada Bimyō | B20: Famous | C20: 男
A21: Iwano Hōmei | B21: Famous | C21: 男
A22: Iwaya Sazanami | B22: Famous | C22: 男
A23: Kōda Rohan | B23: Famous | C23: 男
A24: Tokuda Shūsei | B24: Famous | C24: 男
A25: Jōno Saigiku | B25: Normal | C25: 男 | D25: He was a jounalist and produced some kabuki play but it does not look like he was that famous.
A26: Shibata Ryūsei | B26: Normal | C26: 男 | D26: He was a novelist and translator and was mentored by Iwaya Suzanami. But it does not sound like he was famous.
A27: Emi Suiin | B27: Famous | C27: 男
A28: Tayama Katai | B28: Famous | C28: 男
A29: Yazaki Sagano | B29: Famous | C29: 男 | D29: Saganoya Omuro.
A30: Kanda Takahira | B30: Normal | C30: 男 | D30: He was a scholar and politician. Most of his non-translation works are political essays.
A31: Wakamatsu Shizuko | B31: Famous | C31: 女
A32: Kanbara Ariake | B32: Famous | C32: 男
A33: Chikamatsu Shūkō | B33: Famous | C33: 男
A34: Takayama Chogyū | B34: Famous | C34: 男
A35: Kodama Kagai | B35: Famous | C35: 男 | D35: He was a poet and his works centred on proletarian ideology.
A36: Morita Shiken | B36: Famous | C36: 男

Sheet STATS
A1: Authors | E1: Types | I1: Status | M1: Gender | Q1: Languages
A2: {=_xlfn.UNIQUE(_xlfn._xlws.FILTER(DATA!C2:C393, DATA!C2:C393<>""))} -> Mori Ogai | B2: =COUNTIF(DATA!C:C, STATS!A2) -> 66 | C2: =B2/SUM(B:B) -> 0.25581395 | E2: {=_xlfn.UNIQUE(_xlfn._xlws.FILTER(DATA!E2:E393, DATA!E2:E393<>""))} -> Direct Translation | F2: =COUNTIF(DATA!E:E, STATS!E2) -> 33 | G2: =F2/SUM(F:F) -> 0.12790698 | I2: {=_xlfn.UNIQUE(_xlfn._xlws.FILTER(DATA!F2:F393, DATA!F2:F393<>""))} -> Famous | J2: =COUNTIF(DATA!F:F, STATS!I2) -> 248 | K2: =J2/SUM(J:J) -> 0.96124031 | M2: {=_xlfn.UNIQUE(_xlfn._xlws.FILTER(DATA!G2:G393, DATA!G2:G393<>""))} -> 男 | N2: =COUNTIF(DATA!G:G, STATS!M2) -> 255 | O2: =N2/SUM(N:N) -> 0.98837209 | Q2: {=_xlfn.UNIQUE(_xlfn._xlws.FILTER(DATA!I2:I393, DATA!I2:I393<>""))} -> German | R2: =COUNTIF(DATA!I:I, STATS!Q2) -> 15 | S2: =R2/SUM(R:R) -> 0.3125
A3: Kunikida Doppo | B3: =COUNTIF(DATA!C:C, STATS!A3) -> 44 | C3: =B3/SUM(B:B) -> 0.17054264 | E3: Indirect Translation | F3: =COUNTIF(DATA!E:E, STATS!E3) -> 17 | G3: =F3/SUM(F:F) -> 0.065891473 | I3: Normal | J3: =COUNTIF(DATA!F:F, STATS!I3) -> 10 | K3: =J3/SUM(J:J) -> 0.03875969 | M3: 女 | N3: =COUNTIF(DATA!G:G, STATS!M3) -> 3 | O3: =N3/SUM(N:N) -> 0.011627907 | Q3: English | R3: =COUNTIF(DATA!I:I, STATS!Q3) -> 9 | S3: =R3/SUM(R:R) -> 0.1875
A4: Tsubouchi Shōyō | B4: =COUNTIF(DATA!C:C, STATS!A4) -> 2 | C4: =B4/SUM(B:B) -> 0.007751938 | E4: Non-translation | F4: =COUNTIF(DATA!E:E, STATS!E4) -> 208 | G4: =F4/SUM(F:F) -> 0.80620155 | Q4: French | R4: =COUNTIF(DATA!I:I, STATS!Q4) -> 9 | S4: =R4/SUM(R:R) -> 0.1875
A5: Shimazaki Tōson | B5: =COUNTIF(DATA!C:C, STATS!A5) -> 13 | C5: =B5/SUM(B:B) -> 0.050387597 | Q5: Swedish | R5: =COUNTIF(DATA!I:I, STATS!Q5) -> 1 | S5: =R5/SUM(R:R) -> 0.020833333
A6: Futabatei Shimei | B6: =COUNTIF(DATA!C:C, STATS!A6) -> 15 | C6: =B6/SUM(B:B) -> 0.058139535 | Q6: Danish | R6: =COUNTIF(DATA!I:I, STATS!Q6) -> 2 | S6: =R6/SUM(R:R) -> 0.041666667
A7: Kuroiwa Ruiko | B7: =COUNTIF(DATA!C:C, STATS!A7) -> 6 | C7: =B7/SUM(B:B) -> 0.023255814 | Q7: Russian | R7: =COUNTIF(DATA!I:I, STATS!Q7) -> 10 | S7: =R7/SUM(R:R) -> 0.20833333
A8: Shimamura Hōgetsu | B8: =COUNTIF(DATA!C:C, STATS!A8) -> 3 | C8: =B8/SUM(B:B) -> 0.011627907 | Q8: Polish | R8: =COUNTIF(DATA!I:I, STATS!Q8) -> 1 | S8: =R8/SUM(R:R) -> 0.020833333
A9: Sugano Tokusuke/Nakura Jiro | B9: =COUNTIF(DATA!C:C, STATS!A9) -> 1 | C9: =B9/SUM(B:B) -> 0.003875969 | Q9: Norwegian | R9: =COUNTIF(DATA!I:I, STATS!Q9) -> 1 | S9: =R9/SUM(R:R) -> 0.020833333
A10: Uchimura Kanzo | B10: =COUNTIF(DATA!C:C, STATS!A10) -> 6 | C10: =B10/SUM(B:B) -> 0.023255814 | R10: =COUNTIF(DATA!I:I, STATS!Q10) -> 0 | S10: =R10/SUM(R:R) -> 0
A11: Uchida Roan | B11: =COUNTIF(DATA!C:C, STATS!A11) -> 6 | C11: =B11/SUM(B:B) -> 0.023255814 | R11: =COUNTIF(DATA!I:I, STATS!Q11) -> 0 | S11: =R11/SUM(R:R) -> 0
A12: Yoshie Takamatsu | B12: =COUNTIF(DATA!C:C, STATS!A12) -> 2 | C12: =B12/SUM(B:B) -> 0.007751938 | R12: =COUNTIF(DATA!I:I, STATS!Q12) -> 0 | S12: =R12/SUM(R:R) -> 0
A13: Sakai Toshihiko | B13: =COUNTIF(DATA!C:C, STATS!A13) -> 1 | C13: =B13/SUM(B:B) -> 0.003875969 | R13: =COUNTIF(DATA!I:I, STATS!Q13) -> 0 | S13: =R13/SUM(R:R) -> 0
A14: Tsukahara Jūshien | B14: =COUNTIF(DATA!C:C, STATS!A14) -> 1 | C14: =B14/SUM(B:B) -> 0.003875969 | R14: =COUNTIF(DATA!I:I, STATS!Q14) -> 0 | S14: =R14/SUM(R:R) -> 0
A15: Miyazaki Koshoshi | B15: =COUNTIF(DATA!C:C, STATS!A15) -> 2 | C15: =B15/SUM(B:B) -> 0.007751938
A16: Osanai Kaoru | B16: =COUNTIF(DATA!C:C, STATS!A16) -> 5 | C16: =B16/SUM(B:B) -> 0.019379845
A17: Ueda Bin | B17: =COUNTIF(DATA!C:C, STATS!A17) -> 1 | C17: =B17/SUM(B:B) -> 0.003875969
A18: Oguri Fūyō | B18: =COUNTIF(DATA!C:C, STATS!A18) -> 3 | C18: =B18/SUM(B:B) -> 0.011627907
A19: Ozaki Kōyō | B19: =COUNTIF(DATA!C:C, STATS!A19) -> 3 | C19: =B19/SUM(B:B) -> 0.011627907
A20: Yamada Bimyō | B20: =COUNTIF(DATA!C:C, STATS!A20) -> 1 | C20: =B20/SUM(B:B) -> 0.003875969
A21: Iwano Hōmei | B21: =COUNTIF(DATA!C:C, STATS!A21) -> 8 | C21: =B21/SUM(B:B) -> 0.031007752
A22: Iwaya Sazanami | B22: =COUNTIF(DATA!C:C, STATS!A22) -> 2 | C22: =B22/SUM(B:B) -> 0.007751938
A23: Kōda Rohan | B23: =COUNTIF(DATA!C:C, STATS!A23) -> 11 | C23: =B23/SUM(B:B) -> 0.042635659
A24: Tokuda Shūsei | B24: =COUNTIF(DATA!C:C, STATS!A24) -> 5 | C24: =B24/SUM(B:B) -> 0.019379845
A25: Jōno Saigiku | B25: =COUNTIF(DATA!C:C, STATS!A25) -> 1 | C25: =B25/SUM(B:B) -> 0.003875969
A26: Shibata Ryūsei | B26: =COUNTIF(DATA!C:C, STATS!A26) -> 1 | C26: =B26/SUM(B:B) -> 0.003875969
... A36: Morita Shiken | B36: =COUNTIF(DATA!C:C, STATS!A36) -> 3 | C36: =B36/SUM(B:B) -> 0.011627907
B37: =COUNTIF(DATA!C:C, STATS!A37) -> 0 | C37: =B37/SUM(B:B) -> 0
B38: =COUNTIF(DATA!C:C, STATS!A38) -> 0 | C38: =B38/SUM(B:B) -> 0
B39: =COUNTIF(DATA!C:C, STATS!A39) -> 0 | C39: =B39/SUM(B:B) -> 0

Sheet CORRELATIONS
B1: {=TRANSPOSE(_xlfn._xlws.SORT(_xlfn.UNIQUE(STATS!E2:E10)))} -> Direct Translation | C1: Indirect Translation | D1: Non-translation | E1: 0 | F1: SUM | I1: {=TRANSPOSE(_xlfn._xlws.SORT(_xlfn.UNIQUE(STATS!E2:E10)))} -> Direct Translation | J1: Indirect Translation | K1: Non-translation | L1: 0 | M1: SUM | P1: {=TRANSPOSE(_xlfn._xlws.SORT(_xlfn.UNIQUE(STATS!E2:E10)))} -> Direct Translation | Q1: Indirect Translation | R1: Non-translation | S1: 0 | T1: SUM | W1: {=TRANSPOSE(_xlfn._xlws.SORT(_xlfn.UNIQUE(DATA!I2:I300)))} -> Danish | X1: English | Y1: French | Z1: German | AA1: Norwegian | AB1: Polish | AC1: Russian | AD1: Swedish | AE1: 0 | AK1: SUM | AN1: {=TRANSPOSE(_xlfn._xlws.SORT(_xlfn.UNIQUE(DATA!I2:I300)))} -> Danish | AO1: English | AP1: French | AQ1: German | AR1: Norwegian | AS1: Polish | AT1: Russian | AU1: Swedish | AV1: 0 | BA1: SUM | BD1: {=TRANSPOSE(_xlfn._xlws.SORT(_xlfn.UNIQUE(DATA!I2:I300)))} -> Danish | BE1: English | BF1: French | BG1: German | BH1: Norwegian | BI1: Polish | BJ1: Russian | BK1: Swedish | BL1: 0 | BP1: SUM
A2: {=_xlfn._xlws.SORT(_xlfn.UNIQUE(STATS!A2:A100))} -> Chikamatsu Shūkō | B2: =COUNTIFS(DATA!$C:$C, CORRELATIONS!$A2, DATA!$E:$E, CORRELATIONS!B$1) -> 0 | C2: =COUNTIFS(DATA!$C:$C, CORRELATIONS!$A2, DATA!$E:$E, CORRELATIONS!C$1) -> 0 | D2: =COUNTIFS(DATA!$C:$C, CORRELATIONS!$A2, DATA!$E:$E, CORRELATIONS!D$1) -> 2 | F2: =SUM(B2:D2) -> 2 | H2: {=_xlfn._xlws.SORT(_xlfn.UNIQUE(STATS!I2:I100))} -> Famous | I2: =COUNTIFS(DATA!$F:$F, CORRELATIONS!$H2, DATA!$E:$E, CORRELATIONS!I$1) -> 32 | J2: =COUNTIFS(DATA!$F:$F, CORRELATIONS!$H2, DATA!$E:$E, CORRELATIONS!J$1) -> 17 | K2: =COUNTIFS(DATA!$F:$F, CORRELATIONS!$H2, DATA!$E:$E, CORRELATIONS!K$1) -> 199 | M2: =SUM(I2:K2) -> 248 | O2: {=_xlfn._xlws.SORT(_xlfn.UNIQUE(STATS!M2:M100))} -> 女 | P2: =COUNTIFS(DATA!$G:$G, CORRELATIONS!$O2, DATA!$E:$E, CORRELATIONS!P$1) -> 0 | Q2: =COUNTIFS(DATA!$G:$G, CORRELATIONS!$O2, DATA!$E:$E, CORRELATIONS!Q$1) -> 0 | R2: =COUNTIFS(DATA!$G:$G, CORRELATIONS!$O2, DATA!$E:$E, CORRELATIONS!R$1) -> 3 | T2: =SUM(P2:R2) -> 3 | V2: {=_xlfn._xlws.SORT(_xlfn.UNIQUE(STATS!A2:A100))} -> Chikamatsu Shūkō | W2: =COUNTIFS(DATA!$C:$C, CORRELATIONS!$V2, DATA!$I:$I, CORRELATIONS!W$1) -> 0 | X2: =COUNTIFS(DATA!$C:$C, CORRELATIONS!$V2, DATA!$I:$I, CORRELATIONS!X$1) -> 0 | Y2: =COUNTIFS(DATA!$C:$C, CORRELATIONS!$V2, DATA!$I:$I, CORRELATIONS!Y$1) -> 0 | Z2: =COUNTIFS(DATA!$C:$C, CORRELATIONS!$V2, DATA!$I:$I, CORRELATIONS!Z$1) -> 0 | AA2: =COUNTIFS(DATA!$C:$C, CORRELATIONS!$V2, DATA!$I:$I, CORRELATIONS!AA$1) -> 0 | AB2: =COUNTIFS(DATA!$C:$C, CORRELATIONS!$V2, DATA!$I:$I, CORRELATIONS!AB$1) -> 0 | AC2: =COUNTIFS(DATA!$C:$C, CORRELATIONS!$V2, DATA!$I:$I, CORRELATIONS!AC$1) -> 0 | AD2: =COUNTIFS(DATA!$C:$C, CORRELATIONS!$V2, DATA!$I:$I, CORRELATIONS!AD$1) -> 0 | ... AI2: =COUNTIFS(DATA!$C:$C, CORRELATIONS!$V2, DATA!$I:$I, CORRELATIONS!AI$1) -> 0 | AK2: =SUM(W2:AI2) -> 0 | AM2: {=_xlfn._xlws.SORT(_xlfn.UNIQUE(STATS!I2:I100))} -> Famous | AN2: =COUNTIFS(DATA!$F:$F, CORRELATIONS!$AM2, DATA!$I:$I, CORRELATIONS!AN$1) -> 2 | AO2: =COUNTIFS(DATA!$F:$F, CORRELATIONS!$AM2, DATA!$I:$I, CORRELATIONS!AO$1) -> 8 | AP2: =COUNTIFS(DATA!$F:$F, CORRELATIONS!$AM2, DATA!$I:$I, CORRELATIONS!AP$1) -> 9 | AQ2: =COUNTIFS(DATA!$F:$F, CORRELATIONS!$AM2, DATA!$I:$I, CORRELATIONS!AQ$1) -> 15 | AR2: =COUNTIFS(DATA!$F:$F, CORRELATIONS!$AM2, DATA!$I:$I, CORRELATIONS!AR$1) -> 1 | AS2: =COUNTIFS(DATA!$F:$F, CORRELATIONS!$AM2, DATA!$I:$I, CORRELATIONS!AS$1) -> 1 | AT2: =COUNTIFS(DATA!$F:$F, CORRELATIONS!$AM2, DATA!$I:$I, CORRELATIONS!AT$1) -> 10 | AU2: =COUNTIFS(DATA!$F:$F, CORRELATIONS!$AM2, DATA!$I:$I, CORRELATIONS!AU$1) -> 1 | ... AY2: =COUNTIFS(DATA!$F:$F, CORRELATIONS!$AM2, DATA!$I:$I, CORRELATIONS!AY$1) -> 0 | BA2: =SUM(AN2:AY2) -> 47 | BC2: {=_xlfn._xlws.SORT(_xlfn.UNIQUE(STATS!M2:M100))} -> 女 | BD2: =COUNTIFS(DATA!$G:$G, CORRELATIONS!$BC2, DATA!$I:$I, CORRELATIONS!BD$1) -> 0 | BE2: =COUNTIFS(DATA!$G:$G, CORRELATIONS!$BC2, DATA!$I:$I, CORRELATIONS!BE$1) -> 0 | BF2: =COUNTIFS(DATA!$G:$G, CORRELATIONS!$BC2, DATA!$I:$I, CORRELATIONS!BF$1) -> 0 | BG2: =COUNTIFS(DATA!$G:$G, CORRELATIONS!$BC2, DATA!$I:$I, CORRELATIONS!BG$1) -> 0 | BH2: =COUNTIFS(DATA!$G:$G, CORRELATIONS!$BC2, DATA!$I:$I, CORRELATIONS!BH$1) -> 0 | BI2: =COUNTIFS(DATA!$G:$G, CORRELATIONS!$BC2, DATA!$I:$I, CORRELATIONS!BI$1) -> 0 | BJ2: =COUNTIFS(DATA!$G:$G, CORRELATIONS!$BC2, DATA!$I:$I, CORRELATIONS!BJ$1) -> 0 | BK2: =COUNTIFS(DATA!$G:$G, CORRELATIONS!$BC2, DATA!$I:$I, CORRELATIONS!BK$1) -> 0 | ... BN2: =COUNTIFS(DATA!$G:$G, CORRELATIONS!$BC2, DATA!$I:$I, CORRELATIONS!BN$1) -> 0 | BP2: =SUM(BD2:BN2) -> 0
A3: Emi Suiin | B3: =COUNTIFS(DATA!$C:$C, CORRELATIONS!$A3, DATA!$E:$E, CORRELATIONS!B$1) -> 0 | C3: =COUNTIFS(DATA!$C:$C, CORRELATIONS!$A3, DATA!$E:$E, CORRELATIONS!C$1) -> 0 | D3: =COUNTIFS(DATA!$C:$C, CORRELATIONS!$A3, DATA!$E:$E, CORRELATIONS!D$1) -> 10 | F3: =SUM(B3:D3) -> 10 | H3: Normal | I3: =COUNTIFS(DATA!$F:$F, CORRELATIONS!$H3, DATA!$E:$E, CORRELATIONS!I$1) -> 1 | J3: =COUNTIFS(DATA!$F:$F, CORRELATIONS!$H3, DATA!$E:$E, CORRELATIONS!J$1) -> 0 | K3: =COUNTIFS(DATA!$F:$F, CORRELATIONS!$H3, DATA!$E:$E, CORRELATIONS!K$1) -> 9 | M3: =SUM(I3:K3) -> 10 | O3: 男 | P3: =COUNTIFS(DATA!$G:$G, CORRELATIONS!$O3, DATA!$E:$E, CORRELATIONS!P$1) -> 33 | Q3: =COUNTIFS(DATA!$G:$G, CORRELATIONS!$O3, DATA!$E:$E, CORRELATIONS!Q$1) -> 17 | R3: =COUNTIFS(DATA!$G:$G, CORRELATIONS!$O3, DATA!$E:$E, CORRELATIONS!R$1) -> 205 | T3: =SUM(P3:R3) -> 255 | V3: Emi Suiin | W3: =COUNTIFS(DATA!$C:$C, CORRELATIONS!$V3, DATA!$I:$I, CORRELATIONS!W$1) -> 0 | X3: =COUNTIFS(DATA!$C:$C, CORRELATIONS!$V3, DATA!$I:$I, CORRELATIONS!X$1) -> 0 | Y3: =COUNTIFS(DATA!$C:$C, CORRELATIONS!$V3, DATA!$I:$I, CORRELATIONS!Y$1) -> 0 | Z3: =COUNTIFS(DATA!$C:$C, CORRELATIONS!$V3, DATA!$I:$I, CORRELATIONS!Z$1) -> 0 | AA3: =COUNTIFS(DATA!$C:$C, CORRELATIONS!$V3, DATA!$I:$I, CORRELATIONS!AA$1) -> 0 | AB3: =COUNTIFS(DATA!$C:$C, CORRELATIONS!$V3, DATA!$I:$I, CORRELATIONS!AB$1) -> 0 | AC3: =COUNTIFS(DATA!$C:$C, CORRELATIONS!$V3, DATA!$I:$I, CORRELATIONS!AC$1) -> 0 | AD3: =COUNTIFS(DATA!$C:$C, CORRELATIONS!$V3, DATA!$I:$I, CORRELATIONS!AD$1) -> 0 | ... AI3: =COUNTIFS(DATA!$C:$C, CORRELATIONS!$V3, DATA!$I:$I, CORRELATIONS!AI$1) -> 0 | AK3: =SUM(W3:AI3) -> 0 | AM3: Normal | AN3: =COUNTIFS(DATA!$F:$F, CORRELATIONS!$AM3, DATA!$I:$I, CORRELATIONS!AN$1) -> 0 | AO3: =COUNTIFS(DATA!$F:$F, CORRELATIONS!$AM3, DATA!$I:$I, CORRELATIONS!AO$1) -> 1 | AP3: =COUNTIFS(DATA!$F:$F, CORRELATIONS!$AM3, DATA!$I:$I, CORRELATIONS!AP$1) -> 0 | AQ3: =COUNTIFS(DATA!$F:$F, CORRELATIONS!$AM3, DATA!$I:$I, CORRELATIONS!AQ$1) -> 0 | AR3: =COUNTIFS(DATA!$F:$F, CORRELATIONS!$AM3, DATA!$I:$I, CORRELATIONS!AR$1) -> 0 | AS3: =COUNTIFS(DATA!$F:$F, CORRELATIONS!$AM3, DATA!$I:$I, CORRELATIONS!AS$1) -> 0 | AT3: =COUNTIFS(DATA!$F:$F, CORRELATIONS!$AM3, DATA!$I:$I, CORRELATIONS!AT$1) -> 0 | AU3: =COUNTIFS(DATA!$F:$F, CORRELATIONS!$AM3, DATA!$I:$I, CORRELATIONS!AU$1) -> 0 | ... AY3: =COUNTIFS(DATA!$F:$F, CORRELATIONS!$AM3, DATA!$I:$I, CORRELATIONS!AY$1) -> 0 | BA3: =SUM(AN3:AY3) -> 1 | BC3: 男 | BD3: =COUNTIFS(DATA!$G:$G, CORRELATIONS!$BC3, DATA!$I:$I, CORRELATIONS!BD$1) -> 2 | BE3: =COUNTIFS(DATA!$G:$G, CORRELATIONS!$BC3, DATA!$I:$I, CORRELATIONS!BE$1) -> 9 | BF3: =COUNTIFS(DATA!$G:$G, CORRELATIONS!$BC3, DATA!$I:$I, CORRELATIONS!BF$1) -> 9 | BG3: =COUNTIFS(DATA!$G:$G, CORRELATIONS!$BC3, DATA!$I:$I, CORRELATIONS!BG$1) -> 15 | BH3: =COUNTIFS(DATA!$G:$G, CORRELATIONS!$BC3, DATA!$I:$I, CORRELATIONS!BH$1) -> 1 | BI3: =COUNTIFS(DATA!$G:$G, CORRELATIONS!$BC3, DATA!$I:$I, CORRELATIONS!BI$1) -> 1 | BJ3: =COUNTIFS(DATA!$G:$G, CORRELATIONS!$BC3, DATA!$I:$I, CORRELATIONS!BJ$1) -> 10 | BK3: =COUNTIFS(DATA!$G:$G, CORRELATIONS!$BC3, DATA!$I:$I, CORRELATIONS!BK$1) -> 1 | ... BN3: =COUNTIFS(DATA!$G:$G, CORRELATIONS!$BC3, DATA!$I:$I, CORRELATIONS!BN$1) -> 0 | BP3: =SUM(BD3:BN3) -> 48
A4: Futabatei Shimei | B4: =COUNTIFS(DATA!$C:$C, CORRELATIONS!$A4, DATA!$E:$E, CORRELATIONS!B$1) -> 2 | C4: =COUNTIFS(DATA!$C:$C, CORRELATIONS!$A4, DATA!$E:$E, CORRELATIONS!C$1) -> 1 | D4: =COUNTIFS(DATA!$C:$C, CORRELATIONS!$A4, DATA!$E:$E, CORRELATIONS!D$1) -> 12 | F4: =SUM(B4:D4) -> 15 | H4: 0 | M4: =SUM(I4:K4) -> 0 | O4: 0 | V4: Futabatei Shimei | W4: =COUNTIFS(DATA!$C:$C, CORRELATIONS!$V4, DATA!$I:$I, CORRELATIONS!W$1) -> 0 | X4: =COUNTIFS(DATA!$C:$C, CORRELATIONS!$V4, DATA!$I:$I, CORRELATIONS!X$1) -> 0 | Y4: =COUNTIFS(DATA!$C:$C, CORRELATIONS!$V4, DATA!$I:$I, CORRELATIONS!Y$1) -> 0 | Z4: =COUNTIFS(DATA!$C:$C, CORRELATIONS!$V4, DATA!$I:$I, CORRELATIONS!Z$1) -> 0 | AA4: =COUNTIFS(DATA!$C:$C, CORRELATIONS!$V4, DATA!$I:$I, CORRELATIONS!AA$1) -> 0 | AB4: =COUNTIFS(DATA!$C:$C, CORRELATIONS!$V4, DATA!$I:$I, CORRELATIONS!AB$1) -> 1 | AC4: =COUNTIFS(DATA!$C:$C, CORRELATIONS!$V4, DATA!$I:$I, CORRELATIONS!AC$1) -> 2 | AD4: =COUNTIFS(DATA!$C:$C, CORRELATIONS!$V4, DATA!$I:$I, CORRELATIONS!AD$1) -> 0 | ... AI4: =COUNTIFS(DATA!$C:$C, CORRELATIONS!$V4, DATA!$I:$I, CORRELATIONS!AI$1) -> 0 | AK4: =SUM(W4:AI4) -> 3 | AM4: 0 | BC4: 0
A5: Iwano Hōmei | B5: =COUNTIFS(DATA!$C:$C, CORRELATIONS!$A5, DATA!$E:$E, CORRELATIONS!B$1) -> 0 | C5: =COUNTIFS(DATA!$C:$C, CORRELATIONS!$A5, DATA!$E:$E, CORRELATIONS!C$1) -> 0 | D5: =COUNTIFS(DATA!$C:$C, CORRELATIONS!$A5, DATA!$E:$E, CORRELATIONS!D$1) -> 8 | F5: =SUM(B5:D5) -> 8 | V5: Iwano Hōmei | W5: =COUNTIFS(DATA!$C:$C, CORRELATIONS!$V5, DATA!$I:$I, CORRELATIONS!W$1) -> 0 | X5: =COUNTIFS(DATA!$C:$C, CORRELATIONS!$V5, DATA!$I:$I, CORRELATIONS!X$1) -> 0 | Y5: =COUNTIFS(DATA!$C:$C, CORRELATIONS!$V5, DATA!$I:$I, CORRELATIONS!Y$1) -> 0 | Z5: =COUNTIFS(DATA!$C:$C, CORRELATIONS!$V5, DATA!$I:$I, CORRELATIONS!Z$1) -> 0 | AA5: =COUNTIFS(DATA!$C:$C, CORRELATIONS!$V5, DATA!$I:$I, CORRELATIONS!AA$1) -> 0 | AB5: =COUNTIFS(DATA!$C:$C, CORRELATIONS!$V5, DATA!$I:$I, CORRELATIONS!AB$1) -> 0 | AC5: =COUNTIFS(DATA!$C:$C, CORRELATIONS!$V5, DATA!$I:$I, CORRELATIONS!AC$1) -> 0 | AD5: =COUNTIFS(DATA!$C:$C, CORRELATIONS!$V5, DATA!$I:$I, CORRELATIONS!AD$1) -> 0 | ... AI5: =COUNTIFS(DATA!$C:$C, CORRELATIONS!$V5, DATA!$I:$I, CORRELATIONS!AI$1) -> 0 | AK5: =SUM(W5:AI5) -> 0
A6: Iwaya Sazanami | B6: =COUNTIFS(DATA!$C:$C, CORRELATIONS!$A6, DATA!$E:$E, CORRELATIONS!B$1) -> 0 | C6: =COUNTIFS(DATA!$C:$C, CORRELATIONS!$A6, DATA!$E:$E, CORRELATIONS!C$1) -> 0 | D6: =COUNTIFS(DATA!$C:$C, CORRELATIONS!$A6, DATA!$E:$E, CORRELATIONS!D$1) -> 2 | F6: =SUM(B6:D6) -> 2 | V6: Iwaya Sazanami | W6: =COUNTIFS(DATA!$C:$C, CORRELATIONS!$V6, DATA!$I:$I, CORRELATIONS!W$1) -> 0 | X6: =COUNTIFS(DATA!$C:$C, CORRELATIONS!$V6, DATA!$I:$I, CORRELATIONS!X$1) -> 0 | Y6: =COUNTIFS(DATA!$C:$C, CORRELATIONS!$V6, DATA!$I:$I, CORRELATIONS!Y$1) -> 0 | Z6: =COUNTIFS(DATA!$C:$C, CORRELATIONS!$V6, DATA!$I:$I, CORRELATIONS!Z$1) -> 0 | AA6: =COUNTIFS(DATA!$C:$C, CORRELATIONS!$V6, DATA!$I:$I, CORRELATIONS!AA$1) -> 0 | AB6: =COUNTIFS(DATA!$C:$C, CORRELATIONS!$V6, DATA!$I:$I, CORRELATIONS!AB$1) -> 0 | AC6: =COUNTIFS(DATA!$C:$C, CORRELATIONS!$V6, DATA!$I:$I, CORRELATIONS!AC$1) -> 0 | AD6: =COUNTIFS(DATA!$C:$C, CORRELATIONS!$V6, DATA!$I:$I, CORRELATIONS!AD$1) -> 0 | ... AI6: =COUNTIFS(DATA!$C:$C, CORRELATIONS!$V6, DATA!$I:$I, CORRELATIONS!AI$1) -> 0 | AK6: =SUM(W6:AI6) -> 0
A7: Jōno Saigiku | B7: =COUNTIFS(DATA!$C:$C, CORRELATIONS!$A7, DATA!$E:$E, CORRELATIONS!B$1) -> 0 | C7: =COUNTIFS(DATA!$C:$C, CORRELATIONS!$A7, DATA!$E:$E, CORRELATIONS!C$1) -> 0 | D7: =COUNTIFS(DATA!$C:$C, CORRELATIONS!$A7, DATA!$E:$E, CORRELATIONS!D$1) -> 1 | F7: =SUM(B7:D7) -> 1 | V7: Jōno Saigiku | W7: =COUNTIFS(DATA!$C:$C, CORRELATIONS!$V7, DATA!$I:$I, CORRELATIONS!W$1) -> 0 | X7: =COUNTIFS(DATA!$C:$C, CORRELATIONS!$V7, DATA!$I:$I, CORRELATIONS!X$1) -> 0 | Y7: =COUNTIFS(DATA!$C:$C, CORRELATIONS!$V7, DATA!$I:$I, CORRELATIONS!Y$1) -> 0 | Z7: =COUNTIFS(DATA!$C:$C, CORRELATIONS!$V7, DATA!$I:$I, CORRELATIONS!Z$1) -> 0 | AA7: =COUNTIFS(DATA!$C:$C, CORRELATIONS!$V7, DATA!$I:$I, CORRELATIONS!AA$1) -> 0 | AB7: =COUNTIFS(DATA!$C:$C, CORRELATIONS!$V7, DATA!$I:$I, CORRELATIONS!AB$1) -> 0 | AC7: =COUNTIFS(DATA!$C:$C, CORRELATIONS!$V7, DATA!$I:$I, CORRELATIONS!AC$1) -> 0 | AD7: =COUNTIFS(DATA!$C:$C, CORRELATIONS!$V7, DATA!$I:$I, CORRELATIONS!AD$1) -> 0 | ... AI7: =COUNTIFS(DATA!$C:$C, CORRELATIONS!$V7, DATA!$I:$I, CORRELATIONS!AI$1) -> 0 | AK7: =SUM(W7:AI7) -> 0
A8: Kanbara Ariake | B8: =COUNTIFS(DATA!$C:$C, CORRELATIONS!$A8, DATA!$E:$E, CORRELATIONS!B$1) -> 0 | C8: =COUNTIFS(DATA!$C:$C, CORRELATIONS!$A8, DATA!$E:$E, CORRELATIONS!C$1) -> 0 | D8: =COUNTIFS(DATA!$C:$C, CORRELATIONS!$A8, DATA!$E:$E, CORRELATIONS!D$1) -> 13 | F8: =SUM(B8:D8) -> 13 | V8: Kanbara Ariake | W8: =COUNTIFS(DATA!$C:$C, CORRELATIONS!$V8, DATA!$I:$I, CORRELATIONS!W$1) -> 0 | X8: =COUNTIFS(DATA!$C:$C, CORRELATIONS!$V8, DATA!$I:$I, CORRELATIONS!X$1) -> 0 | Y8: =COUNTIFS(DATA!$C:$C, CORRELATIONS!$V8, DATA!$I:$I, CORRELATIONS!Y$1) -> 0 | Z8: =COUNTIFS(DATA!$C:$C, CORRELATIONS!$V8, DATA!$I:$I, CORRELATIONS!Z$1) -> 0 | AA8: =COUNTIFS(DATA!$C:$C, CORRELATIONS!$V8, DATA!$I:$I, CORRELATIONS!AA$1) -> 0 | AB8: =COUNTIFS(DATA!$C:$C, CORRELATIONS!$V8, DATA!$I:$I, CORRELATIONS!AB$1) -> 0 | AC8: =COUNTIFS(DATA!$C:$C, CORRELATIONS!$V8, DATA!$I:$I, CORRELATIONS!AC$1) -> 0 | AD8: =COUNTIFS(DATA!$C:$C, CORRELATIONS!$V8, DATA!$I:$I, CORRELATIONS!AD$1) -> 0 | ... AI8: =COUNTIFS(DATA!$C:$C, CORRELATIONS!$V8, DATA!$I:$I, CORRELATIONS!AI$1) -> 0 | AK8: =SUM(W8:AI8) -> 0
A9: Kanda Takahira | B9: =COUNTIFS(DATA!$C:$C, CORRELATIONS!$A9, DATA!$E:$E, CORRELATIONS!B$1) -> 0 | C9: =COUNTIFS(DATA!$C:$C, CORRELATIONS!$A9, DATA!$E:$E, CORRELATIONS!C$1) -> 0 | D9: =COUNTIFS(DATA!$C:$C, CORRELATIONS!$A9, DATA!$E:$E, CORRELATIONS!D$1) -> 2 | F9: =SUM(B9:D9) -> 2 | V9: Kanda Takahira | W9: =COUNTIFS(DATA!$C:$C, CORRELATIONS!$V9, DATA!$I:$I, CORRELATIONS!W$1) -> 0 | X9: =COUNTIFS(DATA!$C:$C, CORRELATIONS!$V9, DATA!$I:$I, CORRELATIONS!X$1) -> 0 | Y9: =COUNTIFS(DATA!$C:$C, CORRELATIONS!$V9, DATA!$I:$I, CORRELATIONS!Y$1) -> 0 | Z9: =COUNTIFS(DATA!$C:$C, CORRELATIONS!$V9, DATA!$I:$I, CORRELATIONS!Z$1) -> 0 | AA9: =COUNTIFS(DATA!$C:$C, CORRELATIONS!$V9, DATA!$I:$I, CORRELATIONS!AA$1) -> 0 | AB9: =COUNTIFS(DATA!$C:$C, CORRELATIONS!$V9, DATA!$I:$I, CORRELATIONS!AB$1) -> 0 | AC9: =COUNTIFS(DATA!$C:$C, CORRELATIONS!$V9, DATA!$I:$I, CORRELATIONS!AC$1) -> 0 | AD9: =COUNTIFS(DATA!$C:$C, CORRELATIONS!$V9, DATA!$I:$I, CORRELATIONS!AD$1) -> 0 | ... AI9: =COUNTIFS(DATA!$C:$C, CORRELATIONS!$V9, DATA!$I:$I, CORRELATIONS!AI$1) -> 0 | AK9: =SUM(W9:AI9) -> 0
A10: Kōda Rohan | B10: =COUNTIFS(DATA!$C:$C, CORRELATIONS!$A10, DATA!$E:$E, CORRELATIONS!B$1) -> 0 | C10: =COUNTIFS(DATA!$C:$C, CORRELATIONS!$A10, DATA!$E:$E, CORRELATIONS!C$1) -> 0 | D10: =COUNTIFS(DATA!$C:$C, CORRELATIONS!$A10, DATA!$E:$E, CORRELATIONS!D$1) -> 11 | F10: =SUM(B10:D10) -> 11 | V10: Kōda Rohan | W10: =COUNTIFS(DATA!$C:$C, CORRELATIONS!$V10, DATA!$I:$I, CORRELATIONS!W$1) -> 0 | X10: =COUNTIFS(DATA!$C:$C, CORRELATIONS!$V10, DATA!$I:$I, CORRELATIONS!X$1) -> 0 | Y10: =COUNTIFS(DATA!$C:$C, CORRELATIONS!$V10, DATA!$I:$I, CORRELATIONS!Y$1) -> 0 | Z10: =COUNTIFS(DATA!$C:$C, CORRELATIONS!$V10, DATA!$I:$I, CORRELATIONS!Z$1) -> 0 | AA10: =COUNTIFS(DATA!$C:$C, CORRELATIONS!$V10, DATA!$I:$I, CORRELATIONS!AA$1) -> 0 | AB10: =COUNTIFS(DATA!$C:$C, CORRELATIONS!$V10, DATA!$I:$I, CORRELATIONS!AB$1) -> 0 | AC10: =COUNTIFS(DATA!$C:$C, CORRELATIONS!$V10, DATA!$I:$I, CORRELATIONS!AC$1) -> 0 | AD10: =COUNTIFS(DATA!$C:$C, CORRELATIONS!$V10, DATA!$I:$I, CORRELATIONS!AD$1) -> 0 | ... AI10: =COUNTIFS(DATA!$C:$C, CORRELATIONS!$V10, DATA!$I:$I, CORRELATIONS!AI$1) -> 0 | AK10: =SUM(W10:AI10) -> 0
A11: Kodama Kagai | B11: =COUNTIFS(DATA!$C:$C, CORRELATIONS!$A11, DATA!$E:$E, CORRELATIONS!B$1) -> 0 | C11: =COUNTIFS(DATA!$C:$C, CORRELATIONS!$A11, DATA!$E:$E, CORRELATIONS!C$1) -> 0 | D11: =COUNTIFS(DATA!$C:$C, CORRELATIONS!$A11, DATA!$E:$E, CORRELATIONS!D$1) -> 1 | F11: =SUM(B11:D11) -> 1 | V11: Kodama Kagai | W11: =COUNTIFS(DATA!$C:$C, CORRELATIONS!$V11, DATA!$I:$I, CORRELATIONS!W$1) -> 0 | X11: =COUNTIFS(DATA!$C:$C, CORRELATIONS!$V11, DATA!$I:$I, CORRELATIONS!X$1) -> 0 | Y11: =COUNTIFS(DATA!$C:$C, CORRELATIONS!$V11, DATA!$I:$I, CORRELATIONS!Y$1) -> 0 | Z11: =COUNTIFS(DATA!$C:$C, CORRELATIONS!$V11, DATA!$I:$I, CORRELATIONS!Z$1) -> 0 | AA11: =COUNTIFS(DATA!$C:$C, CORRELATIONS!$V11, DATA!$I:$I, CORRELATIONS!AA$1) -> 0 | AB11: =COUNTIFS(DATA!$C:$C, CORRELATIONS!$V11, DATA!$I:$I, CORRELATIONS!AB$1) -> 0 | AC11: =COUNTIFS(DATA!$C:$C, CORRELATIONS!$V11, DATA!$I:$I, CORRELATIONS!AC$1) -> 0 | AD11: =COUNTIFS(DATA!$C:$C, CORRELATIONS!$V11, DATA!$I:$I, CORRELATIONS!AD$1) -> 0 | ... AI11: =COUNTIFS(DATA!$C:$C, CORRELATIONS!$V11, DATA!$I:$I, CORRELATIONS!AI$1) -> 0 | AK11: =SUM(W11:AI11) -> 0
A12: Kunikida Doppo | B12: =COUNTIFS(DATA!$C:$C, CORRELATIONS!$A12, DATA!$E:$E, CORRELATIONS!B$1) -> 0 | C12: =COUNTIFS(DATA!$C:$C, CORRELATIONS!$A12, DATA!$E:$E, CORRELATIONS!C$1) -> 3 | D12: =COUNTIFS(DATA!$C:$C, CORRELATIONS!$A12, DATA!$E:$E, CORRELATIONS!D$1) -> 41 | F12: =SUM(B12:D12) -> 44 | V12: Kunikida Doppo | W12: =COUNTIFS(DATA!$C:$C, CORRELATIONS!$V12, DATA!$I:$I, CORRELATIONS!W$1) -> 0 | X12: =COUNTIFS(DATA!$C:$C, CORRELATIONS!$V12, DATA!$I:$I, CORRELATIONS!X$1) -> 0 | Y12: =COUNTIFS(DATA!$C:$C, CORRELATIONS!$V12, DATA!$I:$I, CORRELATIONS!Y$1) -> 2 | Z12: =COUNTIFS(DATA!$C:$C, CORRELATIONS!$V12, DATA!$I:$I, CORRELATIONS!Z$1) -> 0 | AA12: =COUNTIFS(DATA!$C:$C, CORRELATIONS!$V12, DATA!$I:$I, CORRELATIONS!AA$1) -> 0 | AB12: =COUNTIFS(DATA!$C:$C, CORRELATIONS!$V12, DATA!$I:$I, CORRELATIONS!AB$1) -> 0 | AC12: =COUNTIFS(DATA!$C:$C, CORRELATIONS!$V12, DATA!$I:$I, CORRELATIONS!AC$1) -> 0 | AD12: =COUNTIFS(DATA!$C:$C, CORRELATIONS!$V12, DATA!$I:$I, CORRELATIONS!AD$1) -> 0 | ... AI12: =COUNTIFS(DATA!$C:$C, CORRELATIONS!$V12, DATA!$I:$I, CORRELATIONS!AI$1) -> 0 | AK12: =SUM(W12:AI12) -> 2
A13: Kuroiwa Ruiko | B13: =COUNTIFS(DATA!$C:$C, CORRELATIONS!$A13, DATA!$E:$E, CORRELATIONS!B$1) -> 3 | C13: =COUNTIFS(DATA!$C:$C, CORRELATIONS!$A13, DATA!$E:$E, CORRELATIONS!C$1) -> 1 | D13: =COUNTIFS(DATA!$C:$C, CORRELATIONS!$A13, DATA!$E:$E, CORRELATIONS!D$1) -> 2 | F13: =SUM(B13:D13) -> 6 | V13: Kuroiwa Ruiko | W13: =COUNTIFS(DATA!$C:$C, CORRELATIONS!$V13, DATA!$I:$I, CORRELATIONS!W$1) -> 0 | X13: =COUNTIFS(DATA!$C:$C, CORRELATIONS!$V13, DATA!$I:$I, CORRELATIONS!X$1) -> 2 | Y13: =COUNTIFS(DATA!$C:$C, CORRELATIONS!$V13, DATA!$I:$I, CORRELATIONS!Y$1) -> 1 | Z13: =COUNTIFS(DATA!$C:$C, CORRELATIONS!$V13, DATA!$I:$I, CORRELATIONS!Z$1) -> 0 | AA13: =COUNTIFS(DATA!$C:$C, CORRELATIONS!$V13, DATA!$I:$I, CORRELATIONS!AA$1) -> 0 | AB13: =COUNTIFS(DATA!$C:$C, CORRELATIONS!$V13, DATA!$I:$I, CORRELATIONS!AB$1) -> 0 | AC13: =COUNTIFS(DATA!$C:$C, CORRELATIONS!$V13, DATA!$I:$I, CORRELATIONS!AC$1) -> 0 | AD13: =COUNTIFS(DATA!$C:$C, CORRELATIONS!$V13, DATA!$I:$I, CORRELATIONS!AD$1) -> 0 | ... AI13: =COUNTIFS(DATA!$C:$C, CORRELATIONS!$V13, DATA!$I:$I, CORRELATIONS!AI$1) -> 0 | AK13: =SUM(W13:AI13) -> 3
A14: Miyazaki Koshoshi | B14: =COUNTIFS(DATA!$C:$C, CORRELATIONS!$A14, DATA!$E:$E, CORRELATIONS!B$1) -> 0 | C14: =COUNTIFS(DATA!$C:$C, CORRELATIONS!$A14, DATA!$E:$E, CORRELATIONS!C$1) -> 0 | D14: =COUNTIFS(DATA!$C:$C, CORRELATIONS!$A14, DATA!$E:$E, CORRELATIONS!D$1) -> 2 | F14: =SUM(B14:D14) -> 2 | V14: Miyazaki Koshoshi | W14: =COUNTIFS(DATA!$C:$C, CORRELATIONS!$V14, DATA!$I:$I, CORRELATIONS!W$1) -> 0 | X14: =COUNTIFS(DATA!$C:$C, CORRELATIONS!$V14, DATA!$I:$I, CORRELATIONS!X$1) -> 0 | Y14: =COUNTIFS(DATA!$C:$C, CORRELATIONS!$V14, DATA!$I:$I, CORRELATIONS!Y$1) -> 0 | Z14: =COUNTIFS(DATA!$C:$C, CORRELATIONS!$V14, DATA!$I:$I, CORRELATIONS!Z$1) -> 0 | AA14: =COUNTIFS(DATA!$C:$C, CORRELATIONS!$V14, DATA!$I:$I, CORRELATIONS!AA$1) -> 0 | AB14: =COUNTIFS(DATA!$C:$C, CORRELATIONS!$V14, DATA!$I:$I, CORRELATIONS!AB$1) -> 0 | AC14: =COUNTIFS(DATA!$C:$C, CORRELATIONS!$V14, DATA!$I:$I, CORRELATIONS!AC$1) -> 0 | AD14: =COUNTIFS(DATA!$C:$C, CORRELATIONS!$V14, DATA!$I:$I, CORRELATIONS!AD$1) -> 0 | ... AI14: =COUNTIFS(DATA!$C:$C, CORRELATIONS!$V14, DATA!$I:$I, CORRELATIONS!AI$1) -> 0 | AK14: =SUM(W14:AI14) -> 0
A15: Mori Ogai | B15: =COUNTIFS(DATA!$C:$C, CORRELATIONS!$A15, DATA!$E:$E, CORRELATIONS!B$1) -> 22 | C15: =COUNTIFS(DATA!$C:$C, CORRELATIONS!$A15, DATA!$E:$E, CORRELATIONS!C$1) -> 10 | D15: =COUNTIFS(DATA!$C:$C, CORRELATIONS!$A15, DATA!$E:$E, CORRELATIONS!D$1) -> 34 | F15: =SUM(B15:D15) -> 66 | V15: Mori Ogai | W15: =COUNTIFS(DATA!$C:$C, CORRELATIONS!$V15, DATA!$I:$I, CORRELATIONS!W$1) -> 2 | X15: =COUNTIFS(DATA!$C:$C, CORRELATIONS!$V15, DATA!$I:$I, CORRELATIONS!X$1) -> 2 | Y15: =COUNTIFS(DATA!$C:$C, CORRELATIONS!$V15, DATA!$I:$I, CORRELATIONS!Y$1) -> 4 | Z15: =COUNTIFS(DATA!$C:$C, CORRELATIONS!$V15, DATA!$I:$I, CORRELATIONS!Z$1) -> 15 | AA15: =COUNTIFS(DATA!$C:$C, CORRELATIONS!$V15, DATA!$I:$I, CORRELATIONS!AA$1) -> 0 | AB15: =COUNTIFS(DATA!$C:$C, CORRELATIONS!$V15, DATA!$I:$I, CORRELATIONS!AB$1) -> 0 | AC15: =COUNTIFS(DATA!$C:$C, CORRELATIONS!$V15, DATA!$I:$I, CORRELATIONS!AC$1) -> 8 | AD15: =COUNTIFS(DATA!$C:$C, CORRELATIONS!$V15, DATA!$I:$I, CORRELATIONS!AD$1) -> 1 | ... AI15: =COUNTIFS(DATA!$C:$C, CORRELATIONS!$V15, DATA!$I:$I, CORRELATIONS!AI$1) -> 0 | AK15: =SUM(W15:AI15) -> 32
A16: Morita Shiken | B16: =COUNTIFS(DATA!$C:$C, CORRELATIONS!$A16, DATA!$E:$E, CORRELATIONS!B$1) -> 3 | C16: =COUNTIFS(DATA!$C:$C, CORRELATIONS!$A16, DATA!$E:$E, CORRELATIONS!C$1) -> 0 | D16: =COUNTIFS(DATA!$C:$C, CORRELATIONS!$A16, DATA!$E:$E, CORRELATIONS!D$1) -> 0 | F16: =SUM(B16:D16) -> 3 | V16: Morita Shiken | W16: =COUNTIFS(DATA!$C:$C, CORRELATIONS!$V16, DATA!$I:$I, CORRELATIONS!W$1) -> 0 | X16: =COUNTIFS(DATA!$C:$C, CORRELATIONS!$V16, DATA!$I:$I, CORRELATIONS!X$1) -> 3 | Y16: =COUNTIFS(DATA!$C:$C, CORRELATIONS!$V16, DATA!$I:$I, CORRELATIONS!Y$1) -> 0 | Z16: =COUNTIFS(DATA!$C:$C, CORRELATIONS!$V16, DATA!$I:$I, CORRELATIONS!Z$1) -> 0 | AA16: =COUNTIFS(DATA!$C:$C, CORRELATIONS!$V16, DATA!$I:$I, CORRELATIONS!AA$1) -> 0 | AB16: =COUNTIFS(DATA!$C:$C, CORRELATIONS!$V16, DATA!$I:$I, CORRELATIONS!AB$1) -> 0 | AC16: =COUNTIFS(DATA!$C:$C, CORRELATIONS!$V16, DATA!$I:$I, CORRELATIONS!AC$1) -> 0 | AD16: =COUNTIFS(DATA!$C:$C, CORRELATIONS!$V16, DATA!$I:$I, CORRELATIONS!AD$1) -> 0 | ... AI16: =COUNTIFS(DATA!$C:$C, CORRELATIONS!$V16, DATA!$I:$I, CORRELATIONS!AI$1) -> 0 | AK16: =SUM(W16:AI16) -> 3
... A36: Yoshie Takamatsu | B36: =COUNTIFS(DATA!$C:$C, CORRELATIONS!$A36, DATA!$E:$E, CORRELATIONS!B$1) -> 0 | C36: =COUNTIFS(DATA!$C:$C, CORRELATIONS!$A36, DATA!$E:$E, CORRELATIONS!C$1) -> 0 | D36: =COUNTIFS(DATA!$C:$C, CORRELATIONS!$A36, DATA!$E:$E, CORRELATIONS!D$1) -> 2 | F36: =SUM(B36:D36) -> 2 | V36: Yoshie Takamatsu | W36: =COUNTIFS(DATA!$C:$C, CORRELATIONS!$V36, DATA!$I:$I, CORRELATIONS!W$1) -> 0 | X36: =COUNTIFS(DATA!$C:$C, CORRELATIONS!$V36, DATA!$I:$I, CORRELATIONS!X$1) -> 0 | Y36: =COUNTIFS(DATA!$C:$C, CORRELATIONS!$V36, DATA!$I:$I, CORRELATIONS!Y$1) -> 0 | Z36: =COUNTIFS(DATA!$C:$C, CORRELATIONS!$V36, DATA!$I:$I, CORRELATIONS!Z$1) -> 0 | AA36: =COUNTIFS(DATA!$C:$C, CORRELATIONS!$V36, DATA!$I:$I, CORRELATIONS!AA$1) -> 0 | AB36: =COUNTIFS(DATA!$C:$C, CORRELATIONS!$V36, DATA!$I:$I, CORRELATIONS!AB$1) -> 0 | AC36: =COUNTIFS(DATA!$C:$C, CORRELATIONS!$V36, DATA!$I:$I, CORRELATIONS!AC$1) -> 0 | AD36: =COUNTIFS(DATA!$C:$C, CORRELATIONS!$V36, DATA!$I:$I, CORRELATIONS!AD$1) -> 0 | ... AI36: =COUNTIFS(DATA!$C:$C, CORRELATIONS!$V36, DATA!$I:$I, CORRELATIONS!AI$1) -> 0 | AK36: =SUM(W36:AI36) -> 0
A37: 0 | B37: =COUNTIFS(DATA!$C:$C, CORRELATIONS!$A37, DATA!$E:$E, CORRELATIONS!B$1) -> 0 | C37: =COUNTIFS(DATA!$C:$C, CORRELATIONS!$A37, DATA!$E:$E, CORRELATIONS!C$1) -> 0 | D37: =COUNTIFS(DATA!$C:$C, CORRELATIONS!$A37, DATA!$E:$E, CORRELATIONS!D$1) -> 0 | F37: =SUM(B37:D37) -> 0 | V37: 0 | W37: =COUNTIFS(DATA!$C:$C, CORRELATIONS!$V37, DATA!$I:$I, CORRELATIONS!W$1) -> 0 | X37: =COUNTIFS(DATA!$C:$C, CORRELATIONS!$V37, DATA!$I:$I, CORRELATIONS!X$1) -> 0 | Y37: =COUNTIFS(DATA!$C:$C, CORRELATIONS!$V37, DATA!$I:$I, CORRELATIONS!Y$1) -> 0 | Z37: =COUNTIFS(DATA!$C:$C, CORRELATIONS!$V37, DATA!$I:$I, CORRELATIONS!Z$1) -> 0 | AA37: =COUNTIFS(DATA!$C:$C, CORRELATIONS!$V37, DATA!$I:$I, CORRELATIONS!AA$1) -> 0 | AB37: =COUNTIFS(DATA!$C:$C, CORRELATIONS!$V37, DATA!$I:$I, CORRELATIONS!AB$1) -> 0 | AC37: =COUNTIFS(DATA!$C:$C, CORRELATIONS!$V37, DATA!$I:$I, CORRELATIONS!AC$1) -> 0 | AD37: =COUNTIFS(DATA!$C:$C, CORRELATIONS!$V37, DATA!$I:$I, CORRELATIONS!AD$1) -> 0 | ... AI37: =COUNTIFS(DATA!$C:$C, CORRELATIONS!$V37, DATA!$I:$I, CORRELATIONS!AI$1) -> 0 | AK37: =SUM(W37:AI37) -> 0
B38: =COUNTIFS(DATA!$C:$C, CORRELATIONS!$A38, DATA!$E:$E, CORRELATIONS!B$1) -> 0 | C38: =COUNTIFS(DATA!$C:$C, CORRELATIONS!$A38, DATA!$E:$E, CORRELATIONS!C$1) -> 0 | D38: =COUNTIFS(DATA!$C:$C, CORRELATIONS!$A38, DATA!$E:$E, CORRELATIONS!D$1) -> 0 | F38: =SUM(B38:D38) -> 0 | W38: =COUNTIFS(DATA!$C:$C, CORRELATIONS!$V38, DATA!$I:$I, CORRELATIONS!W$1) -> 0 | X38: =COUNTIFS(DATA!$C:$C, CORRELATIONS!$V38, DATA!$I:$I, CORRELATIONS!X$1) -> 0 | Y38: =COUNTIFS(DATA!$C:$C, CORRELATIONS!$V38, DATA!$I:$I, CORRELATIONS!Y$1) -> 0 | Z38: =COUNTIFS(DATA!$C:$C, CORRELATIONS!$V38, DATA!$I:$I, CORRELATIONS!Z$1) -> 0 | AA38: =COUNTIFS(DATA!$C:$C, CORRELATIONS!$V38, DATA!$I:$I, CORRELATIONS!AA$1) -> 0 | AB38: =COUNTIFS(DATA!$C:$C, CORRELATIONS!$V38, DATA!$I:$I, CORRELATIONS!AB$1) -> 0 | AC38: =COUNTIFS(DATA!$C:$C, CORRELATIONS!$V38, DATA!$I:$I, CORRELATIONS!AC$1) -> 0 | AD38: =COUNTIFS(DATA!$C:$C, CORRELATIONS!$V38, DATA!$I:$I, CORRELATIONS!AD$1) -> 0 | ... AI38: =COUNTIFS(DATA!$C:$C, CORRELATIONS!$V38, DATA!$I:$I, CORRELATIONS!AI$1) -> 0 | AK38: =SUM(W38:AI38) -> 0
B39: =COUNTIFS(DATA!$C:$C, CORRELATIONS!$A39, DATA!$E:$E, CORRELATIONS!B$1) -> 0 | C39: =COUNTIFS(DATA!$C:$C, CORRELATIONS!$A39, DATA!$E:$E, CORRELATIONS!C$1) -> 0 | D39: =COUNTIFS(DATA!$C:$C, CORRELATIONS!$A39, DATA!$E:$E, CORRELATIONS!D$1) -> 0 | F39: =SUM(B39:D39) -> 0 | W39: =COUNTIFS(DATA!$C:$C, CORRELATIONS!$V39, DATA!$I:$I, CORRELATIONS!W$1) -> 0 | X39: =COUNTIFS(DATA!$C:$C, CORRELATIONS!$V39, DATA!$I:$I, CORRELATIONS!X$1) -> 0 | Y39: =COUNTIFS(DATA!$C:$C, CORRELATIONS!$V39, DATA!$I:$I, CORRELATIONS!Y$1) -> 0 | Z39: =COUNTIFS(DATA!$C:$C, CORRELATIONS!$V39, DATA!$I:$I, CORRELATIONS!Z$1) -> 0 | AA39: =COUNTIFS(DATA!$C:$C, CORRELATIONS!$V39, DATA!$I:$I, CORRELATIONS!AA$1) -> 0 | AB39: =COUNTIFS(DATA!$C:$C, CORRELATIONS!$V39, DATA!$I:$I, CORRELATIONS!AB$1) -> 0 | AC39: =COUNTIFS(DATA!$C:$C, CORRELATIONS!$V39, DATA!$I:$I, CORRELATIONS!AC$1) -> 0 | AD39: =COUNTIFS(DATA!$C:$C, CORRELATIONS!$V39, DATA!$I:$I, CORRELATIONS!AD$1) -> 0 | ... AI39: =COUNTIFS(DATA!$C:$C, CORRELATIONS!$V39, DATA!$I:$I, CORRELATIONS!AI$1) -> 0 | AK39: =SUM(W39:AI39) -> 0

Sheet 明治期
B1: {=TRANSPOSE(_xlfn._xlws.SORT(_xlfn.UNIQUE(STATS!A2:A100)))} -> Chikamatsu Shūkō | C1: Emi Suiin | D1: Futabatei Shimei | E1: Iwano Hōmei | F1: Iwaya Sazanami | G1: Jōno Saigiku | H1: Kanbara Ariake | I1: Kanda Takahira | J1: Kōda Rohan | K1: Kodama Kagai | L1: Kunikida Doppo | M1: Kuroiwa Ruiko | N1: Miyazaki Koshoshi | O1: Mori Ogai | P1: Morita Shiken | Q1: Oguri Fūyō | R1: Osanai Kaoru | S1: Ozaki Kōyō | T1: Sakai Toshihiko | U1: Shibata Ryūsei | V1: Shimamura Hōgetsu | W1: Shimazaki Tōson | X1: Sugano Tokusuke/Nakura Jiro | Y1: Takayama Chogyū | Z1: Tayama Katai | AA1: Tokuda Shūsei | AB1: Tsubouchi Shōyō | AC1: Tsukahara Jūshien | AD1: Uchida Roan | AE1: Uchimura Kanzo | AF1: Ueda Bin | AG1: Wakamatsu Shizuko | AH1: Yamada Bimyō | AI1: Yazaki Sagano | AJ1: Yoshie Takamatsu | AK1: 0 | AZ1: SUM | BE1: {=TRANSPOSE(_xlfn._xlws.SORT(_xlfn.UNIQUE(STATS!E2:E100)))} -> Direct Translation | BF1: Indirect Translation | BG1: Non-translation | BH1: 0 | BL1: {=TRANSPOSE(_xlfn._xlws.SORT(_xlfn.UNIQUE(STATS!I2:I100)))} -> Famous | BM1: Normal | BN1: 0 | BQ1: {=TRANSPOSE(_xlfn._xlws.SORT(_xlfn.UNIQUE(STATS!M2:M100)))} -> 女 | BR1: 男 | BS1: 0 | BV1: {=TRANSPOSE(_xlfn._xlws.SORT(_xlfn.UNIQUE(STATS!Q2:Q100)))} -> Danish | BW1: English | BX1: French | BY1: German | BZ1: Norwegian | CA1: Polish | CB1: Russian | CC1: Swedish | CD1: 0
A2: 1868 | B2: =COUNTIFS(DATA!$B:$B, 明治期!$A2, DATA!$C:$C, 明治期!B$1) -> 0 | C2: =COUNTIFS(DATA!$B:$B, 明治期!$A2, DATA!$C:$C, 明治期!C$1) -> 0 | D2: =COUNTIFS(DATA!$B:$B, 明治期!$A2, DATA!$C:$C, 明治期!D$1) -> 1 | E2: =COUNTIFS(DATA!$B:$B, 明治期!$A2, DATA!$C:$C, 明治期!E$1) -> 0 | F2: =COUNTIFS(DATA!$B:$B, 明治期!$A2, DATA!$C:$C, 明治期!F$1) -> 0 | G2: =COUNTIFS(DATA!$B:$B, 明治期!$A2, DATA!$C:$C, 明治期!G$1) -> 0 | H2: =COUNTIFS(DATA!$B:$B, 明治期!$A2, DATA!$C:$C, 明治期!H$1) -> 0 | I2: =COUNTIFS(DATA!$B:$B, 明治期!$A2, DATA!$C:$C, 明治期!I$1) -> 0 | ... AX2: =COUNTIFS(DATA!$B:$B, 明治期!$A2, DATA!$C:$C, 明治期!AX$1) -> 0 | AZ2: =SUM(B2:L2) -> 1 | BD2: =A2 -> 1868 | BE2: =COUNTIFS(DATA!$B:$B, 明治期!$A2, DATA!$E:$E, 明治期!BE$1) -> 0 | BF2: =COUNTIFS(DATA!$B:$B, 明治期!$A2, DATA!$E:$E, 明治期!BF$1) -> 0 | BG2: =COUNTIFS(DATA!$B:$B, 明治期!$A2, DATA!$E:$E, 明治期!BG$1) -> 1 | BH2: =COUNTIFS(DATA!$B:$B, 明治期!$A2, DATA!$E:$E, 明治期!BH$1) -> 0 | BK2: =BD2 -> 1868 | BL2: =COUNTIFS(DATA!$B:$B, 明治期!$A2, DATA!$F:$F, 明治期!BL$1) -> 1 | BM2: =COUNTIFS(DATA!$B:$B, 明治期!$A2, DATA!$F:$F, 明治期!BM$1) -> 0 | BP2: =BK2 -> 1868 | BQ2: =COUNTIFS(DATA!$B:$B, 明治期!$A2, DATA!$G:$G, 明治期!BQ$1) -> 0 | BR2: =COUNTIFS(DATA!$B:$B, 明治期!$A2, DATA!$G:$G, 明治期!BR$1) -> 1 | BU2: =BP2 -> 1868 | BV2: =COUNTIFS(DATA!$B:$B, 明治期!$A2, DATA!$I:$I, 明治期!BV$1) -> 0 | BW2: =COUNTIFS(DATA!$B:$B, 明治期!$A2, DATA!$I:$I, 明治期!BW$1) -> 0 | BX2: =COUNTIFS(DATA!$B:$B, 明治期!$A2, DATA!$I:$I, 明治期!BX$1) -> 0 | BY2: =COUNTIFS(DATA!$B:$B, 明治期!$A2, DATA!$I:$I, 明治期!BY$1) -> 0 | BZ2: =COUNTIFS(DATA!$B:$B, 明治期!$A2, DATA!$I:$I, 明治期!BZ$1) -> 0 | CA2: =COUNTIFS(DATA!$B:$B, 明治期!$A2, DATA!$I:$I, 明治期!CA$1) -> 0 | CB2: =COUNTIFS(DATA!$B:$B, 明治期!$A2, DATA!$I:$I, 明治期!CB$1) -> 0 | CC2: =COUNTIFS(DATA!$B:$B, 明治期!$A2, DATA!$I:$I, 明治期!CC$1) -> 0 | ... CH2: =COUNTIFS(DATA!$B:$B, 明治期!$A2, DATA!$I:$I, 明治期!CH$1) -> 0
A3: =A2+1 -> 1869 | B3: =COUNTIFS(DATA!$B:$B, 明治期!$A3, DATA!$C:$C, 明治期!B$1) -> 0 | C3: =COUNTIFS(DATA!$B:$B, 明治期!$A3, DATA!$C:$C, 明治期!C$1) -> 0 | D3: =COUNTIFS(DATA!$B:$B, 明治期!$A3, DATA!$C:$C, 明治期!D$1) -> 0 | E3: =COUNTIFS(DATA!$B:$B, 明治期!$A3, DATA!$C:$C, 明治期!E$1) -> 0 | F3: =COUNTIFS(DATA!$B:$B, 明治期!$A3, DATA!$C:$C, 明治期!F$1) -> 0 | G3: =COUNTIFS(DATA!$B:$B, 明治期!$A3, DATA!$C:$C, 明治期!G$1) -> 0 | H3: =COUNTIFS(DATA!$B:$B, 明治期!$A3, DATA!$C:$C, 明治期!H$1) -> 0 | I3: =COUNTIFS(DATA!$B:$B, 明治期!$A3, DATA!$C:$C, 明治期!I$1) -> 0 | ... AX3: =COUNTIFS(DATA!$B:$B, 明治期!$A3, DATA!$C:$C, 明治期!AX$1) -> 0 | AZ3: =SUM(B3:L3) -> 0 | BD3: =A3 -> 1869 | BE3: =COUNTIFS(DATA!$B:$B, 明治期!$A3, DATA!$E:$E, 明治期!BE$1) -> 0 | BF3: =COUNTIFS(DATA!$B:$B, 明治期!$A3, DATA!$E:$E, 明治期!BF$1) -> 0 | BG3: =COUNTIFS(DATA!$B:$B, 明治期!$A3, DATA!$E:$E, 明治期!BG$1) -> 0 | BH3: =COUNTIFS(DATA!$B:$B, 明治期!$A3, DATA!$E:$E, 明治期!BH$1) -> 0 | BK3: =BD3 -> 1869 | BL3: =COUNTIFS(DATA!$B:$B, 明治期!$A3, DATA!$F:$F, 明治期!BL$1) -> 0 | BM3: =COUNTIFS(DATA!$B:$B, 明治期!$A3, DATA!$F:$F, 明治期!BM$1) -> 0 | BP3: =BK3 -> 1869 | BQ3: =COUNTIFS(DATA!$B:$B, 明治期!$A3, DATA!$G:$G, 明治期!BQ$1) -> 0 | BR3: =COUNTIFS(DATA!$B:$B, 明治期!$A3, DATA!$G:$G, 明治期!BR$1) -> 0 | BU3: =BP3 -> 1869 | BV3: =COUNTIFS(DATA!$B:$B, 明治期!$A3, DATA!$I:$I, 明治期!BV$1) -> 0 | BW3: =COUNTIFS(DATA!$B:$B, 明治期!$A3, DATA!$I:$I, 明治期!BW$1) -> 0 | BX3: =COUNTIFS(DATA!$B:$B, 明治期!$A3, DATA!$I:$I, 明治期!BX$1) -> 0 | BY3: =COUNTIFS(DATA!$B:$B, 明治期!$A3, DATA!$I:$I, 明治期!BY$1) -> 0 | BZ3: =COUNTIFS(DATA!$B:$B, 明治期!$A3, DATA!$I:$I, 明治期!BZ$1) -> 0 | CA3: =COUNTIFS(DATA!$B:$B, 明治期!$A3, DATA!$I:$I, 明治期!CA$1) -> 0 | CB3: =COUNTIFS(DATA!$B:$B, 明治期!$A3, DATA!$I:$I, 明治期!CB$1) -> 0 | CC3: =COUNTIFS(DATA!$B:$B, 明治期!$A3, DATA!$I:$I, 明治期!CC$1) -> 0 | ... CH3: =COUNTIFS(DATA!$B:$B, 明治期!$A3, DATA!$I:$I, 明治期!CH$1) -> 0
A4: =A3+1 -> 1870 | B4: =COUNTIFS(DATA!$B:$B, 明治期!$A4, DATA!$C:$C, 明治期!B$1) -> 0 | C4: =COUNTIFS(DATA!$B:$B, 明治期!$A4, DATA!$C:$C, 明治期!C$1) -> 0 | D4: =COUNTIFS(DATA!$B:$B, 明治期!$A4, DATA!$C:$C, 明治期!D$1) -> 0 | E4: =COUNTIFS(DATA!$B:$B, 明治期!$A4, DATA!$C:$C, 明治期!E$1) -> 0 | F4: =COUNTIFS(DATA!$B:$B, 明治期!$A4, DATA!$C:$C, 明治期!F$1) -> 0 | G4: =COUNTIFS(DATA!$B:$B, 明治期!$A4, DATA!$C:$C, 明治期!G$1) -> 0 | H4: =COUNTIFS(DATA!$B:$B, 明治期!$A4, DATA!$C:$C, 明治期!H$1) -> 0 | I4: =COUNTIFS(DATA!$B:$B, 明治期!$A4, DATA!$C:$C, 明治期!I$1) -> 0 | ... AX4: =COUNTIFS(DATA!$B:$B, 明治期!$A4, DATA!$C:$C, 明治期!AX$1) -> 0 | AZ4: =SUM(B4:L4) -> 0 | BD4: =A4 -> 1870 | BE4: =COUNTIFS(DATA!$B:$B, 明治期!$A4, DATA!$E:$E, 明治期!BE$1) -> 0 | BF4: =COUNTIFS(DATA!$B:$B, 明治期!$A4, DATA!$E:$E, 明治期!BF$1) -> 0 | BG4: =COUNTIFS(DATA!$B:$B, 明治期!$A4, DATA!$E:$E, 明治期!BG$1) -> 0 | BH4: =COUNTIFS(DATA!$B:$B, 明治期!$A4, DATA!$E:$E, 明治期!BH$1) -> 0 | BK4: =BD4 -> 1870 | BL4: =COUNTIFS(DATA!$B:$B, 明治期!$A4, DATA!$F:$F, 明治期!BL$1) -> 0 | BM4: =COUNTIFS(DATA!$B:$B, 明治期!$A4, DATA!$F:$F, 明治期!BM$1) -> 0 | BP4: =BK4 -> 1870 | BQ4: =COUNTIFS(DATA!$B:$B, 明治期!$A4, DATA!$G:$G, 明治期!BQ$1) -> 0 | BR4: =COUNTIFS(DATA!$B:$B, 明治期!$A4, DATA!$G:$G, 明治期!BR$1) -> 0 | BU4: =BP4 -> 1870 | BV4: =COUNTIFS(DATA!$B:$B, 明治期!$A4, DATA!$I:$I, 明治期!BV$1) -> 0 | BW4: =COUNTIFS(DATA!$B:$B, 明治期!$A4, DATA!$I:$I, 明治期!BW$1) -> 0 | BX4: =COUNTIFS(DATA!$B:$B, 明治期!$A4, DATA!$I:$I, 明治期!BX$1) -> 0 | BY4: =COUNTIFS(DATA!$B:$B, 明治期!$A4, DATA!$I:$I, 明治期!BY$1) -> 0 | BZ4: =COUNTIFS(DATA!$B:$B, 明治期!$A4, DATA!$I:$I, 明治期!BZ$1) -> 0 | CA4: =COUNTIFS(DATA!$B:$B, 明治期!$A4, DATA!$I:$I, 明治期!CA$1) -> 0 | CB4: =COUNTIFS(DATA!$B:$B, 明治期!$A4, DATA!$I:$I, 明治期!CB$1) -> 0 | CC4: =COUNTIFS(DATA!$B:$B, 明治期!$A4, DATA!$I:$I, 明治期!CC$1) -> 0 | ... CH4: =COUNTIFS(DATA!$B:$B, 明治期!$A4, DATA!$I:$I, 明治期!CH$1) -> 0
A5: =A4+1 -> 1871 | B5: =COUNTIFS(DATA!$B:$B, 明治期!$A5, DATA!$C:$C, 明治期!B$1) -> 0 | C5: =COUNTIFS(DATA!$B:$B, 明治期!$A5, DATA!$C:$C, 明治期!C$1) -> 0 | D5: =COUNTIFS(DATA!$B:$B, 明治期!$A5, DATA!$C:$C, 明治期!D$1) -> 0 | E5: =COUNTIFS(DATA!$B:$B, 明治期!$A5, DATA!$C:$C, 明治期!E$1) -> 0 | F5: =COUNTIFS(DATA!$B:$B, 明治期!$A5, DATA!$C:$C, 明治期!F$1) -> 0 | G5: =COUNTIFS(DATA!$B:$B, 明治期!$A5, DATA!$C:$C, 明治期!G$1) -> 0 | H5: =COUNTIFS(DATA!$B:$B, 明治期!$A5, DATA!$C:$C, 明治期!H$1) -> 0 | I5: =COUNTIFS(DATA!$B:$B, 明治期!$A5, DATA!$C:$C, 明治期!I$1) -> 0 | ... AX5: =COUNTIFS(DATA!$B:$B, 明治期!$A5, DATA!$C:$C, 明治期!AX$1) -> 0 | AZ5: =SUM(B5:L5) -> 0 | BD5: =A5 -> 1871 | BE5: =COUNTIFS(DATA!$B:$B, 明治期!$A5, DATA!$E:$E, 明治期!BE$1) -> 0 | BF5: =COUNTIFS(DATA!$B:$B, 明治期!$A5, DATA!$E:$E, 明治期!BF$1) -> 0 | BG5: =COUNTIFS(DATA!$B:$B, 明治期!$A5, DATA!$E:$E, 明治期!BG$1) -> 0 | BH5: =COUNTIFS(DATA!$B:$B, 明治期!$A5, DATA!$E:$E, 明治期!BH$1) -> 0 | BK5: =BD5 -> 1871 | BL5: =COUNTIFS(DATA!$B:$B, 明治期!$A5, DATA!$F:$F, 明治期!BL$1) -> 0 | BM5: =COUNTIFS(DATA!$B:$B, 明治期!$A5, DATA!$F:$F, 明治期!BM$1) -> 0 | BP5: =BK5 -> 1871 | BQ5: =COUNTIFS(DATA!$B:$B, 明治期!$A5, DATA!$G:$G, 明治期!BQ$1) -> 0 | BR5: =COUNTIFS(DATA!$B:$B, 明治期!$A5, DATA!$G:$G, 明治期!BR$1) -> 0 | BU5: =BP5 -> 1871 | BV5: =COUNTIFS(DATA!$B:$B, 明治期!$A5, DATA!$I:$I, 明治期!BV$1) -> 0 | BW5: =COUNTIFS(DATA!$B:$B, 明治期!$A5, DATA!$I:$I, 明治期!BW$1) -> 0 | BX5: =COUNTIFS(DATA!$B:$B, 明治期!$A5, DATA!$I:$I, 明治期!BX$1) -> 0 | BY5: =COUNTIFS(DATA!$B:$B, 明治期!$A5, DATA!$I:$I, 明治期!BY$1) -> 0 | BZ5: =COUNTIFS(DATA!$B:$B, 明治期!$A5, DATA!$I:$I, 明治期!BZ$1) -> 0 | CA5: =COUNTIFS(DATA!$B:$B, 明治期!$A5, DATA!$I:$I, 明治期!CA$1) -> 0 | CB5: =COUNTIFS(DATA!$B:$B, 明治期!$A5, DATA!$I:$I, 明治期!CB$1) -> 0 | CC5: =COUNTIFS(DATA!$B:$B, 明治期!$A5, DATA!$I:$I, 明治期!CC$1) -> 0 | ... CH5: =COUNTIFS(DATA!$B:$B, 明治期!$A5, DATA!$I:$I, 明治期!CH$1) -> 0
A6: =A5+1 -> 1872 | B6: =COUNTIFS(DATA!$B:$B, 明治期!$A6, DATA!$C:$C, 明治期!B$1) -> 0 | C6: =COUNTIFS(DATA!$B:$B, 明治期!$A6, DATA!$C:$C, 明治期!C$1) -> 0 | D6: =COUNTIFS(DATA!$B:$B, 明治期!$A6, DATA!$C:$C, 明治期!D$1) -> 0 | E6: =COUNTIFS(DATA!$B:$B, 明治期!$A6, DATA!$C:$C, 明治期!E$1) -> 0 | F6: =COUNTIFS(DATA!$B:$B, 明治期!$A6, DATA!$C:$C, 明治期!F$1) -> 0 | G6: =COUNTIFS(DATA!$B:$B, 明治期!$A6, DATA!$C:$C, 明治期!G$1) -> 0 | H6: =COUNTIFS(DATA!$B:$B, 明治期!$A6, DATA!$C:$C, 明治期!H$1) -> 0 | I6: =COUNTIFS(DATA!$B:$B, 明治期!$A6, DATA!$C:$C, 明治期!I$1) -> 0 | ... AX6: =COUNTIFS(DATA!$B:$B, 明治期!$A6, DATA!$C:$C, 明治期!AX$1) -> 0 | AZ6: =SUM(B6:L6) -> 0 | BD6: =A6 -> 1872 | BE6: =COUNTIFS(DATA!$B:$B, 明治期!$A6, DATA!$E:$E, 明治期!BE$1) -> 0 | BF6: =COUNTIFS(DATA!$B:$B, 明治期!$A6, DATA!$E:$E, 明治期!BF$1) -> 0 | BG6: =COUNTIFS(DATA!$B:$B, 明治期!$A6, DATA!$E:$E, 明治期!BG$1) -> 0 | BH6: =COUNTIFS(DATA!$B:$B, 明治期!$A6, DATA!$E:$E, 明治期!BH$1) -> 0 | BK6: =BD6 -> 1872 | BL6: =COUNTIFS(DATA!$B:$B, 明治期!$A6, DATA!$F:$F, 明治期!BL$1) -> 0 | BM6: =COUNTIFS(DATA!$B:$B, 明治期!$A6, DATA!$F:$F, 明治期!BM$1) -> 0 | BP6: =BK6 -> 1872 | BQ6: =COUNTIFS(DATA!$B:$B, 明治期!$A6, DATA!$G:$G, 明治期!BQ$1) -> 0 | BR6: =COUNTIFS(DATA!$B:$B, 明治期!$A6, DATA!$G:$G, 明治期!BR$1) -> 0 | BU6: =BP6 -> 1872 | BV6: =COUNTIFS(DATA!$B:$B, 明治期!$A6, DATA!$I:$I, 明治期!BV$1) -> 0 | BW6: =COUNTIFS(DATA!$B:$B, 明治期!$A6, DATA!$I:$I, 明治期!BW$1) -> 0 | BX6: =COUNTIFS(DATA!$B:$B, 明治期!$A6, DATA!$I:$I, 明治期!BX$1) -> 0 | BY6: =COUNTIFS(DATA!$B:$B, 明治期!$A6, DATA!$I:$I, 明治期!BY$1) -> 0 | BZ6: =COUNTIFS(DATA!$B:$B, 明治期!$A6, DATA!$I:$I, 明治期!BZ$1) -> 0 | CA6: =COUNTIFS(DATA!$B:$B, 明治期!$A6, DATA!$I:$I, 明治期!CA$1) -> 0 | CB6: =COUNTIFS(DATA!$B:$B, 明治期!$A6, DATA!$I:$I, 明治期!CB$1) -> 0 | CC6: =COUNTIFS(DATA!$B:$B, 明治期!$A6, DATA!$I:$I, 明治期!CC$1) -> 0 | ... CH6: =COUNTIFS(DATA!$B:$B, 明治期!$A6, DATA!$I:$I, 明治期!CH$1) -> 0
A7: =A6+1 -> 1873 | B7: =COUNTIFS(DATA!$B:$B, 明治期!$A7, DATA!$C:$C, 明治期!B$1) -> 0 | C7: =COUNTIFS(DATA!$B:$B, 明治期!$A7, DATA!$C:$C, 明治期!C$1) -> 0 | D7: =COUNTIFS(DATA!$B:$B, 明治期!$A7, DATA!$C:$C, 明治期!D$1) -> 0 | E7: =COUNTIFS(DATA!$B:$B, 明治期!$A7, DATA!$C:$C, 明治期!E$1) -> 0 | F7: =COUNTIFS(DATA!$B:$B, 明治期!$A7, DATA!$C:$C, 明治期!F$1) -> 0 | G7: =COUNTIFS(DATA!$B:$B, 明治期!$A7, DATA!$C:$C, 明治期!G$1) -> 0 | H7: =COUNTIFS(DATA!$B:$B, 明治期!$A7, DATA!$C:$C, 明治期!H$1) -> 0 | I7: =COUNTIFS(DATA!$B:$B, 明治期!$A7, DATA!$C:$C, 明治期!I$1) -> 0 | ... AX7: =COUNTIFS(DATA!$B:$B, 明治期!$A7, DATA!$C:$C, 明治期!AX$1) -> 0 | AZ7: =SUM(B7:L7) -> 0 | BD7: =A7 -> 1873 | BE7: =COUNTIFS(DATA!$B:$B, 明治期!$A7, DATA!$E:$E, 明治期!BE$1) -> 0 | BF7: =COUNTIFS(DATA!$B:$B, 明治期!$A7, DATA!$E:$E, 明治期!BF$1) -> 0 | BG7: =COUNTIFS(DATA!$B:$B, 明治期!$A7, DATA!$E:$E, 明治期!BG$1) -> 0 | BH7: =COUNTIFS(DATA!$B:$B, 明治期!$A7, DATA!$E:$E, 明治期!BH$1) -> 0 | BK7: =BD7 -> 1873 | BL7: =COUNTIFS(DATA!$B:$B, 明治期!$A7, DATA!$F:$F, 明治期!BL$1) -> 0 | BM7: =COUNTIFS(DATA!$B:$B, 明治期!$A7, DATA!$F:$F, 明治期!BM$1) -> 0 | BP7: =BK7 -> 1873 | BQ7: =COUNTIFS(DATA!$B:$B, 明治期!$A7, DATA!$G:$G, 明治期!BQ$1) -> 0 | BR7: =COUNTIFS(DATA!$B:$B, 明治期!$A7, DATA!$G:$G, 明治期!BR$1) -> 0 | BU7: =BP7 -> 1873 | BV7: =COUNTIFS(DATA!$B:$B, 明治期!$A7, DATA!$I:$I, 明治期!BV$1) -> 0 | BW7: =COUNTIFS(DATA!$B:$B, 明治期!$A7, DATA!$I:$I, 明治期!BW$1) -> 0 | BX7: =COUNTIFS(DATA!$B:$B, 明治期!$A7, DATA!$I:$I, 明治期!BX$1) -> 0 | BY7: =COUNTIFS(DATA!$B:$B, 明治期!$A7, DATA!$I:$I, 明治期!BY$1) -> 0 | BZ7: =COUNTIFS(DATA!$B:$B, 明治期!$A7, DATA!$I:$I, 明治期!BZ$1) -> 0 | CA7: =COUNTIFS(DATA!$B:$B, 明治期!$A7, DATA!$I:$I, 明治期!CA$1) -> 0 | CB7: =COUNTIFS(DATA!$B:$B, 明治期!$A7, DATA!$I:$I, 明治期!CB$1) -> 0 | CC7: =COUNTIFS(DATA!$B:$B, 明治期!$A7, DATA!$I:$I, 明治期!CC$1) -> 0 | ... CH7: =COUNTIFS(DATA!$B:$B, 明治期!$A7, DATA!$I:$I, 明治期!CH$1) -> 0
A8: =A7+1 -> 1874 | B8: =COUNTIFS(DATA!$B:$B, 明治期!$A8, DATA!$C:$C, 明治期!B$1) -> 0 | C8: =COUNTIFS(DATA!$B:$B, 明治期!$A8, DATA!$C:$C, 明治期!C$1) -> 0 | D8: =COUNTIFS(DATA!$B:$B, 明治期!$A8, DATA!$C:$C, 明治期!D$1) -> 0 | E8: =COUNTIFS(DATA!$B:$B, 明治期!$A8, DATA!$C:$C, 明治期!E$1) -> 0 | F8: =COUNTIFS(DATA!$B:$B, 明治期!$A8, DATA!$C:$C, 明治期!F$1) -> 0 | G8: =COUNTIFS(DATA!$B:$B, 明治期!$A8, DATA!$C:$C, 明治期!G$1) -> 0 | H8: =COUNTIFS(DATA!$B:$B, 明治期!$A8, DATA!$C:$C, 明治期!H$1) -> 0 | I8: =COUNTIFS(DATA!$B:$B, 明治期!$A8, DATA!$C:$C, 明治期!I$1) -> 2 | ... AX8: =COUNTIFS(DATA!$B:$B, 明治期!$A8, DATA!$C:$C, 明治期!AX$1) -> 0 | AZ8: =SUM(B8:L8) -> 2 | BD8: =A8 -> 1874 | BE8: =COUNTIFS(DATA!$B:$B, 明治期!$A8, DATA!$E:$E, 明治期!BE$1) -> 0 | BF8: =COUNTIFS(DATA!$B:$B, 明治期!$A8, DATA!$E:$E, 明治期!BF$1) -> 0 | BG8: =COUNTIFS(DATA!$B:$B, 明治期!$A8, DATA!$E:$E, 明治期!BG$1) -> 2 | BH8: =COUNTIFS(DATA!$B:$B, 明治期!$A8, DATA!$E:$E, 明治期!BH$1) -> 0 | BK8: =BD8 -> 1874 | BL8: =COUNTIFS(DATA!$B:$B, 明治期!$A8, DATA!$F:$F, 明治期!BL$1) -> 0 | BM8: =COUNTIFS(DATA!$B:$B, 明治期!$A8, DATA!$F:$F, 明治期!BM$1) -> 2 | BP8: =BK8 -> 1874 | BQ8: =COUNTIFS(DATA!$B:$B, 明治期!$A8, DATA!$G:$G, 明治期!BQ$1) -> 0 | BR8: =COUNTIFS(DATA!$B:$B, 明治期!$A8, DATA!$G:$G, 明治期!BR$1) -> 2 | BU8: =BP8 -> 1874 | BV8: =COUNTIFS(DATA!$B:$B, 明治期!$A8, DATA!$I:$I, 明治期!BV$1) -> 0 | BW8: =COUNTIFS(DATA!$B:$B, 明治期!$A8, DATA!$I:$I, 明治期!BW$1) -> 0 | BX8: =COUNTIFS(DATA!$B:$B, 明治期!$A8, DATA!$I:$I, 明治期!BX$1) -> 0 | BY8: =COUNTIFS(DATA!$B:$B, 明治期!$A8, DATA!$I:$I, 明治期!BY$1) -> 0 | BZ8: =COUNTIFS(DATA!$B:$B, 明治期!$A8, DATA!$I:$I, 明治期!BZ$1) -> 0 | CA8: =COUNTIFS(DATA!$B:$B, 明治期!$A8, DATA!$I:$I, 明治期!CA$1) -> 0 | CB8: =COUNTIFS(DATA!$B:$B, 明治期!$A8, DATA!$I:$I, 明治期!CB$1) -> 0 | CC8: =COUNTIFS(DATA!$B:$B, 明治期!$A8, DATA!$I:$I, 明治期!CC$1) -> 0 | ... CH8: =COUNTIFS(DATA!$B:$B, 明治期!$A8, DATA!$I:$I, 明治期!CH$1) -> 0
A9: =A8+1 -> 1875 | B9: =COUNTIFS(DATA!$B:$B, 明治期!$A9, DATA!$C:$C, 明治期!B$1) -> 0 | C9: =COUNTIFS(DATA!$B:$B, 明治期!$A9, DATA!$C:$C, 明治期!C$1) -> 0 | D9: =COUNTIFS(DATA!$B:$B, 明治期!$A9, DATA!$C:$C, 明治期!D$1) -> 0 | E9: =COUNTIFS(DATA!$B:$B, 明治期!$A9, DATA!$C:$C, 明治期!E$1) -> 0 | F9: =COUNTIFS(DATA!$B:$B, 明治期!$A9, DATA!$C:$C, 明治期!F$1) -> 0 | G9: =COUNTIFS(DATA!$B:$B, 明治期!$A9, DATA!$C:$C, 明治期!G$1) -> 0 | H9: =COUNTIFS(DATA!$B:$B, 明治期!$A9, DATA!$C:$C, 明治期!H$1) -> 0 | I9: =COUNTIFS(DATA!$B:$B, 明治期!$A9, DATA!$C:$C, 明治期!I$1) -> 0 | ... AX9: =COUNTIFS(DATA!$B:$B, 明治期!$A9, DATA!$C:$C, 明治期!AX$1) -> 0 | AZ9: =SUM(B9:L9) -> 0 | BD9: =A9 -> 1875 | BE9: =COUNTIFS(DATA!$B:$B, 明治期!$A9, DATA!$E:$E, 明治期!BE$1) -> 0 | BF9: =COUNTIFS(DATA!$B:$B, 明治期!$A9, DATA!$E:$E, 明治期!BF$1) -> 0 | BG9: =COUNTIFS(DATA!$B:$B, 明治期!$A9, DATA!$E:$E, 明治期!BG$1) -> 0 | BH9: =COUNTIFS(DATA!$B:$B, 明治期!$A9, DATA!$E:$E, 明治期!BH$1) -> 0 | BK9: =BD9 -> 1875 | BL9: =COUNTIFS(DATA!$B:$B, 明治期!$A9, DATA!$F:$F, 明治期!BL$1) -> 0 | BM9: =COUNTIFS(DATA!$B:$B, 明治期!$A9, DATA!$F:$F, 明治期!BM$1) -> 0 | BP9: =BK9 -> 1875 | BQ9: =COUNTIFS(DATA!$B:$B, 明治期!$A9, DATA!$G:$G, 明治期!BQ$1) -> 0 | BR9: =COUNTIFS(DATA!$B:$B, 明治期!$A9, DATA!$G:$G, 明治期!BR$1) -> 0 | BU9: =BP9 -> 1875 | BV9: =COUNTIFS(DATA!$B:$B, 明治期!$A9, DATA!$I:$I, 明治期!BV$1) -> 0 | BW9: =COUNTIFS(DATA!$B:$B, 明治期!$A9, DATA!$I:$I, 明治期!BW$1) -> 0 | BX9: =COUNTIFS(DATA!$B:$B, 明治期!$A9, DATA!$I:$I, 明治期!BX$1) -> 0 | BY9: =COUNTIFS(DATA!$B:$B, 明治期!$A9, DATA!$I:$I, 明治期!BY$1) -> 0 | BZ9: =COUNTIFS(DATA!$B:$B, 明治期!$A9, DATA!$I:$I, 明治期!BZ$1) -> 0 | CA9: =COUNTIFS(DATA!$B:$B, 明治期!$A9, DATA!$I:$I, 明治期!CA$1) -> 0 | CB9: =COUNTIFS(DATA!$B:$B, 明治期!$A9, DATA!$I:$I, 明治期!CB$1) -> 0 | CC9: =COUNTIFS(DATA!$B:$B, 明治期!$A9, DATA!$I:$I, 明治期!CC$1) -> 0 | ... CH9: =COUNTIFS(DATA!$B:$B, 明治期!$A9, DATA!$I:$I, 明治期!CH$1) -> 0
A10: =A9+1 -> 1876 | B10: =COUNTIFS(DATA!$B:$B, 明治期!$A10, DATA!$C:$C, 明治期!B$1) -> 0 | C10: =COUNTIFS(DATA!$B:$B, 明治期!$A10, DATA!$C:$C, 明治期!C$1) -> 0 | D10: =COUNTIFS(DATA!$B:$B, 明治期!$A10, DATA!$C:$C, 明治期!D$1) -> 0 | E10: =COUNTIFS(DATA!$B:$B, 明治期!$A10, DATA!$C:$C, 明治期!E$1) -> 0 | F10: =COUNTIFS(DATA!$B:$B, 明治期!$A10, DATA!$C:$C, 明治期!F$1) -> 0 | G10: =COUNTIFS(DATA!$B:$B, 明治期!$A10, DATA!$C:$C, 明治期!G$1) -> 0 | H10: =COUNTIFS(DATA!$B:$B, 明治期!$A10, DATA!$C:$C, 明治期!H$1) -> 0 | I10: =COUNTIFS(DATA!$B:$B, 明治期!$A10, DATA!$C:$C, 明治期!I$1) -> 0 | ... AX10: =COUNTIFS(DATA!$B:$B, 明治期!$A10, DATA!$C:$C, 明治期!AX$1) -> 0 | AZ10: =SUM(B10:L10) -> 0 | BD10: =A10 -> 1876 | BE10: =COUNTIFS(DATA!$B:$B, 明治期!$A10, DATA!$E:$E, 明治期!BE$1) -> 0 | BF10: =COUNTIFS(DATA!$B:$B, 明治期!$A10, DATA!$E:$E, 明治期!BF$1) -> 0 | BG10: =COUNTIFS(DATA!$B:$B, 明治期!$A10, DATA!$E:$E, 明治期!BG$1) -> 0 | BH10: =COUNTIFS(DATA!$B:$B, 明治期!$A10, DATA!$E:$E, 明治期!BH$1) -> 0 | BK10: =BD10 -> 1876 | BL10: =COUNTIFS(DATA!$B:$B, 明治期!$A10, DATA!$F:$F, 明治期!BL$1) -> 0 | BM10: =COUNTIFS(DATA!$B:$B, 明治期!$A10, DATA!$F:$F, 明治期!BM$1) -> 0 | BP10: =BK10 -> 1876 | BQ10: =COUNTIFS(DATA!$B:$B, 明治期!$A10, DATA!$G:$G, 明治期!BQ$1) -> 0 | BR10: =COUNTIFS(DATA!$B:$B, 明治期!$A10, DATA!$G:$G, 明治期!BR$1) -> 0 | BU10: =BP10 -> 1876 | BV10: =COUNTIFS(DATA!$B:$B, 明治期!$A10, DATA!$I:$I, 明治期!BV$1) -> 0 | BW10: =COUNTIFS(DATA!$B:$B, 明治期!$A10, DATA!$I:$I, 明治期!BW$1) -> 0 | BX10: =COUNTIFS(DATA!$B:$B, 明治期!$A10, DATA!$I:$I, 明治期!BX$1) -> 0 | BY10: =COUNTIFS(DATA!$B:$B, 明治期!$A10, DATA!$I:$I, 明治期!BY$1) -> 0 | BZ10: =COUNTIFS(DATA!$B:$B, 明治期!$A10, DATA!$I:$I, 明治期!BZ$1) -> 0 | CA10: =COUNTIFS(DATA!$B:$B, 明治期!$A10, DATA!$I:$I, 明治期!CA$1) -> 0 | CB10: =COUNTIFS(DATA!$B:$B, 明治期!$A10, DATA!$I:$I, 明治期!CB$1) -> 0 | CC10: =COUNTIFS(DATA!$B:$B, 明治期!$A10, DATA!$I:$I, 明治期!CC$1) -> 0 | ... CH10: =COUNTIFS(DATA!$B:$B, 明治期!$A10, DATA!$I:$I, 明治期!CH$1) -> 0
A11: =A10+1 -> 1877 | B11: =COUNTIFS(DATA!$B:$B, 明治期!$A11, DATA!$C:$C, 明治期!B$1) -> 0 | C11: =COUNTIFS(DATA!$B:$B, 明治期!$A11, DATA!$C:$C, 明治期!C$1) -> 0 | D11: =COUNTIFS(DATA!$B:$B, 明治期!$A11, DATA!$C:$C, 明治期!D$1) -> 0 | E11: =COUNTIFS(DATA!$B:$B, 明治期!$A11, DATA!$C:$C, 明治期!E$1) -> 0 | F11: =COUNTIFS(DATA!$B:$B, 明治期!$A11, DATA!$C:$C, 明治期!F$1) -> 0 | G11: =COUNTIFS(DATA!$B:$B, 明治期!$A11, DATA!$C:$C, 明治期!G$1) -> 0 | H11: =COUNTIFS(DATA!$B:$B, 明治期!$A11, DATA!$C:$C, 明治期!H$1) -> 0 | I11: =COUNTIFS(DATA!$B:$B, 明治期!$A11, DATA!$C:$C, 明治期!I$1) -> 0 | ... AX11: =COUNTIFS(DATA!$B:$B, 明治期!$A11, DATA!$C:$C, 明治期!AX$1) -> 0 | AZ11: =SUM(B11:L11) -> 0 | BD11: =A11 -> 1877 | BE11: =COUNTIFS(DATA!$B:$B, 明治期!$A11, DATA!$E:$E, 明治期!BE$1) -> 0 | BF11: =COUNTIFS(DATA!$B:$B, 明治期!$A11, DATA!$E:$E, 明治期!BF$1) -> 0 | BG11: =COUNTIFS(DATA!$B:$B, 明治期!$A11, DATA!$E:$E, 明治期!BG$1) -> 0 | BH11: =COUNTIFS(DATA!$B:$B, 明治期!$A11, DATA!$E:$E, 明治期!BH$1) -> 0 | BK11: =BD11 -> 1877 | BL11: =COUNTIFS(DATA!$B:$B, 明治期!$A11, DATA!$F:$F, 明治期!BL$1) -> 0 | BM11: =COUNTIFS(DATA!$B:$B, 明治期!$A11, DATA!$F:$F, 明治期!BM$1) -> 0 | BP11: =BK11 -> 1877 | BQ11: =COUNTIFS(DATA!$B:$B, 明治期!$A11, DATA!$G:$G, 明治期!BQ$1) -> 0 | BR11: =COUNTIFS(DATA!$B:$B, 明治期!$A11, DATA!$G:$G, 明治期!BR$1) -> 0 | BU11: =BP11 -> 1877 | BV11: =COUNTIFS(DATA!$B:$B, 明治期!$A11, DATA!$I:$I, 明治期!BV$1) -> 0 | BW11: =COUNTIFS(DATA!$B:$B, 明治期!$A11, DATA!$I:$I, 明治期!BW$1) -> 0 | BX11: =COUNTIFS(DATA!$B:$B, 明治期!$A11, DATA!$I:$I, 明治期!BX$1) -> 0 | BY11: =COUNTIFS(DATA!$B:$B, 明治期!$A11, DATA!$I:$I, 明治期!BY$1) -> 0 | BZ11: =COUNTIFS(DATA!$B:$B, 明治期!$A11, DATA!$I:$I, 明治期!BZ$1) -> 0 | CA11: =COUNTIFS(DATA!$B:$B, 明治期!$A11, DATA!$I:$I, 明治期!CA$1) -> 0 | CB11: =COUNTIFS(DATA!$B:$B, 明治期!$A11, DATA!$I:$I, 明治期!CB$1) -> 0 | CC11: =COUNTIFS(DATA!$B:$B, 明治期!$A11, DATA!$I:$I, 明治期!CC$1) -> 0 | ... CH11: =COUNTIFS(DATA!$B:$B, 明治期!$A11, DATA!$I:$I, 明治期!CH$1) -> 0
A12: =A11+1 -> 1878 | B12: =COUNTIFS(DATA!$B:$B, 明治期!$A12, DATA!$C:$C, 明治期!B$1) -> 0 | C12: =COUNTIFS(DATA!$B:$B, 明治期!$A12, DATA!$C:$C, 明治期!C$1) -> 0 | D12: =COUNTIFS(DATA!$B:$B, 明治期!$A12, DATA!$C:$C, 明治期!D$1) -> 0 | E12: =COUNTIFS(DATA!$B:$B, 明治期!$A12, DATA!$C:$C, 明治期!E$1) -> 0 | F12: =COUNTIFS(DATA!$B:$B, 明治期!$A12, DATA!$C:$C, 明治期!F$1) -> 0 | G12: =COUNTIFS(DATA!$B:$B, 明治期!$A12, DATA!$C:$C, 明治期!G$1) -> 0 | H12: =COUNTIFS(DATA!$B:$B, 明治期!$A12, DATA!$C:$C, 明治期!H$1) -> 0 | I12: =COUNTIFS(DATA!$B:$B, 明治期!$A12, DATA!$C:$C, 明治期!I$1) -> 0 | ... AX12: =COUNTIFS(DATA!$B:$B, 明治期!$A12, DATA!$C:$C, 明治期!AX$1) -> 0 | AZ12: =SUM(B12:L12) -> 0 | BD12: =A12 -> 1878 | BE12: =COUNTIFS(DATA!$B:$B, 明治期!$A12, DATA!$E:$E, 明治期!BE$1) -> 0 | BF12: =COUNTIFS(DATA!$B:$B, 明治期!$A12, DATA!$E:$E, 明治期!BF$1) -> 0 | BG12: =COUNTIFS(DATA!$B:$B, 明治期!$A12, DATA!$E:$E, 明治期!BG$1) -> 0 | BH12: =COUNTIFS(DATA!$B:$B, 明治期!$A12, DATA!$E:$E, 明治期!BH$1) -> 0 | BK12: =BD12 -> 1878 | BL12: =COUNTIFS(DATA!$B:$B, 明治期!$A12, DATA!$F:$F, 明治期!BL$1) -> 0 | BM12: =COUNTIFS(DATA!$B:$B, 明治期!$A12, DATA!$F:$F, 明治期!BM$1) -> 0 | BP12: =BK12 -> 1878 | BQ12: =COUNTIFS(DATA!$B:$B, 明治期!$A12, DATA!$G:$G, 明治期!BQ$1) -> 0 | BR12: =COUNTIFS(DATA!$B:$B, 明治期!$A12, DATA!$G:$G, 明治期!BR$1) -> 0 | BU12: =BP12 -> 1878 | BV12: =COUNTIFS(DATA!$B:$B, 明治期!$A12, DATA!$I:$I, 明治期!BV$1) -> 0 | BW12: =COUNTIFS(DATA!$B:$B, 明治期!$A12, DATA!$I:$I, 明治期!BW$1) -> 0 | BX12: =COUNTIFS(DATA!$B:$B, 明治期!$A12, DATA!$I:$I, 明治期!BX$1) -> 0 | BY12: =COUNTIFS(DATA!$B:$B, 明治期!$A12, DATA!$I:$I, 明治期!BY$1) -> 0 | BZ12: =COUNTIFS(DATA!$B:$B, 明治期!$A12, DATA!$I:$I, 明治期!BZ$1) -> 0 | CA12: =COUNTIFS(DATA!$B:$B, 明治期!$A12, DATA!$I:$I, 明治期!CA$1) -> 0 | CB12: =COUNTIFS(DATA!$B:$B, 明治期!$A12, DATA!$I:$I, 明治期!CB$1) -> 0 | CC12: =COUNTIFS(DATA!$B:$B, 明治期!$A12, DATA!$I:$I, 明治期!CC$1) -> 0 | ... CH12: =COUNTIFS(DATA!$B:$B, 明治期!$A12, DATA!$I:$I, 明治期!CH$1) -> 0
A13: =A12+1 -> 1879 | B13: =COUNTIFS(DATA!$B:$B, 明治期!$A13, DATA!$C:$C, 明治期!B$1) -> 0 | C13: =COUNTIFS(DATA!$B:$B, 明治期!$A13, DATA!$C:$C, 明治期!C$1) -> 0 | D13: =COUNTIFS(DATA!$B:$B, 明治期!$A13, DATA!$C:$C, 明治期!D$1) -> 0 | E13: =COUNTIFS(DATA!$B:$B, 明治期!$A13, DATA!$C:$C, 明治期!E$1) -> 0 | F13: =COUNTIFS(DATA!$B:$B, 明治期!$A13, DATA!$C:$C, 明治期!F$1) -> 0 | G13: =COUNTIFS(DATA!$B:$B, 明治期!$A13, DATA!$C:$C, 明治期!G$1) -> 0 | H13: =COUNTIFS(DATA!$B:$B, 明治期!$A13, DATA!$C:$C, 明治期!H$1) -> 0 | I13: =COUNTIFS(DATA!$B:$B, 明治期!$A13, DATA!$C:$C, 明治期!I$1) -> 0 | ... AX13: =COUNTIFS(DATA!$B:$B, 明治期!$A13, DATA!$C:$C, 明治期!AX$1) -> 0 | AZ13: =SUM(B13:L13) -> 0 | BD13: =A13 -> 1879 | BE13: =COUNTIFS(DATA!$B:$B, 明治期!$A13, DATA!$E:$E, 明治期!BE$1) -> 0 | BF13: =COUNTIFS(DATA!$B:$B, 明治期!$A13, DATA!$E:$E, 明治期!BF$1) -> 0 | BG13: =COUNTIFS(DATA!$B:$B, 明治期!$A13, DATA!$E:$E, 明治期!BG$1) -> 0 | BH13: =COUNTIFS(DATA!$B:$B, 明治期!$A13, DATA!$E:$E, 明治期!BH$1) -> 0 | BK13: =BD13 -> 1879 | BL13: =COUNTIFS(DATA!$B:$B, 明治期!$A13, DATA!$F:$F, 明治期!BL$1) -> 0 | BM13: =COUNTIFS(DATA!$B:$B, 明治期!$A13, DATA!$F:$F, 明治期!BM$1) -> 0 | BP13: =BK13 -> 1879 | BQ13: =COUNTIFS(DATA!$B:$B, 明治期!$A13, DATA!$G:$G, 明治期!BQ$1) -> 0 | BR13: =COUNTIFS(DATA!$B:$B, 明治期!$A13, DATA!$G:$G, 明治期!BR$1) -> 0 | BU13: =BP13 -> 1879 | BV13: =COUNTIFS(DATA!$B:$B, 明治期!$A13, DATA!$I:$I, 明治期!BV$1) -> 0 | BW13: =COUNTIFS(DATA!$B:$B, 明治期!$A13, DATA!$I:$I, 明治期!BW$1) -> 0 | BX13: =COUNTIFS(DATA!$B:$B, 明治期!$A13, DATA!$I:$I, 明治期!BX$1) -> 0 | BY13: =COUNTIFS(DATA!$B:$B, 明治期!$A13, DATA!$I:$I, 明治期!BY$1) -> 0 | BZ13: =COUNTIFS(DATA!$B:$B, 明治期!$A13, DATA!$I:$I, 明治期!BZ$1) -> 0 | CA13: =COUNTIFS(DATA!$B:$B, 明治期!$A13, DATA!$I:$I, 明治期!CA$1) -> 0 | CB13: =COUNTIFS(DATA!$B:$B, 明治期!$A13, DATA!$I:$I, 明治期!CB$1) -> 0 | CC13: =COUNTIFS(DATA!$B:$B, 明治期!$A13, DATA!$I:$I, 明治期!CC$1) -> 0 | ... CH13: =COUNTIFS(DATA!$B:$B, 明治期!$A13, DATA!$I:$I, 明治期!CH$1) -> 0
A14: =A13+1 -> 1880 | B14: =COUNTIFS(DATA!$B:$B, 明治期!$A14, DATA!$C:$C, 明治期!B$1) -> 0 | C14: =COUNTIFS(DATA!$B:$B, 明治期!$A14, DATA!$C:$C, 明治期!C$1) -> 0 | D14: =COUNTIFS(DATA!$B:$B, 明治期!$A14, DATA!$C:$C, 明治期!D$1) -> 0 | E14: =COUNTIFS(DATA!$B:$B, 明治期!$A14, DATA!$C:$C, 明治期!E$1) -> 0 | F14: =COUNTIFS(DATA!$B:$B, 明治期!$A14, DATA!$C:$C, 明治期!F$1) -> 0 | G14: =COUNTIFS(DATA!$B:$B, 明治期!$A14, DATA!$C:$C, 明治期!G$1) -> 0 | H14: =COUNTIFS(DATA!$B:$B, 明治期!$A14, DATA!$C:$C, 明治期!H$1) -> 0 | I14: =COUNTIFS(DATA!$B:$B, 明治期!$A14, DATA!$C:$C, 明治期!I$1) -> 0 | ... AX14: =COUNTIFS(DATA!$B:$B, 明治期!$A14, DATA!$C:$C, 明治期!AX$1) -> 0 | AZ14: =SUM(B14:L14) -> 0 | BD14: =A14 -> 1880 | BE14: =COUNTIFS(DATA!$B:$B, 明治期!$A14, DATA!$E:$E, 明治期!BE$1) -> 0 | BF14: =COUNTIFS(DATA!$B:$B, 明治期!$A14, DATA!$E:$E, 明治期!BF$1) -> 0 | BG14: =COUNTIFS(DATA!$B:$B, 明治期!$A14, DATA!$E:$E, 明治期!BG$1) -> 0 | BH14: =COUNTIFS(DATA!$B:$B, 明治期!$A14, DATA!$E:$E, 明治期!BH$1) -> 0 | BK14: =BD14 -> 1880 | BL14: =COUNTIFS(DATA!$B:$B, 明治期!$A14, DATA!$F:$F, 明治期!BL$1) -> 0 | BM14: =COUNTIFS(DATA!$B:$B, 明治期!$A14, DATA!$F:$F, 明治期!BM$1) -> 0 | BP14: =BK14 -> 1880 | BQ14: =COUNTIFS(DATA!$B:$B, 明治期!$A14, DATA!$G:$G, 明治期!BQ$1) -> 0 | BR14: =COUNTIFS(DATA!$B:$B, 明治期!$A14, DATA!$G:$G, 明治期!BR$1) -> 0 | BU14: =BP14 -> 1880 | BV14: =COUNTIFS(DATA!$B:$B, 明治期!$A14, DATA!$I:$I, 明治期!BV$1) -> 0 | BW14: =COUNTIFS(DATA!$B:$B, 明治期!$A14, DATA!$I:$I, 明治期!BW$1) -> 0 | BX14: =COUNTIFS(DATA!$B:$B, 明治期!$A14, DATA!$I:$I, 明治期!BX$1) -> 0 | BY14: =COUNTIFS(DATA!$B:$B, 明治期!$A14, DATA!$I:$I, 明治期!BY$1) -> 0 | BZ14: =COUNTIFS(DATA!$B:$B, 明治期!$A14, DATA!$I:$I, 明治期!BZ$1) -> 0 | CA14: =COUNTIFS(DATA!$B:$B, 明治期!$A14, DATA!$I:$I, 明治期!CA$1) -> 0 | CB14: =COUNTIFS(DATA!$B:$B, 明治期!$A14, DATA!$I:$I, 明治期!CB$1) -> 0 | CC14: =COUNTIFS(DATA!$B:$B, 明治期!$A14, DATA!$I:$I, 明治期!CC$1) -> 0 | ... CH14: =COUNTIFS(DATA!$B:$B, 明治期!$A14, DATA!$I:$I, 明治期!CH$1) -> 0
... A46: =A45+1 -> 1912 | B46: =COUNTIFS(DATA!$B:$B, 明治期!$A46, DATA!$C:$C, 明治期!B$1) -> 0 | C46: =COUNTIFS(DATA!$B:$B, 明治期!$A46, DATA!$C:$C, 明治期!C$1) -> 0 | D46: =COUNTIFS(DATA!$B:$B, 明治期!$A46, DATA!$C:$C, 明治期!D$1) -> 0 | E46: =COUNTIFS(DATA!$B:$B, 明治期!$A46, DATA!$C:$C, 明治期!E$1) -> 0 | F46: =COUNTIFS(DATA!$B:$B, 明治期!$A46, DATA!$C:$C, 明治期!F$1) -> 0 | G46: =COUNTIFS(DATA!$B:$B, 明治期!$A46, DATA!$C:$C, 明治期!G$1) -> 0 | H46: =COUNTIFS(DATA!$B:$B, 明治期!$A46, DATA!$C:$C, 明治期!H$1) -> 1 | I46: =COUNTIFS(DATA!$B:$B, 明治期!$A46, DATA!$C:$C, 明治期!I$1) -> 0 | ... AX46: =COUNTIFS(DATA!$B:$B, 明治期!$A46, DATA!$C:$C, 明治期!AX$1) -> 0 | AZ46: =SUM(B46:L46) -> 1 | BD46: =A46 -> 1912 | BE46: =COUNTIFS(DATA!$B:$B, 明治期!$A46, DATA!$E:$E, 明治期!BE$1) -> 5 | BF46: =COUNTIFS(DATA!$B:$B, 明治期!$A46, DATA!$E:$E, 明治期!BF$1) -> 2 | BG46: =COUNTIFS(DATA!$B:$B, 明治期!$A46, DATA!$E:$E, 明治期!BG$1) -> 11 | BH46: =COUNTIFS(DATA!$B:$B, 明治期!$A46, DATA!$E:$E, 明治期!BH$1) -> 0 | BK46: =BD46 -> 1912 | BL46: =COUNTIFS(DATA!$B:$B, 明治期!$A46, DATA!$F:$F, 明治期!BL$1) -> 18 | BM46: =COUNTIFS(DATA!$B:$B, 明治期!$A46, DATA!$F:$F, 明治期!BM$1) -> 0 | BP46: =BK46 -> 1912 | BQ46: =COUNTIFS(DATA!$B:$B, 明治期!$A46, DATA!$G:$G, 明治期!BQ$1) -> 0 | BR46: =COUNTIFS(DATA!$B:$B, 明治期!$A46, DATA!$G:$G, 明治期!BR$1) -> 18 | BU46: =BP46 -> 1912 | BV46: =COUNTIFS(DATA!$B:$B, 明治期!$A46, DATA!$I:$I, 明治期!BV$1) -> 0 | BW46: =COUNTIFS(DATA!$B:$B, 明治期!$A46, DATA!$I:$I, 明治期!BW$1) -> 0 | BX46: =COUNTIFS(DATA!$B:$B, 明治期!$A46, DATA!$I:$I, 明治期!BX$1) -> 1 | BY46: =COUNTIFS(DATA!$B:$B, 明治期!$A46, DATA!$I:$I, 明治期!BY$1) -> 4 | BZ46: =COUNTIFS(DATA!$B:$B, 明治期!$A46, DATA!$I:$I, 明治期!BZ$1) -> 0 | CA46: =COUNTIFS(DATA!$B:$B, 明治期!$A46, DATA!$I:$I, 明治期!CA$1) -> 0 | CB46: =COUNTIFS(DATA!$B:$B, 明治期!$A46, DATA!$I:$I, 明治期!CB$1) -> 2 | CC46: =COUNTIFS(DATA!$B:$B, 明治期!$A46, DATA!$I:$I, 明治期!CC$1) -> 0 | ... CH46: =COUNTIFS(DATA!$B:$B, 明治期!$A46, DATA!$I:$I, 明治期!CH$1) -> 0

Sheet CATEGORIES
A1: Text | B1: CODE | E1: Translator | F1: CODE | I1: Gender | J1: CODE
A2: Non-translation | B2: N | E2: Normal | F2: N | I2: 女 | J2: F
A3: Direct Translation | B3: D | E3: Famous | F3: F | I3: 男 | J3: M
A4: Indirect Translation | B4: I

Sheet Sheet1
